BEGIN:VCALENDAR
VERSION:2.0
PRODID:-//Lackawanna County Library System - ECPv6.15.17.1//NONSGML v1.0//EN
CALSCALE:GREGORIAN
METHOD:PUBLISH
X-WR-CALNAME:Lackawanna County Library System
X-ORIGINAL-URL:https://lclshome.org
X-WR-CALDESC:Events for Lackawanna County Library System
REFRESH-INTERVAL;VALUE=DURATION:PT1H
X-Robots-Tag:noindex
X-PUBLISHED-TTL:PT1H
BEGIN:VTIMEZONE
TZID:America/New_York
BEGIN:DAYLIGHT
TZOFFSETFROM:-0500
TZOFFSETTO:-0400
TZNAME:EDT
DTSTART:20250309T070000
END:DAYLIGHT
BEGIN:STANDARD
TZOFFSETFROM:-0400
TZOFFSETTO:-0500
TZNAME:EST
DTSTART:20251102T060000
END:STANDARD
BEGIN:DAYLIGHT
TZOFFSETFROM:-0500
TZOFFSETTO:-0400
TZNAME:EDT
DTSTART:20260308T070000
END:DAYLIGHT
BEGIN:STANDARD
TZOFFSETFROM:-0400
TZOFFSETTO:-0500
TZNAME:EST
DTSTART:20261101T060000
END:STANDARD
BEGIN:DAYLIGHT
TZOFFSETFROM:-0500
TZOFFSETTO:-0400
TZNAME:EDT
DTSTART:20270314T070000
END:DAYLIGHT
BEGIN:STANDARD
TZOFFSETFROM:-0400
TZOFFSETTO:-0500
TZNAME:EST
DTSTART:20271107T060000
END:STANDARD
END:VTIMEZONE
BEGIN:VEVENT
DTSTART;TZID=America/New_York:20260212T100000
DTEND;TZID=America/New_York:20260212T110000
DTSTAMP:20260422T084112
CREATED:20260120T191815Z
LAST-MODIFIED:20260120T191815Z
UID:10004055-1770890400-1770894000@lclshome.org
SUMMARY:Little Farmers
DESCRIPTION:Thursday\, February 12 at 10:00 A.M.\n(Children’s Programming) \nThis fun and interactive program at North Pocono Public Library and led by Lackawanna County 4H will introduce preschool children (ages 3-6)  to farms and farm animals. \nRegistration is required. Only register children.
URL:https://lclshome.org/event/little-farmers-4/
LOCATION:North Pocono Public Library\, 1315 Church St.\, Moscow\, PA\, 18444-9254\, United States
CATEGORIES:North Pocono Public Library
ORGANIZER;CN="Elizabeth Tarr":MAILTO:etarr@albright.org
END:VEVENT
BEGIN:VEVENT
DTSTART;TZID=America/New_York:20260212T103000
DTEND;TZID=America/New_York:20260212T103000
DTSTAMP:20260422T084112
CREATED:20251120T214116Z
LAST-MODIFIED:20260304T194814Z
UID:10003634-1770892200-1770892200@lclshome.org
SUMMARY:Stories with Cal & Newbery
DESCRIPTION:Join us for a story time featuring stories\, songs\, finger plays\, a craft\, and a puppet show with one of the Library’s mascots\, Cal or Newbery! \nFor families with children of all ages. Developed with toddlers and preschoolers in mind. \nLackawanna County Children’s Library\n520 Vine Street\, Scranton\, PA 18509\n570-348-3000 x 3015
URL:https://lclshome.org/event/stories-with-cal-newbery-2026-2/2026-02-12/
LOCATION:Lackawanna County Children’s Library\, 520 Vine St.\, Scranton\, PA\, 18509\, United States
CATEGORIES:Kids,Lackawanna County Children's Library
END:VEVENT
BEGIN:VEVENT
DTSTART;TZID=America/New_York:20260212T103000
DTEND;TZID=America/New_York:20260212T113000
DTSTAMP:20260422T084112
CREATED:20260209T203216Z
LAST-MODIFIED:20260209T203216Z
UID:10003352-1770892200-1770895800@lclshome.org
SUMMARY:Grief Support Group
DESCRIPTION:Residential Hospice offers a safe space to discuss different types of grief and find healing through community at the Carbondale Public Library. This group will serve as a resource for anyone dealing with the loss of a loved one to find emotional support and coping strategies with a professional healthcare group. This program is open to anyone of any age. Registration is required and can be done at the library or by calling us at 570-282-4281.
URL:https://lclshome.org/event/grief-support-group-3/2026-02-12/
LOCATION:Carbondale Public Library\, 5 North Main St.\, Carbondale\, PA\, 18407\, United States
CATEGORIES:Carbondale Public Library
END:VEVENT
BEGIN:VEVENT
DTSTART;TZID=America/New_York:20260212T110000
DTEND;TZID=America/New_York:20260212T120000
DTSTAMP:20260422T084112
CREATED:20260122T211759Z
LAST-MODIFIED:20260122T211759Z
UID:10004097-1770894000-1770897600@lclshome.org
SUMMARY:Library Littles: Valentine's Day Party
DESCRIPTION:We will have a Valentine’s Day themed Library Littles story time followed by Valentine’s Day treats and activities.
URL:https://lclshome.org/event/library-littles-valentines-day-party/
LOCATION:Carbondale Public Library\, 5 North Main St.\, Carbondale\, PA\, 18407\, United States
CATEGORIES:Carbondale Public Library,Kids
END:VEVENT
BEGIN:VEVENT
DTSTART;TZID=America/New_York:20260212T113000
DTEND;TZID=America/New_York:20260212T113000
DTSTAMP:20260422T084112
CREATED:20251120T214658Z
LAST-MODIFIED:20260407T204719Z
UID:10003674-1770895800-1770895800@lclshome.org
SUMMARY:Toddler Tumble Time
DESCRIPTION:Join us as we work on skills such as balancing\, throwing\, kicking\, and jumping. We will be using a combination of movement and one-on-one activities for parents and children. \nFor children ages 1 through 3. \nLackawanna County Children’s Library\n520 Vine Street\, Scranton\, PA 18509\n570-348-3000 x 3015
URL:https://lclshome.org/event/toddler-tumble-time-2026/2026-02-12/
LOCATION:Lackawanna County Children’s Library\, 520 Vine St.\, Scranton\, PA\, 18509\, United States
CATEGORIES:Kids,Lackawanna County Children's Library
END:VEVENT
BEGIN:VEVENT
DTSTART;TZID=America/New_York:20260212T120000
DTEND;TZID=America/New_York:20260212T140000
DTSTAMP:20260422T084112
CREATED:20260121T165735Z
LAST-MODIFIED:20260121T165735Z
UID:10004080-1770897600-1770904800@lclshome.org
SUMMARY:Mahjong
DESCRIPTION:Thursdays at 12:00 P.M.\n(Adult Programming) \nCome Play Mahjong!\n Gather with friends at North Pocono Public Library every Thursday to learn how to play mahjong. \nRegistration is required.
URL:https://lclshome.org/event/mahjong-2/2026-02-12/
LOCATION:North Pocono Public Library\, 1315 Church St.\, Moscow\, PA\, 18444-9254\, United States
CATEGORIES:North Pocono Public Library
ORGANIZER;CN="Kim Hnatko":MAILTO:khnatko@albright.org
END:VEVENT
BEGIN:VEVENT
DTSTART;TZID=America/New_York:20260212T123000
DTEND;TZID=America/New_York:20260212T153000
DTSTAMP:20260422T084112
CREATED:20250807T163459Z
LAST-MODIFIED:20260421T134350Z
UID:10003013-1770899400-1770910200@lclshome.org
SUMMARY:Scrabble Group
DESCRIPTION:Stretch your brain with an afternoon Scrabble match and join a friendly competition against fellow word enthusiasts. \n 
URL:https://lclshome.org/event/scrabble-group/2026-02-12/
LOCATION:Abington Community Library\, 1200 West Grove St.\, Clarks Summit\, PA\, 18411\, United States
CATEGORIES:Abington Community Library
ORGANIZER;CN="Michael Richardson":MAILTO:MRichardson@albright.org
END:VEVENT
BEGIN:VEVENT
DTSTART;TZID=America/New_York:20260212T123000
DTEND;TZID=America/New_York:20260212T153000
DTSTAMP:20260422T084112
CREATED:20250905T142921Z
LAST-MODIFIED:20260421T134452Z
UID:10003279-1770899400-1770910200@lclshome.org
SUMMARY:Thursdays Together
DESCRIPTION:Join us for a chill weekly hangout at the Library! No agenda. No pressure. No registration. Just good vibes\, great convos\, and a seat waiting for you. Drop in anytime. Pull up a chair and stay as long as you’d like. Everyone’s welcome!
URL:https://lclshome.org/event/thursdays-together-2/2026-02-12/
LOCATION:Abington Community Library\, 1200 West Grove St.\, Clarks Summit\, PA\, 18411\, United States
CATEGORIES:Abington Community Library
ORGANIZER;CN="Michael Richardson":MAILTO:MRichardson@albright.org
END:VEVENT
BEGIN:VEVENT
DTSTART;TZID=America/New_York:20260212T150000
DTEND;TZID=America/New_York:20260212T170000
DTSTAMP:20260422T084112
CREATED:20260131T175031Z
LAST-MODIFIED:20260131T175031Z
UID:10004138-1770908400-1770915600@lclshome.org
SUMMARY:Free Senior Tech Tutoring
DESCRIPTION:Technology giving you trouble? We’re here to help! Join us every Thursday for free one-on-one tech tutoring! Our tech tutors will be available to help answer your questions about cellphones\, laptops\, tablets\, and more – just bring your device and your questions.\nCall 570-343-1267 to schedule your appointment. Sponsored by United Way of  Lackawanna\, Wayne and Pike Counties.
URL:https://lclshome.org/event/free-senior-tech-tutoring-2/2026-02-12/
LOCATION:Taylor Community Library\, 710 S Main St.\, Taylor\, PA\, 18517\, United States
CATEGORIES:Taylor Community Library
END:VEVENT
BEGIN:VEVENT
DTSTART;TZID=America/New_York:20260212T153000
DTEND;TZID=America/New_York:20260212T170000
DTSTAMP:20260422T084112
CREATED:20260106T215717Z
LAST-MODIFIED:20260106T215717Z
UID:10003955-1770910200-1770915600@lclshome.org
SUMMARY:Crafternoon: Q-Tip Valentine Art
DESCRIPTION:Monday\, February 12 from 3:30 to 5:00 P.M.\n(Children’s Programming) \nCraft the afternoon away!\nChildren of all ages are invited to drop in at North Pocono Public Library during the event hours to make a craft project to take home. This month\, we will be painting with Q-Tips\, so be sure to leave your fancy clothes at home. \nNo registration is required.
URL:https://lclshome.org/event/crafternoon-q-tip-valentine-art/
LOCATION:North Pocono Public Library\, 1315 Church St.\, Moscow\, PA\, 18444-9254\, United States
CATEGORIES:Kids,North Pocono Public Library
ORGANIZER;CN="Elizabeth Tarr":MAILTO:etarr@albright.org
END:VEVENT
BEGIN:VEVENT
DTSTART;TZID=America/New_York:20260212T160000
DTEND;TZID=America/New_York:20260212T190000
DTSTAMP:20260422T084112
CREATED:20260119T194232Z
LAST-MODIFIED:20260119T194232Z
UID:10003128-1770912000-1770922800@lclshome.org
SUMMARY:TCG Club
DESCRIPTION:Come play various trading card games with old and new friends! Bring your deck\, play some games\, and have some fun with local friends!  We primarily play Magic: the Gathering but are open to other trading card games as well.\n-Ages: Teens/Adults
URL:https://lclshome.org/event/tcg-club/2026-02-12/
LOCATION:Carbondale Public Library\, 5 North Main St.\, Carbondale\, PA\, 18407\, United States
CATEGORIES:Carbondale Public Library,Teens
END:VEVENT
BEGIN:VEVENT
DTSTART;TZID=America/New_York:20260212T163000
DTEND;TZID=America/New_York:20260212T163000
DTSTAMP:20260422T084112
CREATED:20260106T210408Z
LAST-MODIFIED:20260112T142213Z
UID:10003951-1770913800-1770913800@lclshome.org
SUMMARY:Bookmark Your Heart
DESCRIPTION:Come celebrate Valentine’s Day early! Local romance novelists Cissy Mecca and Tina Gallagher will be on hand to discuss the popularity of the romance genre and how they hone their craft. They will also field questions from the audience and have a selection of their books for sale. \nIntended for adults. \nNancy Kay Holmes Branch Library\n1032 Green Ridge Street\, Scranton\, PA 18509\n570-207-0764
URL:https://lclshome.org/event/bookmark-your-heart/
LOCATION:Nancy Kay Holmes Branch Library\, 1032 Green Ridge St.\, Scranton\, PA\, 18509\, United States
CATEGORIES:Nancy Kay Holmes Library
ORGANIZER;CN="Nancy Kay Holmes Branch Library":MAILTO:NKHList@albright.org
END:VEVENT
BEGIN:VEVENT
DTSTART;TZID=America/New_York:20260212T170000
DTEND;TZID=America/New_York:20260212T180000
DTSTAMP:20260422T084112
CREATED:20240817T201515Z
LAST-MODIFIED:20251118T220646Z
UID:10000111-1770915600-1770919200@lclshome.org
SUMMARY:Acrobatics
DESCRIPTION:Young people participating in these activities will be improving their acrobatics through participating in various intelligence-stimulating games.   Young adults\, ages 12-14 are welcome to join the fun! Acrobatics meets Thursdays at 5P.M.\nContact the library for more details (570-563-2014).
URL:https://lclshome.org/event/acrobatics/2026-02-12/
LOCATION:PA
CATEGORIES:Dalton Community Library
END:VEVENT
BEGIN:VEVENT
DTSTART;TZID=America/New_York:20260212T170000
DTEND;TZID=America/New_York:20260212T180000
DTSTAMP:20260422T084112
CREATED:20260122T165357Z
LAST-MODIFIED:20260122T165357Z
UID:10004087-1770915600-1770919200@lclshome.org
SUMMARY:Teen Valentine Gnomes
DESCRIPTION:For teens ages 12-18 \nMake a super cute Valentine’s Day gnome and decorate cards for your friends and family! \nPlease contact Kyler at Kepstein@albright.org with any questions.
URL:https://lclshome.org/event/teen-valentine-gnomes/
LOCATION:Abington Community Library\, 1200 West Grove St.\, Clarks Summit\, PA\, 18411\, United States
CATEGORIES:Abington Community Library,Teens
ORGANIZER;CN="Kyler Epstein":MAILTO:kepstein@albright.org
END:VEVENT
BEGIN:VEVENT
DTSTART;TZID=America/New_York:20260212T170000
DTEND;TZID=America/New_York:20260212T190000
DTSTAMP:20260422T084112
CREATED:20251208T141533Z
LAST-MODIFIED:20260406T175556Z
UID:10002557-1770915600-1770922800@lclshome.org
SUMMARY:Tech Table
DESCRIPTION:Tech Table is designed to help patrons who need one-on-one assistance using their smartphones\, tablets\, or laptops. Participants are encouraged to bring specific problems about a technical problem including trouble using an app\, slow or malfunctioning technology\, or questions about privacy\, settings\, or security. \nNo registration is required; appointments are limited to 20-minute sessions\, and patrons will be assisted on a first-come\, first-served basis. \nAlbright Memorial Library\n500 Vine Street\, Scranton\, PA  18509\n570-348-3000 x 3038
URL:https://lclshome.org/event/tech-table-2026/2026-02-12/
LOCATION:Albright Memorial Library\, 500 Vine Street\, Scranton\, PA\, 18509\, United States
CATEGORIES:Albright Memorial Library,Computer Lab
END:VEVENT
BEGIN:VEVENT
DTSTART;TZID=America/New_York:20260212T180000
DTEND;TZID=America/New_York:20260212T180000
DTSTAMP:20260422T084112
CREATED:20260216T063127Z
LAST-MODIFIED:20260325T192404Z
UID:10003655-1770919200-1770919200@lclshome.org
SUMMARY:Stories with Cal & Newbery
DESCRIPTION:Join us for a story time featuring stories\, songs\, finger plays\, a craft\, and a puppet show with one of the Library’s mascots\, Cal or Newbery! \nFor families with children of all ages. Developed with toddlers and preschoolers in mind. \nLackawanna County Children’s Library\n520 Vine Street\, Scranton\, PA 18509\n570-348-3000 x 3015
URL:https://lclshome.org/event/stories-with-cal-newbery-2026/2026-02-12/
LOCATION:Lackawanna County Children’s Library\, 520 Vine St.\, Scranton\, PA\, 18509\, United States
CATEGORIES:Kids,Lackawanna County Children's Library
END:VEVENT
BEGIN:VEVENT
DTSTART;TZID=America/New_York:20260212T180000
DTEND;TZID=America/New_York:20260212T193000
DTSTAMP:20260422T084112
CREATED:20251210T161900Z
LAST-MODIFIED:20251210T170134Z
UID:10003810-1770919200-1770924600@lclshome.org
SUMMARY:Teen Creator Lab: G’not a Valentine’s Day Gnome
DESCRIPTION:Craft a fun gnome friend using fun socks and foam! Supplies will be provided\, but teens are welcome to bring their own to decorate their gnome as well. \nThis program is for teen ages 12-18. \n\n\nIn case of bad weather\, library programs may be cancelled. Please check our website or Facebook page or call for program updates. Note that\, even if events are cancelled\, the library may still be open for basic services. \n\n\nAlbright Memorial Library\nTechnology Lab\n520 Vine Street\, Scranton\, PA 18509\n570-348-3000
URL:https://lclshome.org/event/teen-creator-lab-gnot-a-valentines-day-gnome/
LOCATION:Albright Memorial Library\, Technology Lab\, 520 Vine Street\, Scranton\, PA\, 18509\, United States
CATEGORIES:Albright Memorial Library,Teens
ORGANIZER;CN="Rebecca Cruciani":MAILTO:rcruciani@albright.org
END:VEVENT
BEGIN:VEVENT
DTSTART;TZID=America/New_York:20260212T190000
DTEND;TZID=America/New_York:20260212T200000
DTSTAMP:20260422T084112
CREATED:20260112T185159Z
LAST-MODIFIED:20260421T134603Z
UID:10003989-1770922800-1770926400@lclshome.org
SUMMARY:Families Helping Families
DESCRIPTION:Facilitators provide an educational series and support group for teens and their families affected by substance abuse. Co-sponsored by the Clear Brook Foundation. No registration required.
URL:https://lclshome.org/event/families-helping-families/2026-02-12/
LOCATION:Abington Community Library\, 1200 West Grove St.\, Clarks Summit\, PA\, 18411\, United States
CATEGORIES:Abington Community Library
ORGANIZER;CN="Michael Richardson":MAILTO:MRichardson@albright.org
END:VEVENT
END:VCALENDAR