BEGIN:VCALENDAR
VERSION:2.0
PRODID:-//Lackawanna County Library System - ECPv6.15.17.1//NONSGML v1.0//EN
CALSCALE:GREGORIAN
METHOD:PUBLISH
X-WR-CALNAME:Lackawanna County Library System
X-ORIGINAL-URL:https://lclshome.org
X-WR-CALDESC:Events for Lackawanna County Library System
REFRESH-INTERVAL;VALUE=DURATION:PT1H
X-Robots-Tag:noindex
X-PUBLISHED-TTL:PT1H
BEGIN:VTIMEZONE
TZID:America/New_York
BEGIN:DAYLIGHT
TZOFFSETFROM:-0500
TZOFFSETTO:-0400
TZNAME:EDT
DTSTART:20250309T070000
END:DAYLIGHT
BEGIN:STANDARD
TZOFFSETFROM:-0400
TZOFFSETTO:-0500
TZNAME:EST
DTSTART:20251102T060000
END:STANDARD
BEGIN:DAYLIGHT
TZOFFSETFROM:-0500
TZOFFSETTO:-0400
TZNAME:EDT
DTSTART:20260308T070000
END:DAYLIGHT
BEGIN:STANDARD
TZOFFSETFROM:-0400
TZOFFSETTO:-0500
TZNAME:EST
DTSTART:20261101T060000
END:STANDARD
BEGIN:DAYLIGHT
TZOFFSETFROM:-0500
TZOFFSETTO:-0400
TZNAME:EDT
DTSTART:20270314T070000
END:DAYLIGHT
BEGIN:STANDARD
TZOFFSETFROM:-0400
TZOFFSETTO:-0500
TZNAME:EST
DTSTART:20271107T060000
END:STANDARD
END:VTIMEZONE
BEGIN:VEVENT
DTSTART;TZID=America/New_York:20260403T090000
DTEND;TZID=America/New_York:20260403T170000
DTSTAMP:20260419T134308
CREATED:20260224T214826Z
LAST-MODIFIED:20260224T214826Z
UID:10004433-1775206800-1775235600@lclshome.org
SUMMARY:CLOSED
DESCRIPTION:North Pocono Public Library will be closed in observance of Easter.
URL:https://lclshome.org/event/closed-19/
LOCATION:North Pocono Public Library\, 1315 Church St.\, Moscow\, PA\, 18444-9254\, United States
CATEGORIES:North Pocono Public Library
END:VEVENT
BEGIN:VEVENT
DTSTART;TZID=America/New_York:20260403T103000
DTEND;TZID=America/New_York:20260403T103000
DTSTAMP:20260419T134308
CREATED:20260306T182303Z
LAST-MODIFIED:20260306T182454Z
UID:10004860-1775212200-1775212200@lclshome.org
SUMMARY:Storytime
DESCRIPTION:Storytime is designed to promote and enhance early literacy skills in your child. We incorporate stories\, movement songs\, crafts and free play in a way that encourages vocabulary development. \nFor kids ages 2 through 6. Families and siblings are welcome. \nNancy Kay Holmes Branch Library\n1032 Green Ridge Street\, Scranton\, PA 18509\n570-207-0764
URL:https://lclshome.org/event/nkh-storytime-apr26-1/
LOCATION:Nancy Kay Holmes Branch Library\, 1032 Green Ridge St.\, Scranton\, PA\, 18509\, United States
CATEGORIES:Kids,Nancy Kay Holmes Library
ORGANIZER;CN="Nancy Kay Holmes Branch Library":MAILTO:NKHList@albright.org
END:VEVENT
BEGIN:VEVENT
DTSTART;TZID=America/New_York:20260403T120000
DTEND;TZID=America/New_York:20260403T130000
DTSTAMP:20260419T134308
CREATED:20250828T135635Z
LAST-MODIFIED:20260401T184945Z
UID:10002083-1775217600-1775221200@lclshome.org
SUMMARY:Conversational Italian Class
DESCRIPTION:Join us for our weekly class delving into beginner conversational Italian\, grammar\, vocabulary\, and culture.
URL:https://lclshome.org/event/conversational-italian-class/2026-04-03/
LOCATION:Abington Community Library\, 1200 West Grove St.\, Clarks Summit\, PA\, 18411\, United States
CATEGORIES:Abington Community Library
ORGANIZER;CN="Michael Richardson":MAILTO:MRichardson@albright.org
END:VEVENT
BEGIN:VEVENT
DTSTART;TZID=America/New_York:20260403T143000
DTEND;TZID=America/New_York:20260403T163000
DTSTAMP:20260419T134308
CREATED:20251124T192558Z
LAST-MODIFIED:20260407T205517Z
UID:10004799-1775226600-1775233800@lclshome.org
SUMMARY:Coloring Club
DESCRIPTION:Come color your world and hang out at the Library! On Fridays we will have a variety of different coloring supplies available\, and a variety of coloring pages suitable for all ages and experience levels. \nFor children of all ages. \nLackawanna County Children’s Library\n520 Vine Street\, Scranton\, PA 18509\n570-348-3000 x 3015
URL:https://lclshome.org/event/coloring-club-2026/2026-04-03/
LOCATION:Lackawanna County Children’s Library\, 520 Vine St.\, Scranton\, PA\, 18509\, United States
CATEGORIES:Kids,Lackawanna County Children's Library
END:VEVENT
END:VCALENDAR