BEGIN:VCALENDAR
VERSION:2.0
PRODID:-//Lackawanna County Library System - ECPv6.15.17.1//NONSGML v1.0//EN
CALSCALE:GREGORIAN
METHOD:PUBLISH
X-ORIGINAL-URL:https://lclshome.org
X-WR-CALDESC:Events for Lackawanna County Library System
REFRESH-INTERVAL;VALUE=DURATION:PT1H
X-Robots-Tag:noindex
X-PUBLISHED-TTL:PT1H
BEGIN:VTIMEZONE
TZID:America/New_York
BEGIN:DAYLIGHT
TZOFFSETFROM:-0500
TZOFFSETTO:-0400
TZNAME:EDT
DTSTART:20250309T070000
END:DAYLIGHT
BEGIN:STANDARD
TZOFFSETFROM:-0400
TZOFFSETTO:-0500
TZNAME:EST
DTSTART:20251102T060000
END:STANDARD
BEGIN:DAYLIGHT
TZOFFSETFROM:-0500
TZOFFSETTO:-0400
TZNAME:EDT
DTSTART:20260308T070000
END:DAYLIGHT
BEGIN:STANDARD
TZOFFSETFROM:-0400
TZOFFSETTO:-0500
TZNAME:EST
DTSTART:20261101T060000
END:STANDARD
BEGIN:DAYLIGHT
TZOFFSETFROM:-0500
TZOFFSETTO:-0400
TZNAME:EDT
DTSTART:20270314T070000
END:DAYLIGHT
BEGIN:STANDARD
TZOFFSETFROM:-0400
TZOFFSETTO:-0500
TZNAME:EST
DTSTART:20271107T060000
END:STANDARD
END:VTIMEZONE
BEGIN:VEVENT
DTSTART;TZID=America/New_York:20260603T033000
DTEND;TZID=America/New_York:20260603T163000
DTSTAMP:20260425T062243
CREATED:20260423T160118Z
LAST-MODIFIED:20260423T160118Z
UID:10005739-1780457400-1780504200@lclshome.org
SUMMARY:Genealogy Club
DESCRIPTION:Come join our group of genealogists and learn about the free resources available at the library to use on your search. All levels welcome. Feel free to bring tech devices or borrow a laptop at the front desk. Meets on the First Wednesday of the Month.
URL:https://lclshome.org/event/genealogy-club-2/2026-06-03/
LOCATION:Valley Community Library\, 739 River St.\, Peckville\, PA\, 18452\, United States
CATEGORIES:Valley Community Library
ORGANIZER;CN="Danielle Karwaski":MAILTO:dkarwaski@albright.org
END:VEVENT
BEGIN:VEVENT
DTSTART;TZID=America/New_York:20260603T111500
DTEND;TZID=America/New_York:20260603T121500
DTSTAMP:20260425T062243
CREATED:20260226T175343Z
LAST-MODIFIED:20260401T144604Z
UID:10005256-1780485300-1780488900@lclshome.org
SUMMARY:Yoga with Mindy
DESCRIPTION:Join us at the Valley Community Library’s Gino Merli Room on Wednesdays at 11:15 a.m. for Yoga with Mindy. This class is designed to help release stress and tension as we focus on mindfulness\, breathing\, and simple yoga postures. Each class is $8. Payments will be due the day of the class.\n\nAttendees must register with Mindy. Please email yogawithmindy@comcast.net to register for classes.For any questions\, please email mgeorgetti@albright.org.
URL:https://lclshome.org/event/yoga-with-mindy-2/2026-06-03/
LOCATION:Valley Community Library\, 739 River St.\, Peckville\, PA\, 18452\, United States
CATEGORIES:Valley Community Library
END:VEVENT
BEGIN:VEVENT
DTSTART;TZID=America/New_York:20260603T140000
DTEND;TZID=America/New_York:20260603T162000
DTSTAMP:20260425T062243
CREATED:20260416T132517Z
LAST-MODIFIED:20260416T132517Z
UID:10005621-1780495200-1780503600@lclshome.org
SUMMARY:Movie "Wuthering Heights"
DESCRIPTION:Join us every Wednesday at 2:00 PM for a free movie screening at the Albright Memorial Library. \nThis week’s feature is “Wuthering Heights” (Wednesday\, June 3rd): A passionate and tumultuous love story set against the backdrop of the Yorkshire moors\, exploring the intense and destructive relationship between Heathcliff and Catherine Earnshaw. Filmed in VistaVision Rated R; 2 hrs.\, 16 min. \n\n\nAlbright Memorial Library\n500 Vine Street\, Scranton\, PA 18509\n570-348-3000
URL:https://lclshome.org/event/movie-wuthering-heights/
LOCATION:Albright Memorial Library\, Henkelman Room\, 500 Vine Street\, Scranton\, PA\, 18509\, United States
CATEGORIES:Albright Memorial Library
END:VEVENT
BEGIN:VEVENT
DTSTART;TZID=America/New_York:20260603T180000
DTEND;TZID=America/New_York:20260603T180000
DTSTAMP:20260425T062243
CREATED:20260423T190846Z
LAST-MODIFIED:20260423T190951Z
UID:10005754-1780509600-1780509600@lclshome.org
SUMMARY:Video Game Club: Mario Tennis Fever
DESCRIPTION:Swing onto the court for explosive action in the latest Mario Tennis game! Join Ms. Meghan to try out this fever-pitched Nintendo Switch 2 game. \nFor kids in grades 4 through 6. \nLackawanna County Children’s Library\n520 Vine Street\, Scranton\, PA 18509\n570-348-3000 x 3015 \n 
URL:https://lclshome.org/event/video-game-club-june-3-2026/
LOCATION:Lackawanna County Children’s Library\, 520 Vine St.\, Scranton\, PA\, 18509\, United States
CATEGORIES:Kids,Lackawanna County Children's Library
ORGANIZER;CN="Meghan Sucheski":MAILTO:msucheski@albright.org
END:VEVENT
END:VCALENDAR