BEGIN:VCALENDAR
VERSION:2.0
PRODID:-//Lackawanna County Library System - ECPv6.15.17.1//NONSGML v1.0//EN
CALSCALE:GREGORIAN
METHOD:PUBLISH
X-WR-CALNAME:Lackawanna County Library System
X-ORIGINAL-URL:https://lclshome.org
X-WR-CALDESC:Events for Lackawanna County Library System
REFRESH-INTERVAL;VALUE=DURATION:PT1H
X-Robots-Tag:noindex
X-PUBLISHED-TTL:PT1H
BEGIN:VTIMEZONE
TZID:America/New_York
BEGIN:DAYLIGHT
TZOFFSETFROM:-0500
TZOFFSETTO:-0400
TZNAME:EDT
DTSTART:20250309T070000
END:DAYLIGHT
BEGIN:STANDARD
TZOFFSETFROM:-0400
TZOFFSETTO:-0500
TZNAME:EST
DTSTART:20251102T060000
END:STANDARD
BEGIN:DAYLIGHT
TZOFFSETFROM:-0500
TZOFFSETTO:-0400
TZNAME:EDT
DTSTART:20260308T070000
END:DAYLIGHT
BEGIN:STANDARD
TZOFFSETFROM:-0400
TZOFFSETTO:-0500
TZNAME:EST
DTSTART:20261101T060000
END:STANDARD
BEGIN:DAYLIGHT
TZOFFSETFROM:-0500
TZOFFSETTO:-0400
TZNAME:EDT
DTSTART:20270314T070000
END:DAYLIGHT
BEGIN:STANDARD
TZOFFSETFROM:-0400
TZOFFSETTO:-0500
TZNAME:EST
DTSTART:20271107T060000
END:STANDARD
END:VTIMEZONE
BEGIN:VEVENT
DTSTART;TZID=America/New_York:20260617T111500
DTEND;TZID=America/New_York:20260617T121500
DTSTAMP:20260425T062024
CREATED:20260226T175343Z
LAST-MODIFIED:20260401T144604Z
UID:10005258-1781694900-1781698500@lclshome.org
SUMMARY:Yoga with Mindy
DESCRIPTION:Join us at the Valley Community Library’s Gino Merli Room on Wednesdays at 11:15 a.m. for Yoga with Mindy. This class is designed to help release stress and tension as we focus on mindfulness\, breathing\, and simple yoga postures. Each class is $8. Payments will be due the day of the class.\n\nAttendees must register with Mindy. Please email yogawithmindy@comcast.net to register for classes.For any questions\, please email mgeorgetti@albright.org.
URL:https://lclshome.org/event/yoga-with-mindy-2/2026-06-17/
LOCATION:Valley Community Library\, 739 River St.\, Peckville\, PA\, 18452\, United States
CATEGORIES:Valley Community Library
END:VEVENT
BEGIN:VEVENT
DTSTART;TZID=America/New_York:20260617T140000
DTEND;TZID=America/New_York:20260617T161500
DTSTAMP:20260425T062024
CREATED:20260416T133650Z
LAST-MODIFIED:20260416T135428Z
UID:10005623-1781704800-1781712900@lclshome.org
SUMMARY:Movie: Sentimental Value
DESCRIPTION:Join us every Wednesday at 2:00 PM for a free movie screening at the Albright Memorial Library. \nThis week’s feature is “Sentimental Value” (Wednesday\, June 17th): Sisters Nora and Agnes reunite with their estranged father\, the charismatic Gustav\, a once-renowned director who offers stage actress Nora a role in what he hopes will be his comeback film. When Nora turns it down\, she soon discovers he has given her part to an eager young Hollywood star. Nominated for 8 Academy Awards\, including Best Picture and Best International Film. Rated R; 2 hrs.\, 12 min. \n\n\nAlbright Memorial Library\n500 Vine Street\, Scranton\, PA 18509\n570-348-3000
URL:https://lclshome.org/event/movie-sentimental-value/
LOCATION:Albright Memorial Library\, Henkelman Room\, 500 Vine Street\, Scranton\, PA\, 18509\, United States
CATEGORIES:Albright Memorial Library
ORGANIZER;CN="Bill Cronauer":MAILTO:bcronauer@albright.org
END:VEVENT
BEGIN:VEVENT
DTSTART;TZID=America/New_York:20260617T173000
DTEND;TZID=America/New_York:20260617T183000
DTSTAMP:20260425T062024
CREATED:20260423T184313Z
LAST-MODIFIED:20260423T184313Z
UID:10005751-1781717400-1781721000@lclshome.org
SUMMARY:Needlework Night
DESCRIPTION:All needlework welcome including: knitting\, crocheting\, cross-stitching\, and embroidering. All levels welcome. Bring a project you are working on or start a new project with supplies provided
URL:https://lclshome.org/event/needlework-night-3/
LOCATION:Valley Community Library\, 739 River St.\, Peckville\, PA\, 18452\, United States
CATEGORIES:Valley Community Library
ORGANIZER;CN="Danielle Karwaski":MAILTO:dkarwaski@albright.org
END:VEVENT
BEGIN:VEVENT
DTSTART;TZID=America/New_York:20260617T180000
DTEND;TZID=America/New_York:20260617T180000
DTSTAMP:20260425T062024
CREATED:20260423T172716Z
LAST-MODIFIED:20260423T172949Z
UID:10005747-1781719200-1781719200@lclshome.org
SUMMARY:Danger Club: Water Filtration
DESCRIPTION:Ever wonder how the water we drink gets clean? Come find out with Ms. Meghan as we make our own water filtration system! \nFor children in grades 4 through 6. \nLackawanna County Children’s Library\n520 Vine Street\, Scranton\, PA 18509\n570-348-3000 x 3015
URL:https://lclshome.org/event/danger-club-water-june-17-2026/
LOCATION:Lackawanna County Children’s Library\, 520 Vine St.\, Scranton\, PA\, 18509\, United States
CATEGORIES:Kids,Lackawanna County Children's Library
ORGANIZER;CN="Meghan Sucheski":MAILTO:msucheski@albright.org
END:VEVENT
BEGIN:VEVENT
DTSTART;TZID=America/New_York:20260617T180000
DTEND;TZID=America/New_York:20260617T193000
DTSTAMP:20260425T062024
CREATED:20260422T164329Z
LAST-MODIFIED:20260422T164329Z
UID:10005719-1781719200-1781724600@lclshome.org
SUMMARY:Socrates Cafe
DESCRIPTION:Join us for Socrates Cafe. these gatherings will bring people together from all walks of life to raise questions about\, listen to\, and discuss a topic chosen by the group that evening. \n\n\nAlbright Memorial Library\n500 Vine Street\, Scranton\, PA 18509\n570-348-3000
URL:https://lclshome.org/event/socrates-cafe-2/
LOCATION:Albright Memorial Library\, Director’s Office\, 500 Vine Street\, Scranton\, PA\, 18509\, United States
CATEGORIES:Albright Memorial Library
ORGANIZER;CN="Gillian Gerega":MAILTO:ggerega@albright.org
END:VEVENT
BEGIN:VEVENT
DTSTART;TZID=America/New_York:20260617T180000
DTEND;TZID=America/New_York:20260617T193000
DTSTAMP:20260425T062024
CREATED:20260422T184422Z
LAST-MODIFIED:20260423T112221Z
UID:10005720-1781719200-1781724600@lclshome.org
SUMMARY:SPL Book Club: The Women on Platform Two
DESCRIPTION:Join us this month for a discussion on “The Women on Platform Two” by Laura Anthony. In 2023\, after a fight with her fiancé about having kids\, Saoirse meets elderly Maura\, who describes life when contraception was illegal in Ireland. In 1969\, Maura\, her friend Bernie (who another pregnancy may kill)\, and other women push against the status quo in this moving dual-timeline novel. \nCopies of the book can be checked out at the Circulation Desk\, and digital versions may also be available through Libby. \n\nAlbright Memorial Library\n500 Vine Street\, Scranton\, PA 18509\n570-348-3000
URL:https://lclshome.org/event/spl-book-club-the-women-on-platform-two/
LOCATION:Albright Memorial Library\, Henkelman Room\, 500 Vine Street\, Scranton\, PA\, 18509\, United States
CATEGORIES:Albright Memorial Library
ORGANIZER;CN="Jenny Shoener":MAILTO:jshoener@albright.org
END:VEVENT
END:VCALENDAR