BEGIN:VCALENDAR
VERSION:2.0
PRODID:-//Lackawanna County Library System - ECPv6.15.17.1//NONSGML v1.0//EN
CALSCALE:GREGORIAN
METHOD:PUBLISH
X-ORIGINAL-URL:https://lclshome.org
X-WR-CALDESC:Events for Lackawanna County Library System
REFRESH-INTERVAL;VALUE=DURATION:PT1H
X-Robots-Tag:noindex
X-PUBLISHED-TTL:PT1H
BEGIN:VTIMEZONE
TZID:America/New_York
BEGIN:DAYLIGHT
TZOFFSETFROM:-0500
TZOFFSETTO:-0400
TZNAME:EDT
DTSTART:20250309T070000
END:DAYLIGHT
BEGIN:STANDARD
TZOFFSETFROM:-0400
TZOFFSETTO:-0500
TZNAME:EST
DTSTART:20251102T060000
END:STANDARD
BEGIN:DAYLIGHT
TZOFFSETFROM:-0500
TZOFFSETTO:-0400
TZNAME:EDT
DTSTART:20260308T070000
END:DAYLIGHT
BEGIN:STANDARD
TZOFFSETFROM:-0400
TZOFFSETTO:-0500
TZNAME:EST
DTSTART:20261101T060000
END:STANDARD
BEGIN:DAYLIGHT
TZOFFSETFROM:-0500
TZOFFSETTO:-0400
TZNAME:EDT
DTSTART:20270314T070000
END:DAYLIGHT
BEGIN:STANDARD
TZOFFSETFROM:-0400
TZOFFSETTO:-0500
TZNAME:EST
DTSTART:20271107T060000
END:STANDARD
END:VTIMEZONE
BEGIN:VEVENT
DTSTART;TZID=America/New_York:20261001T180000
DTEND;TZID=America/New_York:20261001T200000
DTSTAMP:20260419T154813
CREATED:20250425T164707Z
LAST-MODIFIED:20260112T194949Z
UID:10001691-1790877600-1790884800@lclshome.org
SUMMARY:Stamp n Swap
DESCRIPTION:Stampers\, papercrafters and scrapbookers – bring your current stamping or paper crafting projects and craft informally with other paper crafters. For adults. E-mail MRichardson@albright.org with any questions.
URL:https://lclshome.org/event/stamp-n-swap-18/2026-10-01/
LOCATION:Abington Community Library\, 1200 West Grove St.\, Clarks Summit\, PA\, 18411\, United States
CATEGORIES:Abington Community Library
ORGANIZER;CN="Michael Richardson":MAILTO:MRichardson@albright.org
END:VEVENT
BEGIN:VEVENT
DTSTART;TZID=America/New_York:20261001T180000
DTEND;TZID=America/New_York:20261001T200000
DTSTAMP:20260419T154813
CREATED:20260407T190405Z
LAST-MODIFIED:20260407T190633Z
UID:10005457-1790877600-1790884800@lclshome.org
SUMMARY:Constitution Alive!
DESCRIPTION:Bring the U.S. Constitution to life with Patriot Academy’s “Constitution Alive!” video course that offers an easy-to-understand view of our nation’s bedrock principles. Perfect for beginners and history enthusiasts. This is a 6-week course held on Thursdays at 6:00 p.m. at the Valley Community Library from May 21 through June 25. Join facilitator Matt Zale to learn how the Constitution shapes your rights\, freedoms\, and daily life through videos and discussions. Register for a free workbook at patriotacademy.com. Questions can be directed to Matt Zale at 570-357-4517.
URL:https://lclshome.org/event/constitution-alive-2/2026-10-01/
LOCATION:Valley Community Library\, 739 River St.\, Peckville\, PA\, 18452\, United States
CATEGORIES:Valley Community Library
ORGANIZER;CN="Michelle Georgetti":MAILTO:mgeorgetti@albright.org
END:VEVENT
BEGIN:VEVENT
DTSTART;TZID=America/New_York:20261001T183000
DTEND;TZID=America/New_York:20261001T193000
DTSTAMP:20260419T154813
CREATED:20260203T170905Z
LAST-MODIFIED:20260203T182402Z
UID:10004176-1790879400-1790883000@lclshome.org
SUMMARY:Chick Lits Book Club
DESCRIPTION:This book club meets on the 1st Thursday of the month to read and discuss\nfiction books. Call the library at 570-562-1234 for information on how to join this book club.
URL:https://lclshome.org/event/chick-lits-book-club-2/2026-10-01/
LOCATION:PA
CATEGORIES:Taylor Community Library
END:VEVENT
END:VCALENDAR