BEGIN:VCALENDAR
VERSION:2.0
PRODID:-//Lackawanna County Library System - ECPv6.15.17.1//NONSGML v1.0//EN
CALSCALE:GREGORIAN
METHOD:PUBLISH
X-ORIGINAL-URL:https://lclshome.org
X-WR-CALDESC:Events for Lackawanna County Library System
REFRESH-INTERVAL;VALUE=DURATION:PT1H
X-Robots-Tag:noindex
X-PUBLISHED-TTL:PT1H
BEGIN:VTIMEZONE
TZID:America/New_York
BEGIN:DAYLIGHT
TZOFFSETFROM:-0500
TZOFFSETTO:-0400
TZNAME:EDT
DTSTART:20250309T070000
END:DAYLIGHT
BEGIN:STANDARD
TZOFFSETFROM:-0400
TZOFFSETTO:-0500
TZNAME:EST
DTSTART:20251102T060000
END:STANDARD
BEGIN:DAYLIGHT
TZOFFSETFROM:-0500
TZOFFSETTO:-0400
TZNAME:EDT
DTSTART:20260308T070000
END:DAYLIGHT
BEGIN:STANDARD
TZOFFSETFROM:-0400
TZOFFSETTO:-0500
TZNAME:EST
DTSTART:20261101T060000
END:STANDARD
BEGIN:DAYLIGHT
TZOFFSETFROM:-0500
TZOFFSETTO:-0400
TZNAME:EDT
DTSTART:20270314T070000
END:DAYLIGHT
BEGIN:STANDARD
TZOFFSETFROM:-0400
TZOFFSETTO:-0500
TZNAME:EST
DTSTART:20271107T060000
END:STANDARD
END:VTIMEZONE
BEGIN:VEVENT
DTSTART;TZID=America/New_York:20261105T160000
DTEND;TZID=America/New_York:20261105T170000
DTSTAMP:20260422T071057
CREATED:20240817T200744Z
LAST-MODIFIED:20251118T220337Z
UID:10000093-1793894400-1793898000@lclshome.org
SUMMARY:Kids Time
DESCRIPTION:On Thursdays\, children up through age 11 are invited to join our Kids Time program. The program will be a creative Storytime accompanied with various activities such sign language vocabulary along with commonly used phrases and Chinese vocabulary. It will be held on Thursdays from 4:00 to 5:00. If you have any questions\, please feel free to call the library 570-563-2014.
URL:https://lclshome.org/event/kids-time/2026-11-05/
LOCATION:Dalton Community Library\, 113 East Main St.\, P.O. Box 86\, Dalton\, PA\, 18414\, United States
CATEGORIES:Dalton Community Library
END:VEVENT
BEGIN:VEVENT
DTSTART;TZID=America/New_York:20261105T180000
DTEND;TZID=America/New_York:20261105T200000
DTSTAMP:20260422T071057
CREATED:20260407T190405Z
LAST-MODIFIED:20260407T190633Z
UID:10005462-1793901600-1793908800@lclshome.org
SUMMARY:Constitution Alive!
DESCRIPTION:Bring the U.S. Constitution to life with Patriot Academy’s “Constitution Alive!” video course that offers an easy-to-understand view of our nation’s bedrock principles. Perfect for beginners and history enthusiasts. This is a 6-week course held on Thursdays at 6:00 p.m. at the Valley Community Library from May 21 through June 25. Join facilitator Matt Zale to learn how the Constitution shapes your rights\, freedoms\, and daily life through videos and discussions. Register for a free workbook at patriotacademy.com. Questions can be directed to Matt Zale at 570-357-4517.
URL:https://lclshome.org/event/constitution-alive-2/2026-11-05/
LOCATION:Valley Community Library\, 739 River St.\, Peckville\, PA\, 18452\, United States
CATEGORIES:Valley Community Library
ORGANIZER;CN="Michelle Georgetti":MAILTO:mgeorgetti@albright.org
END:VEVENT
BEGIN:VEVENT
DTSTART;TZID=America/New_York:20261105T183000
DTEND;TZID=America/New_York:20261105T193000
DTSTAMP:20260422T071057
CREATED:20260203T170905Z
LAST-MODIFIED:20260203T182402Z
UID:10004177-1793903400-1793907000@lclshome.org
SUMMARY:Chick Lits Book Club
DESCRIPTION:This book club meets on the 1st Thursday of the month to read and discuss\nfiction books. Call the library at 570-562-1234 for information on how to join this book club.
URL:https://lclshome.org/event/chick-lits-book-club-2/2026-11-05/
LOCATION:PA
CATEGORIES:Taylor Community Library
END:VEVENT
END:VCALENDAR