BEGIN:VCALENDAR
VERSION:2.0
PRODID:-//Lackawanna County Library System - ECPv6.15.17.1//NONSGML v1.0//EN
CALSCALE:GREGORIAN
METHOD:PUBLISH
X-WR-CALNAME:Lackawanna County Library System
X-ORIGINAL-URL:https://lclshome.org
X-WR-CALDESC:Events for Lackawanna County Library System
REFRESH-INTERVAL;VALUE=DURATION:PT1H
X-Robots-Tag:noindex
X-PUBLISHED-TTL:PT1H
BEGIN:VTIMEZONE
TZID:America/New_York
BEGIN:DAYLIGHT
TZOFFSETFROM:-0500
TZOFFSETTO:-0400
TZNAME:EDT
DTSTART:20250309T070000
END:DAYLIGHT
BEGIN:STANDARD
TZOFFSETFROM:-0400
TZOFFSETTO:-0500
TZNAME:EST
DTSTART:20251102T060000
END:STANDARD
BEGIN:DAYLIGHT
TZOFFSETFROM:-0500
TZOFFSETTO:-0400
TZNAME:EDT
DTSTART:20260308T070000
END:DAYLIGHT
BEGIN:STANDARD
TZOFFSETFROM:-0400
TZOFFSETTO:-0500
TZNAME:EST
DTSTART:20261101T060000
END:STANDARD
BEGIN:DAYLIGHT
TZOFFSETFROM:-0500
TZOFFSETTO:-0400
TZNAME:EDT
DTSTART:20270314T070000
END:DAYLIGHT
BEGIN:STANDARD
TZOFFSETFROM:-0400
TZOFFSETTO:-0500
TZNAME:EST
DTSTART:20271107T060000
END:STANDARD
END:VTIMEZONE
BEGIN:VEVENT
DTSTART;TZID=America/New_York:20260311T100000
DTEND;TZID=America/New_York:20260311T103000
DTSTAMP:20260419T230314
CREATED:20260211T135528Z
LAST-MODIFIED:20260211T135528Z
UID:10004260-1773223200-1773225000@lclshome.org
SUMMARY:Terrific Tales
DESCRIPTION:Join Mrs. Burke for stories\, songs\, and rhymes! For ages 2-3; siblings welcome. Please register.
URL:https://lclshome.org/event/terrific-tales-17/
LOCATION:Abington Community Library\, 1200 West Grove St.\, Clarks Summit\, PA\, 18411\, United States
CATEGORIES:Abington Community Library,Kids
ORGANIZER;CN="Nancy Burke":MAILTO:nburke@albright.org
END:VEVENT
BEGIN:VEVENT
DTSTART;TZID=America/New_York:20260311T110000
DTEND;TZID=America/New_York:20260311T113000
DTSTAMP:20260419T230314
CREATED:20260211T135712Z
LAST-MODIFIED:20260211T135712Z
UID:10004261-1773226800-1773228600@lclshome.org
SUMMARY:Terrific Tales
DESCRIPTION:Join Mrs. Burke for stories\, songs\, and rhymes! For ages 2-3; siblings welcome. Please register.
URL:https://lclshome.org/event/terrific-tales-18/
LOCATION:Abington Community Library\, 1200 West Grove St.\, Clarks Summit\, PA\, 18411\, United States
CATEGORIES:Abington Community Library,Kids
ORGANIZER;CN="Nancy Burke":MAILTO:nburke@albright.org
END:VEVENT
BEGIN:VEVENT
DTSTART;TZID=America/New_York:20260311T110000
DTEND;TZID=America/New_York:20260311T120000
DTSTAMP:20260419T230314
CREATED:20260127T163532Z
LAST-MODIFIED:20260224T211001Z
UID:10004103-1773226800-1773230400@lclshome.org
SUMMARY:The Breathing Conspiracy: Reversing the Chronic Stress Response
DESCRIPTION:Practices to help calm the mind\, deepen your awareness\, and discover your conscious self. \nAt its root the word conspiracy can be translated to mean ‘to breathe together’.  The first step to reversing our chronic stress response is learning to breathe the way we were born to breathe. This three week course will include simple breathing techniques\, guided meditations and gentle movement. \nWednesdays: March 11\, 18\, & 25 from 11:00A.M. to 12:00P.M.  REGISTER ONCE for the entire series. \nWeek 1  Chair yoga\, Intro Diaphragmatic Breathing & Guided Relaxation \nWeek 2 Chair Yoga\, Calming the Monkey Mind & Ujjayii Pranyama (Ocean Breathing) \nWeek 3. Chair  yoga\, Tension/Relaxation exercise\, 61 Points of Light \nFor adults\, $10 Facilitator fee for series \n 
URL:https://lclshome.org/event/the-breathing-conspiracy/
LOCATION:Abington Community Library\, 1200 West Grove St.\, Clarks Summit\, PA\, 18411\, United States
CATEGORIES:Abington Community Library
ORGANIZER;CN="Judy Detter":MAILTO:jdetter@albright.org
END:VEVENT
BEGIN:VEVENT
DTSTART;TZID=America/New_York:20260311T180000
DTEND;TZID=America/New_York:20260311T183000
DTSTAMP:20260419T230314
CREATED:20260205T120003Z
LAST-MODIFIED:20260205T015522Z
UID:10004206-1773252000-1773253800@lclshome.org
SUMMARY:Tail Waggin' Tutors Session 1
DESCRIPTION:Tail Waggin’ Tutors program is designed to boost your child’s reading skills in a fun and furry way! Let your kids read aloud to certified therapy dogs who are eager to listen and provide gentle encouragement. It’s a paws-itively awesome opportunity for your kids to gain confidence and enjoy the magic of reading. \nStop by the craft table while waiting for a turn. \nFor kids ages 5-11. \nThis program is split into 2 half hour sessions so you can register your child(ren) for the 6:00-6:30 session or the 6:30- 7:00 session. \nWe ask that when you register you only count the child(ren). Please include all children participating in the guest count. \nPlease register. If program is full please email Miss Leigh-Ann at lpuchalski@albright.org to be added to the waitlist.
URL:https://lclshome.org/event/tail-waggin-tutors/
LOCATION:Abington Community Library\, 1200 West Grove St.\, Clarks Summit\, PA\, 18411\, United States
CATEGORIES:Abington Community Library,Kids
ORGANIZER;CN="Leigh-Ann Puchalski":MAILTO:lpuchalski@albright.org
END:VEVENT
BEGIN:VEVENT
DTSTART;TZID=America/New_York:20260311T180000
DTEND;TZID=America/New_York:20260311T190000
DTSTAMP:20260419T230314
CREATED:20260209T232304Z
LAST-MODIFIED:20260219T173545Z
UID:10004239-1773252000-1773255600@lclshome.org
SUMMARY:ABC Play with Me 6PM
DESCRIPTION:Join us for a five-week program for toddlers and their parents and caregivers. The workshops are fun and play-based providing an environment rich with toys\, books and art activities and an opportunity for families to spend time together\, make friends and talk one-on-one with specialists on various aspects of child development\, parenting\, and early literacy. \nDesigned for children ages 1-3\, their parents/caregivers and siblings under 5. \nYou only need to register once for the whole series. \nFamilies at Play will be offered on Thursdays  at 10:00 AM. \nNote: As of February 19 we do not have a Child Development specialist for the evening sessions.
URL:https://lclshome.org/event/abc-play-with-me-6pm/2026-03-11/
LOCATION:Abington Community Library\, 1200 West Grove St.\, Clarks Summit\, PA\, 18411\, United States
CATEGORIES:Abington Community Library,Kids
ORGANIZER;CN="Leigh-Ann Puchalski":MAILTO:lpuchalski@albright.org
END:VEVENT
BEGIN:VEVENT
DTSTART;TZID=America/New_York:20260311T183000
DTEND;TZID=America/New_York:20260311T190000
DTSTAMP:20260419T230314
CREATED:20260205T120044Z
LAST-MODIFIED:20260205T015518Z
UID:10004207-1773253800-1773255600@lclshome.org
SUMMARY:Tail Waggin' Tutors Session 2
DESCRIPTION:Tail Waggin’ Tutors program is designed to boost your child’s reading skills in a fun and furry way! Let your kids read aloud to certified therapy dogs who are eager to listen and provide gentle encouragement. It’s a paws-itively awesome opportunity for your kids to gain confidence and enjoy the magic of reading. \nStop by the craft table while waiting for a turn. \nFor kids ages 5-11. \nThis program is split into 2 half hour sessions so you can register your child(ren) for the 6:00-6:30 session or the 6:30- 7:00 session. \nWe ask that when you register you only count the child(ren). Please include all children participating in the guest count. \nPlease register. If program is full please email Miss Leigh-Ann at lpuchalski@albright.org to be added to the waitlist.
URL:https://lclshome.org/event/tail-waggin-tutors-session-2-17/
LOCATION:Abington Community Library\, 1200 West Grove St.\, Clarks Summit\, PA\, 18411\, United States
CATEGORIES:Abington Community Library,Kids
ORGANIZER;CN="Leigh-Ann Puchalski":MAILTO:lpuchalski@albright.org
END:VEVENT
END:VCALENDAR