BEGIN:VCALENDAR
VERSION:2.0
PRODID:-//Lackawanna County Library System - ECPv6.15.17.1//NONSGML v1.0//EN
CALSCALE:GREGORIAN
METHOD:PUBLISH
X-ORIGINAL-URL:https://lclshome.org
X-WR-CALDESC:Events for Lackawanna County Library System
REFRESH-INTERVAL;VALUE=DURATION:PT1H
X-Robots-Tag:noindex
X-PUBLISHED-TTL:PT1H
BEGIN:VTIMEZONE
TZID:America/New_York
BEGIN:DAYLIGHT
TZOFFSETFROM:-0500
TZOFFSETTO:-0400
TZNAME:EDT
DTSTART:20250309T070000
END:DAYLIGHT
BEGIN:STANDARD
TZOFFSETFROM:-0400
TZOFFSETTO:-0500
TZNAME:EST
DTSTART:20251102T060000
END:STANDARD
BEGIN:DAYLIGHT
TZOFFSETFROM:-0500
TZOFFSETTO:-0400
TZNAME:EDT
DTSTART:20260308T070000
END:DAYLIGHT
BEGIN:STANDARD
TZOFFSETFROM:-0400
TZOFFSETTO:-0500
TZNAME:EST
DTSTART:20261101T060000
END:STANDARD
BEGIN:DAYLIGHT
TZOFFSETFROM:-0500
TZOFFSETTO:-0400
TZNAME:EDT
DTSTART:20270314T070000
END:DAYLIGHT
BEGIN:STANDARD
TZOFFSETFROM:-0400
TZOFFSETTO:-0500
TZNAME:EST
DTSTART:20271107T060000
END:STANDARD
END:VTIMEZONE
BEGIN:VEVENT
DTSTART;TZID=America/New_York:20260312T100000
DTEND;TZID=America/New_York:20260312T110000
DTSTAMP:20260419T230729
CREATED:20260209T233433Z
LAST-MODIFIED:20260209T233433Z
UID:10004244-1773309600-1773313200@lclshome.org
SUMMARY:ABC Play with Me 10AM
DESCRIPTION:Join us for a five-week program for toddlers and their parents and caregivers. The workshops are fun and play-based providing an environment rich with toys\, books and art activities and an opportunity for families to spend time together\, make friends and talk one-on-one with specialists on various aspects of child development\, parenting\, and early literacy. \nDesigned for children ages 1-3\, their parents/caregivers and siblings under 5. \nYou only need to register once for the whole series. \nFamilies at Play will be offered on Wednesdays at 6:00 PM.
URL:https://lclshome.org/event/abc-play-with-me-10am/2026-03-12/
LOCATION:Abington Community Library\, 1200 West Grove St.\, Clarks Summit\, PA\, 18411\, United States
CATEGORIES:Abington Community Library,Kids
ORGANIZER;CN="Leigh-Ann Puchalski":MAILTO:lpuchalski@albright.org
END:VEVENT
BEGIN:VEVENT
DTSTART;TZID=America/New_York:20260312T123000
DTEND;TZID=America/New_York:20260312T153000
DTSTAMP:20260419T230729
CREATED:20250807T163459Z
LAST-MODIFIED:20260401T183911Z
UID:10003017-1773318600-1773329400@lclshome.org
SUMMARY:Scrabble Group
DESCRIPTION:Stretch your brain with an afternoon Scrabble match and join a friendly competition against fellow word enthusiasts. \n 
URL:https://lclshome.org/event/scrabble-group/2026-03-12/
LOCATION:Abington Community Library\, 1200 West Grove St.\, Clarks Summit\, PA\, 18411\, United States
CATEGORIES:Abington Community Library
ORGANIZER;CN="Michael Richardson":MAILTO:MRichardson@albright.org
END:VEVENT
BEGIN:VEVENT
DTSTART;TZID=America/New_York:20260312T123000
DTEND;TZID=America/New_York:20260312T153000
DTSTAMP:20260419T230729
CREATED:20250905T142921Z
LAST-MODIFIED:20260401T184105Z
UID:10003283-1773318600-1773329400@lclshome.org
SUMMARY:Thursdays Together
DESCRIPTION:Join us for a chill weekly hangout at the Library! No agenda. No pressure. No registration. Just good vibes\, great convos\, and a seat waiting for you. Drop in anytime. Pull up a chair and stay as long as you’d like. Everyone’s welcome!
URL:https://lclshome.org/event/thursdays-together-2/2026-03-12/
LOCATION:Abington Community Library\, 1200 West Grove St.\, Clarks Summit\, PA\, 18411\, United States
CATEGORIES:Abington Community Library
ORGANIZER;CN="Michael Richardson":MAILTO:MRichardson@albright.org
END:VEVENT
BEGIN:VEVENT
DTSTART;TZID=America/New_York:20260312T160000
DTEND;TZID=America/New_York:20260312T170000
DTSTAMP:20260419T230729
CREATED:20260205T004254Z
LAST-MODIFIED:20260205T004254Z
UID:10004203-1773331200-1773334800@lclshome.org
SUMMARY:National Parks\, Art and You
DESCRIPTION:Discover how artists\, activists and politicians inspired the National Park Service and see examples of this artwork. Also\, learn about the symbolism in the NPS arrowhead\, and design your own arrowhead of what you think should be protected and preserved.  \nFor ages 5-11.  \nPlease register. If program is full please email Miss Leigh-Ann at lpuchalski@albright.org to be added to the waitlist.
URL:https://lclshome.org/event/national-parks-art-and-you/
LOCATION:Abington Community Library\, 1200 West Grove St.\, Clarks Summit\, PA\, 18411\, United States
CATEGORIES:Abington Community Library,Kids
ORGANIZER;CN="Leigh-Ann Puchalski":MAILTO:lpuchalski@albright.org
END:VEVENT
BEGIN:VEVENT
DTSTART;TZID=America/New_York:20260312T183000
DTEND;TZID=America/New_York:20260312T203000
DTSTAMP:20260419T230729
CREATED:20250828T151043Z
LAST-MODIFIED:20260311T173522Z
UID:10004920-1773340200-1773347400@lclshome.org
SUMMARY:Mystery Book Club
DESCRIPTION:Join us for our monthly Mystery Book Club where fellow sleuths gather to discuss twists\, turns\, and page-turners that keep us guessing until the very end. \nThe April selection for the Mystery Book Club is “Gorky Park” by Martin Cruz Smith.
URL:https://lclshome.org/event/mystery-book-club/2026-03-12/
LOCATION:Abington Community Library\, 1200 West Grove St.\, Clarks Summit\, PA\, 18411\, United States
CATEGORIES:Abington Community Library
ORGANIZER;CN="Michael Richardson":MAILTO:MRichardson@albright.org
END:VEVENT
BEGIN:VEVENT
DTSTART;TZID=America/New_York:20260312T190000
DTEND;TZID=America/New_York:20260312T200000
DTSTAMP:20260419T230729
CREATED:20260112T185159Z
LAST-MODIFIED:20260401T184432Z
UID:10003993-1773342000-1773345600@lclshome.org
SUMMARY:Families Helping Families
DESCRIPTION:Facilitators provide an educational series and support group for teens and their families affected by substance abuse. Co-sponsored by the Clear Brook Foundation. No registration required.
URL:https://lclshome.org/event/families-helping-families/2026-03-12/
LOCATION:Abington Community Library\, 1200 West Grove St.\, Clarks Summit\, PA\, 18411\, United States
CATEGORIES:Abington Community Library
ORGANIZER;CN="Michael Richardson":MAILTO:MRichardson@albright.org
END:VEVENT
END:VCALENDAR