BEGIN:VCALENDAR
VERSION:2.0
PRODID:-//Lackawanna County Library System - ECPv6.15.17.1//NONSGML v1.0//EN
CALSCALE:GREGORIAN
METHOD:PUBLISH
X-WR-CALNAME:Lackawanna County Library System
X-ORIGINAL-URL:https://lclshome.org
X-WR-CALDESC:Events for Lackawanna County Library System
REFRESH-INTERVAL;VALUE=DURATION:PT1H
X-Robots-Tag:noindex
X-PUBLISHED-TTL:PT1H
BEGIN:VTIMEZONE
TZID:America/New_York
BEGIN:DAYLIGHT
TZOFFSETFROM:-0500
TZOFFSETTO:-0400
TZNAME:EDT
DTSTART:20250309T070000
END:DAYLIGHT
BEGIN:STANDARD
TZOFFSETFROM:-0400
TZOFFSETTO:-0500
TZNAME:EST
DTSTART:20251102T060000
END:STANDARD
BEGIN:DAYLIGHT
TZOFFSETFROM:-0500
TZOFFSETTO:-0400
TZNAME:EDT
DTSTART:20260308T070000
END:DAYLIGHT
BEGIN:STANDARD
TZOFFSETFROM:-0400
TZOFFSETTO:-0500
TZNAME:EST
DTSTART:20261101T060000
END:STANDARD
BEGIN:DAYLIGHT
TZOFFSETFROM:-0500
TZOFFSETTO:-0400
TZNAME:EDT
DTSTART:20270314T070000
END:DAYLIGHT
BEGIN:STANDARD
TZOFFSETFROM:-0400
TZOFFSETTO:-0500
TZNAME:EST
DTSTART:20271107T060000
END:STANDARD
END:VTIMEZONE
BEGIN:VEVENT
DTSTART;TZID=America/New_York:20260314T130000
DTEND;TZID=America/New_York:20260314T140000
DTSTAMP:20260419T230319
CREATED:20260211T155227Z
LAST-MODIFIED:20260211T155227Z
UID:10004277-1773493200-1773496800@lclshome.org
SUMMARY:Block Party
DESCRIPTION:Join us for some free play time for you and your child with our large selection of blocks and toys. Recommended for ages 2-5; siblings welcome. Please register.
URL:https://lclshome.org/event/block-party-4/
LOCATION:Abington Community Library\, 1200 West Grove St.\, Clarks Summit\, PA\, 18411\, United States
CATEGORIES:Abington Community Library,Kids
ORGANIZER;CN="Nancy Burke":MAILTO:nburke@albright.org
END:VEVENT
BEGIN:VEVENT
DTSTART;TZID=America/New_York:20260314T130000
DTEND;TZID=America/New_York:20260314T153000
DTSTAMP:20260419T230319
CREATED:20260209T193733Z
LAST-MODIFIED:20260212T211032Z
UID:10004233-1773493200-1773502200@lclshome.org
SUMMARY:Movie Fans Matinee: Rob Roy
DESCRIPTION:Join our new movie group where fellow movie lovers will meet for a Saturday matinee on the second Saturday of every month. This month we will be viewing the 1995 film “Rob Roy.” \nIn 1713 Scotland\, Rob Roy MacGregor is wronged by a nobleman and his nephew and becomes an outlaw in search of revenge while fleeing the Redcoats\, and faces charges of being a Jacobite. \nRegister below.
URL:https://lclshome.org/event/movie-fans-matinee-rob-roy/
LOCATION:Abington Community Library\, 1200 West Grove St.\, Clarks Summit\, PA\, 18411\, United States
CATEGORIES:Abington Community Library
ORGANIZER;CN="Michael Richardson":MAILTO:MRichardson@albright.org
END:VEVENT
END:VCALENDAR