BEGIN:VCALENDAR
VERSION:2.0
PRODID:-//Lackawanna County Library System - ECPv6.15.17.1//NONSGML v1.0//EN
CALSCALE:GREGORIAN
METHOD:PUBLISH
X-ORIGINAL-URL:https://lclshome.org
X-WR-CALDESC:Events for Lackawanna County Library System
REFRESH-INTERVAL;VALUE=DURATION:PT1H
X-Robots-Tag:noindex
X-PUBLISHED-TTL:PT1H
BEGIN:VTIMEZONE
TZID:America/New_York
BEGIN:DAYLIGHT
TZOFFSETFROM:-0500
TZOFFSETTO:-0400
TZNAME:EDT
DTSTART:20250309T070000
END:DAYLIGHT
BEGIN:STANDARD
TZOFFSETFROM:-0400
TZOFFSETTO:-0500
TZNAME:EST
DTSTART:20251102T060000
END:STANDARD
BEGIN:DAYLIGHT
TZOFFSETFROM:-0500
TZOFFSETTO:-0400
TZNAME:EDT
DTSTART:20260308T070000
END:DAYLIGHT
BEGIN:STANDARD
TZOFFSETFROM:-0400
TZOFFSETTO:-0500
TZNAME:EST
DTSTART:20261101T060000
END:STANDARD
BEGIN:DAYLIGHT
TZOFFSETFROM:-0500
TZOFFSETTO:-0400
TZNAME:EDT
DTSTART:20270314T070000
END:DAYLIGHT
BEGIN:STANDARD
TZOFFSETFROM:-0400
TZOFFSETTO:-0500
TZNAME:EST
DTSTART:20271107T060000
END:STANDARD
END:VTIMEZONE
BEGIN:VEVENT
DTSTART;TZID=America/New_York:20260319T100000
DTEND;TZID=America/New_York:20260319T110000
DTSTAMP:20260419T230647
CREATED:20260209T233433Z
LAST-MODIFIED:20260209T233433Z
UID:10004245-1773914400-1773918000@lclshome.org
SUMMARY:ABC Play with Me 10AM
DESCRIPTION:Join us for a five-week program for toddlers and their parents and caregivers. The workshops are fun and play-based providing an environment rich with toys\, books and art activities and an opportunity for families to spend time together\, make friends and talk one-on-one with specialists on various aspects of child development\, parenting\, and early literacy. \nDesigned for children ages 1-3\, their parents/caregivers and siblings under 5. \nYou only need to register once for the whole series. \nFamilies at Play will be offered on Wednesdays at 6:00 PM.
URL:https://lclshome.org/event/abc-play-with-me-10am/2026-03-19/
LOCATION:Abington Community Library\, 1200 West Grove St.\, Clarks Summit\, PA\, 18411\, United States
CATEGORIES:Abington Community Library,Kids
ORGANIZER;CN="Leigh-Ann Puchalski":MAILTO:lpuchalski@albright.org
END:VEVENT
BEGIN:VEVENT
DTSTART;TZID=America/New_York:20260319T123000
DTEND;TZID=America/New_York:20260319T153000
DTSTAMP:20260419T230647
CREATED:20250807T163459Z
LAST-MODIFIED:20260401T183911Z
UID:10003018-1773923400-1773934200@lclshome.org
SUMMARY:Scrabble Group
DESCRIPTION:Stretch your brain with an afternoon Scrabble match and join a friendly competition against fellow word enthusiasts. \n 
URL:https://lclshome.org/event/scrabble-group/2026-03-19/
LOCATION:Abington Community Library\, 1200 West Grove St.\, Clarks Summit\, PA\, 18411\, United States
CATEGORIES:Abington Community Library
ORGANIZER;CN="Michael Richardson":MAILTO:MRichardson@albright.org
END:VEVENT
BEGIN:VEVENT
DTSTART;TZID=America/New_York:20260319T123000
DTEND;TZID=America/New_York:20260319T153000
DTSTAMP:20260419T230647
CREATED:20250905T142921Z
LAST-MODIFIED:20260401T184105Z
UID:10003284-1773923400-1773934200@lclshome.org
SUMMARY:Thursdays Together
DESCRIPTION:Join us for a chill weekly hangout at the Library! No agenda. No pressure. No registration. Just good vibes\, great convos\, and a seat waiting for you. Drop in anytime. Pull up a chair and stay as long as you’d like. Everyone’s welcome!
URL:https://lclshome.org/event/thursdays-together-2/2026-03-19/
LOCATION:Abington Community Library\, 1200 West Grove St.\, Clarks Summit\, PA\, 18411\, United States
CATEGORIES:Abington Community Library
ORGANIZER;CN="Michael Richardson":MAILTO:MRichardson@albright.org
END:VEVENT
BEGIN:VEVENT
DTSTART;TZID=America/New_York:20260319T170000
DTEND;TZID=America/New_York:20260319T180000
DTSTAMP:20260419T230647
CREATED:20260210T151050Z
LAST-MODIFIED:20260210T151050Z
UID:10004249-1773939600-1773943200@lclshome.org
SUMMARY:Discovery Cow
DESCRIPTION:For kids and teens ages 8-18 \nJoin us for our new monthly series where we will learn about the Pennsylvania dairy industry and all things cows! \nEmail Kyler at Kepstein@albright.org with any questions.
URL:https://lclshome.org/event/discovery-cow-2/
LOCATION:Abington Community Library\, 1200 West Grove St.\, Clarks Summit\, PA\, 18411\, United States
CATEGORIES:Abington Community Library,Kids,Teens
ORGANIZER;CN="Kyler Epstein":MAILTO:kepstein@albright.org
END:VEVENT
BEGIN:VEVENT
DTSTART;TZID=America/New_York:20260319T180000
DTEND;TZID=America/New_York:20260319T200000
DTSTAMP:20260419T230647
CREATED:20250828T153706Z
LAST-MODIFIED:20260401T191447Z
UID:10003208-1773943200-1773950400@lclshome.org
SUMMARY:Insulin Pump Support Group
DESCRIPTION:Are you using or thinking of using an insulin pump to manage your diabetes? Talk with diabetics who know. Join insulin pump users with/without a sensor in a group setting to share and talk about your experiences. The group is open to children\, parents\, and senior citizens who are presently using a pump or are considering it. Meeting at the Library and on Zoom.
URL:https://lclshome.org/event/insulin-pump-support-group/2026-03-19/
LOCATION:Abington Community Library\, 1200 West Grove St.\, Clarks Summit\, PA\, 18411\, United States
CATEGORIES:Abington Community Library
ORGANIZER;CN="Michael Richardson":MAILTO:MRichardson@albright.org
END:VEVENT
BEGIN:VEVENT
DTSTART;TZID=America/New_York:20260319T190000
DTEND;TZID=America/New_York:20260319T200000
DTSTAMP:20260419T230647
CREATED:20260112T185159Z
LAST-MODIFIED:20260401T184432Z
UID:10003994-1773946800-1773950400@lclshome.org
SUMMARY:Families Helping Families
DESCRIPTION:Facilitators provide an educational series and support group for teens and their families affected by substance abuse. Co-sponsored by the Clear Brook Foundation. No registration required.
URL:https://lclshome.org/event/families-helping-families/2026-03-19/
LOCATION:Abington Community Library\, 1200 West Grove St.\, Clarks Summit\, PA\, 18411\, United States
CATEGORIES:Abington Community Library
ORGANIZER;CN="Michael Richardson":MAILTO:MRichardson@albright.org
END:VEVENT
END:VCALENDAR