BEGIN:VCALENDAR
VERSION:2.0
PRODID:-//Lackawanna County Library System - ECPv6.15.17.1//NONSGML v1.0//EN
CALSCALE:GREGORIAN
METHOD:PUBLISH
X-WR-CALNAME:Lackawanna County Library System
X-ORIGINAL-URL:https://lclshome.org
X-WR-CALDESC:Events for Lackawanna County Library System
REFRESH-INTERVAL;VALUE=DURATION:PT1H
X-Robots-Tag:noindex
X-PUBLISHED-TTL:PT1H
BEGIN:VTIMEZONE
TZID:America/New_York
BEGIN:DAYLIGHT
TZOFFSETFROM:-0500
TZOFFSETTO:-0400
TZNAME:EDT
DTSTART:20250309T070000
END:DAYLIGHT
BEGIN:STANDARD
TZOFFSETFROM:-0400
TZOFFSETTO:-0500
TZNAME:EST
DTSTART:20251102T060000
END:STANDARD
BEGIN:DAYLIGHT
TZOFFSETFROM:-0500
TZOFFSETTO:-0400
TZNAME:EDT
DTSTART:20260308T070000
END:DAYLIGHT
BEGIN:STANDARD
TZOFFSETFROM:-0400
TZOFFSETTO:-0500
TZNAME:EST
DTSTART:20261101T060000
END:STANDARD
BEGIN:DAYLIGHT
TZOFFSETFROM:-0500
TZOFFSETTO:-0400
TZNAME:EDT
DTSTART:20270314T070000
END:DAYLIGHT
BEGIN:STANDARD
TZOFFSETFROM:-0400
TZOFFSETTO:-0500
TZNAME:EST
DTSTART:20271107T060000
END:STANDARD
END:VTIMEZONE
BEGIN:VEVENT
DTSTART;TZID=America/New_York:20260320T100000
DTEND;TZID=America/New_York:20260320T103000
DTSTAMP:20260419T230236
CREATED:20260211T143834Z
LAST-MODIFIED:20260211T143852Z
UID:10004269-1774000800-1774002600@lclshome.org
SUMMARY:Music and Rhyme Wiggle Time
DESCRIPTION:Join Mrs. Burke for songs\, rhymes\, stories\, and bubbles too! Recommended for ages birth-2; siblings welcome. Please register.
URL:https://lclshome.org/event/music-and-rhyme-wiggle-time-96/
LOCATION:Abington Community Library\, 1200 West Grove St.\, Clarks Summit\, PA\, 18411\, United States
CATEGORIES:Abington Community Library,Kids
ORGANIZER;CN="Nancy Burke":MAILTO:nburke@albright.org
END:VEVENT
BEGIN:VEVENT
DTSTART;TZID=America/New_York:20260320T110000
DTEND;TZID=America/New_York:20260320T113000
DTSTAMP:20260419T230236
CREATED:20260211T144122Z
LAST-MODIFIED:20260211T144122Z
UID:10004270-1774004400-1774006200@lclshome.org
SUMMARY:Music and Rhyme Wiggle Time
DESCRIPTION:Join Mrs. Burke for songs\, rhymes\, stories\, and bubbles too! Recommended for ages birth-2; siblings welcome. Please register.
URL:https://lclshome.org/event/music-and-rhyme-wiggle-time-97/
LOCATION:Abington Community Library\, 1200 West Grove St.\, Clarks Summit\, PA\, 18411\, United States
CATEGORIES:Abington Community Library,Kids
ORGANIZER;CN="Nancy Burke":MAILTO:nburke@albright.org
END:VEVENT
BEGIN:VEVENT
DTSTART;TZID=America/New_York:20260320T120000
DTEND;TZID=America/New_York:20260320T130000
DTSTAMP:20260419T230236
CREATED:20250828T135635Z
LAST-MODIFIED:20260401T184945Z
UID:10002081-1774008000-1774011600@lclshome.org
SUMMARY:Conversational Italian Class
DESCRIPTION:Join us for our weekly class delving into beginner conversational Italian\, grammar\, vocabulary\, and culture.
URL:https://lclshome.org/event/conversational-italian-class/2026-03-20/
LOCATION:Abington Community Library\, 1200 West Grove St.\, Clarks Summit\, PA\, 18411\, United States
CATEGORIES:Abington Community Library
ORGANIZER;CN="Michael Richardson":MAILTO:MRichardson@albright.org
END:VEVENT
BEGIN:VEVENT
DTSTART;TZID=America/New_York:20260320T180000
DTEND;TZID=America/New_York:20260320T200000
DTSTAMP:20260419T230236
CREATED:20260212T144226Z
LAST-MODIFIED:20260212T144226Z
UID:10004279-1774029600-1774036800@lclshome.org
SUMMARY:Elio Family Movie Night
DESCRIPTION:Join us for our next family movie night on Friday March 20 at 6:00 PM. We’ll watch Elio and enjoy treats and snacks too! For all ages\, please register. \nElio\, an underdog with an active imagination\, finds himself inadvertently beamed up to the Communiverse\, an interplanetary organization with representatives from galaxies far and wide. Mistakenly identified as Earth’s ambassador to the rest of the universe\, he starts to form new bonds with eccentric aliens while discovering who he’s truly meant to be.
URL:https://lclshome.org/event/elio-family-movie-night/
LOCATION:Abington Community Library\, 1200 West Grove St.\, Clarks Summit\, PA\, 18411\, United States
CATEGORIES:Abington Community Library,Kids,Teens
ORGANIZER;CN="Nancy Burke":MAILTO:nburke@albright.org
END:VEVENT
END:VCALENDAR