BEGIN:VCALENDAR
VERSION:2.0
PRODID:-//Lackawanna County Library System - ECPv6.15.17.1//NONSGML v1.0//EN
CALSCALE:GREGORIAN
METHOD:PUBLISH
X-WR-CALNAME:Lackawanna County Library System
X-ORIGINAL-URL:https://lclshome.org
X-WR-CALDESC:Events for Lackawanna County Library System
REFRESH-INTERVAL;VALUE=DURATION:PT1H
X-Robots-Tag:noindex
X-PUBLISHED-TTL:PT1H
BEGIN:VTIMEZONE
TZID:America/New_York
BEGIN:DAYLIGHT
TZOFFSETFROM:-0500
TZOFFSETTO:-0400
TZNAME:EDT
DTSTART:20250309T070000
END:DAYLIGHT
BEGIN:STANDARD
TZOFFSETFROM:-0400
TZOFFSETTO:-0500
TZNAME:EST
DTSTART:20251102T060000
END:STANDARD
BEGIN:DAYLIGHT
TZOFFSETFROM:-0500
TZOFFSETTO:-0400
TZNAME:EDT
DTSTART:20260308T070000
END:DAYLIGHT
BEGIN:STANDARD
TZOFFSETFROM:-0400
TZOFFSETTO:-0500
TZNAME:EST
DTSTART:20261101T060000
END:STANDARD
BEGIN:DAYLIGHT
TZOFFSETFROM:-0500
TZOFFSETTO:-0400
TZNAME:EDT
DTSTART:20270314T070000
END:DAYLIGHT
BEGIN:STANDARD
TZOFFSETFROM:-0400
TZOFFSETTO:-0500
TZNAME:EST
DTSTART:20271107T060000
END:STANDARD
END:VTIMEZONE
BEGIN:VEVENT
DTSTART;TZID=America/New_York:20260324T100000
DTEND;TZID=America/New_York:20260324T103000
DTSTAMP:20260419T230318
CREATED:20260219T005218Z
LAST-MODIFIED:20260219T005218Z
UID:10004306-1774346400-1774348200@lclshome.org
SUMMARY:Reading Adventures Storytime
DESCRIPTION:Join us in our Preschool-Kindergarten Storytime where we read\, sing\, talk\, play and write to build early learning skills. \nGeared towards ages 3-5. Siblings are welcome. \nPlease register.
URL:https://lclshome.org/event/reading-adventures-storytime-78/
LOCATION:Abington Community Library\, 1200 West Grove St.\, Clarks Summit\, PA\, 18411\, United States
CATEGORIES:Abington Community Library,Kids
ORGANIZER;CN="Leigh-Ann Puchalski":MAILTO:lpuchalski@albright.org
END:VEVENT
BEGIN:VEVENT
DTSTART;TZID=America/New_York:20260324T100000
DTEND;TZID=America/New_York:20260324T120000
DTSTAMP:20260419T230318
CREATED:20250827T194312Z
LAST-MODIFIED:20260401T183308Z
UID:10002044-1774346400-1774353600@lclshome.org
SUMMARY:Always in Stitches
DESCRIPTION:Stop and see what this amiable bunch of quilters and sewers is up to. Get involved in one of their many charitable endeavors or learn something new. Intermediate members welcome. No registration required.
URL:https://lclshome.org/event/always-in-stitches/2026-03-24/
LOCATION:Abington Community Library\, 1200 West Grove St.\, Clarks Summit\, PA\, 18411\, United States
CATEGORIES:Abington Community Library
ORGANIZER;CN="Michael Richardson":MAILTO:MRichardson@albright.org
END:VEVENT
BEGIN:VEVENT
DTSTART;TZID=America/New_York:20260324T130000
DTEND;TZID=America/New_York:20260324T133000
DTSTAMP:20260419T230318
CREATED:20260219T005259Z
LAST-MODIFIED:20260219T005553Z
UID:10004307-1774357200-1774359000@lclshome.org
SUMMARY:Reading Adventures Storytime
DESCRIPTION:Join us in our Preschool-Kindergarten Storytime where we read\, sing\, talk\, play and write to build early learning skills. \nGeared towards ages 3-5. Siblings are welcome. \nPlease register.
URL:https://lclshome.org/event/reading-adventures-storytime-79/
LOCATION:Abington Community Library\, 1200 West Grove St.\, Clarks Summit\, PA\, 18411\, United States
CATEGORIES:Abington Community Library,Kids
ORGANIZER;CN="Leigh-Ann Puchalski":MAILTO:lpuchalski@albright.org
END:VEVENT
BEGIN:VEVENT
DTSTART;TZID=America/New_York:20260324T130000
DTEND;TZID=America/New_York:20260324T150000
DTSTAMP:20260419T230318
CREATED:20250807T153805Z
LAST-MODIFIED:20260401T183559Z
UID:10002979-1774357200-1774364400@lclshome.org
SUMMARY:Mahjong
DESCRIPTION:Join our group of National Mah Jongg League\, INC. players. No experience necessary.
URL:https://lclshome.org/event/mahjong/2026-03-24/
LOCATION:Abington Community Library\, 1200 West Grove St.\, Clarks Summit\, PA\, 18411\, United States
CATEGORIES:Abington Community Library
ORGANIZER;CN="Michael Richardson":MAILTO:MRichardson@albright.org
END:VEVENT
BEGIN:VEVENT
DTSTART;TZID=America/New_York:20260324T173000
DTEND;TZID=America/New_York:20260324T183000
DTSTAMP:20260419T230318
CREATED:20260305T194624Z
LAST-MODIFIED:20260305T194929Z
UID:10004832-1774373400-1774377000@lclshome.org
SUMMARY:Working Dog Club
DESCRIPTION:For kids and teens ages 8-18 \nJoin us for our new Working Dog series with 4-H! We’ll be learning everything there is to know about working dog breeds and the jobs they do out in the field.  \nPlease email Kyler at kepstein@albright.org with any questions.
URL:https://lclshome.org/event/working-dog-club/
LOCATION:Abington Community Library\, 1200 West Grove St.\, Clarks Summit\, PA\, 18411\, United States
CATEGORIES:Abington Community Library,Kids,Teens
ORGANIZER;CN="Kyler Epstein":MAILTO:kepstein@albright.org
END:VEVENT
BEGIN:VEVENT
DTSTART;TZID=America/New_York:20260324T180000
DTEND;TZID=America/New_York:20260324T200000
DTSTAMP:20260419T230318
CREATED:20260115T174047Z
LAST-MODIFIED:20260115T174047Z
UID:10004042-1774375200-1774382400@lclshome.org
SUMMARY:Pysanky Easter Workshop
DESCRIPTION:Create your own Ukrainian Pysanky Easter egg with facilitator Tammy Budnovitch. This class will be a beginner’s step-by-step instruction to help you create this beautiful egg. Materials cost is $25 per person payable to the instructor\, and all supplies will be provided. Bring your kistka and beeswax if you have taken the class before. If you would like to see the project or be added to the waitlist e-mail MRichardson@albright.org.
URL:https://lclshome.org/event/pysanky-easter-workshop-2/
LOCATION:Abington Community Library\, 1200 West Grove St.\, Clarks Summit\, PA\, 18411\, United States
CATEGORIES:Abington Community Library
ORGANIZER;CN="Michael Richardson":MAILTO:MRichardson@albright.org
END:VEVENT
END:VCALENDAR