BEGIN:VCALENDAR
VERSION:2.0
PRODID:-//Lackawanna County Library System - ECPv6.15.17.1//NONSGML v1.0//EN
CALSCALE:GREGORIAN
METHOD:PUBLISH
X-WR-CALNAME:Lackawanna County Library System
X-ORIGINAL-URL:https://lclshome.org
X-WR-CALDESC:Events for Lackawanna County Library System
REFRESH-INTERVAL;VALUE=DURATION:PT1H
X-Robots-Tag:noindex
X-PUBLISHED-TTL:PT1H
BEGIN:VTIMEZONE
TZID:America/New_York
BEGIN:DAYLIGHT
TZOFFSETFROM:-0500
TZOFFSETTO:-0400
TZNAME:EDT
DTSTART:20250309T070000
END:DAYLIGHT
BEGIN:STANDARD
TZOFFSETFROM:-0400
TZOFFSETTO:-0500
TZNAME:EST
DTSTART:20251102T060000
END:STANDARD
BEGIN:DAYLIGHT
TZOFFSETFROM:-0500
TZOFFSETTO:-0400
TZNAME:EDT
DTSTART:20260308T070000
END:DAYLIGHT
BEGIN:STANDARD
TZOFFSETFROM:-0400
TZOFFSETTO:-0500
TZNAME:EST
DTSTART:20261101T060000
END:STANDARD
BEGIN:DAYLIGHT
TZOFFSETFROM:-0500
TZOFFSETTO:-0400
TZNAME:EDT
DTSTART:20270314T070000
END:DAYLIGHT
BEGIN:STANDARD
TZOFFSETFROM:-0400
TZOFFSETTO:-0500
TZNAME:EST
DTSTART:20271107T060000
END:STANDARD
END:VTIMEZONE
BEGIN:VEVENT
DTSTART;TZID=America/New_York:20260326T100000
DTEND;TZID=America/New_York:20260326T110000
DTSTAMP:20260419T230330
CREATED:20260209T233433Z
LAST-MODIFIED:20260209T233433Z
UID:10004246-1774519200-1774522800@lclshome.org
SUMMARY:ABC Play with Me 10AM
DESCRIPTION:Join us for a five-week program for toddlers and their parents and caregivers. The workshops are fun and play-based providing an environment rich with toys\, books and art activities and an opportunity for families to spend time together\, make friends and talk one-on-one with specialists on various aspects of child development\, parenting\, and early literacy. \nDesigned for children ages 1-3\, their parents/caregivers and siblings under 5. \nYou only need to register once for the whole series. \nFamilies at Play will be offered on Wednesdays at 6:00 PM.
URL:https://lclshome.org/event/abc-play-with-me-10am/2026-03-26/
LOCATION:Abington Community Library\, 1200 West Grove St.\, Clarks Summit\, PA\, 18411\, United States
CATEGORIES:Abington Community Library,Kids
ORGANIZER;CN="Leigh-Ann Puchalski":MAILTO:lpuchalski@albright.org
END:VEVENT
BEGIN:VEVENT
DTSTART;TZID=America/New_York:20260326T123000
DTEND;TZID=America/New_York:20260326T153000
DTSTAMP:20260419T230330
CREATED:20250807T163459Z
LAST-MODIFIED:20260401T183911Z
UID:10003019-1774528200-1774539000@lclshome.org
SUMMARY:Scrabble Group
DESCRIPTION:Stretch your brain with an afternoon Scrabble match and join a friendly competition against fellow word enthusiasts. \n 
URL:https://lclshome.org/event/scrabble-group/2026-03-26/
LOCATION:Abington Community Library\, 1200 West Grove St.\, Clarks Summit\, PA\, 18411\, United States
CATEGORIES:Abington Community Library
ORGANIZER;CN="Michael Richardson":MAILTO:MRichardson@albright.org
END:VEVENT
BEGIN:VEVENT
DTSTART;TZID=America/New_York:20260326T123000
DTEND;TZID=America/New_York:20260326T153000
DTSTAMP:20260419T230330
CREATED:20250905T142921Z
LAST-MODIFIED:20260401T184105Z
UID:10003285-1774528200-1774539000@lclshome.org
SUMMARY:Thursdays Together
DESCRIPTION:Join us for a chill weekly hangout at the Library! No agenda. No pressure. No registration. Just good vibes\, great convos\, and a seat waiting for you. Drop in anytime. Pull up a chair and stay as long as you’d like. Everyone’s welcome!
URL:https://lclshome.org/event/thursdays-together-2/2026-03-26/
LOCATION:Abington Community Library\, 1200 West Grove St.\, Clarks Summit\, PA\, 18411\, United States
CATEGORIES:Abington Community Library
ORGANIZER;CN="Michael Richardson":MAILTO:MRichardson@albright.org
END:VEVENT
BEGIN:VEVENT
DTSTART;TZID=America/New_York:20260326T160000
DTEND;TZID=America/New_York:20260326T170000
DTSTAMP:20260419T230330
CREATED:20260205T011527Z
LAST-MODIFIED:20260205T011555Z
UID:10004205-1774540800-1774544400@lclshome.org
SUMMARY:K is for Keystone
DESCRIPTION:Enjoy a special reading of K Is for Keystone with Michele Demesky of the Daughters of the American Revolution and Colonial Dames Prior to 1700’s in colonial attire. \nThe book highlights all the important people\, places and events that make PA historic and unique. She will also discuss with the children what America 250 means to our nation. \nRecommended for ages 5-9. \nIf program is full please email Miss Leigh-Ann at lpuchalski@albright.org to be added to the waitlist. \n 
URL:https://lclshome.org/event/k-is-for-keystone-abington/
LOCATION:Abington Community Library\, 1200 West Grove St.\, Clarks Summit\, PA\, 18411\, United States
CATEGORIES:Abington Community Library,Kids
ORGANIZER;CN="Leigh-Ann Puchalski":MAILTO:lpuchalski@albright.org
END:VEVENT
BEGIN:VEVENT
DTSTART;TZID=America/New_York:20260326T170000
DTEND;TZID=America/New_York:20260326T180000
DTSTAMP:20260419T230330
CREATED:20260210T154238Z
LAST-MODIFIED:20260226T231256Z
UID:10004251-1774544400-1774548000@lclshome.org
SUMMARY:Teen Game Night
DESCRIPTION:For teens ages 12-18 \n\nJoin other teens in playing a variety of board and card games! \n\nBring a game you love or choose from our YA collection. \n\nPlease email Kyler at kepstein@albright.org with any questions
URL:https://lclshome.org/event/teen-game-night-13/
LOCATION:Abington Community Library\, 1200 West Grove St.\, Clarks Summit\, PA\, 18411\, United States
CATEGORIES:Abington Community Library,Teens
ORGANIZER;CN="Kyler Epstein":MAILTO:kepstein@albright.org
END:VEVENT
BEGIN:VEVENT
DTSTART;TZID=America/New_York:20260326T190000
DTEND;TZID=America/New_York:20260326T200000
DTSTAMP:20260419T230330
CREATED:20260112T185159Z
LAST-MODIFIED:20260401T184432Z
UID:10003995-1774551600-1774555200@lclshome.org
SUMMARY:Families Helping Families
DESCRIPTION:Facilitators provide an educational series and support group for teens and their families affected by substance abuse. Co-sponsored by the Clear Brook Foundation. No registration required.
URL:https://lclshome.org/event/families-helping-families/2026-03-26/
LOCATION:Abington Community Library\, 1200 West Grove St.\, Clarks Summit\, PA\, 18411\, United States
CATEGORIES:Abington Community Library
ORGANIZER;CN="Michael Richardson":MAILTO:MRichardson@albright.org
END:VEVENT
END:VCALENDAR