BEGIN:VCALENDAR
VERSION:2.0
PRODID:-//Lackawanna County Library System - ECPv6.15.17.1//NONSGML v1.0//EN
CALSCALE:GREGORIAN
METHOD:PUBLISH
X-WR-CALNAME:Lackawanna County Library System
X-ORIGINAL-URL:https://lclshome.org
X-WR-CALDESC:Events for Lackawanna County Library System
REFRESH-INTERVAL;VALUE=DURATION:PT1H
X-Robots-Tag:noindex
X-PUBLISHED-TTL:PT1H
BEGIN:VTIMEZONE
TZID:America/New_York
BEGIN:DAYLIGHT
TZOFFSETFROM:-0500
TZOFFSETTO:-0400
TZNAME:EDT
DTSTART:20250309T070000
END:DAYLIGHT
BEGIN:STANDARD
TZOFFSETFROM:-0400
TZOFFSETTO:-0500
TZNAME:EST
DTSTART:20251102T060000
END:STANDARD
BEGIN:DAYLIGHT
TZOFFSETFROM:-0500
TZOFFSETTO:-0400
TZNAME:EDT
DTSTART:20260308T070000
END:DAYLIGHT
BEGIN:STANDARD
TZOFFSETFROM:-0400
TZOFFSETTO:-0500
TZNAME:EST
DTSTART:20261101T060000
END:STANDARD
BEGIN:DAYLIGHT
TZOFFSETFROM:-0500
TZOFFSETTO:-0400
TZNAME:EDT
DTSTART:20270314T070000
END:DAYLIGHT
BEGIN:STANDARD
TZOFFSETFROM:-0400
TZOFFSETTO:-0500
TZNAME:EST
DTSTART:20271107T060000
END:STANDARD
END:VTIMEZONE
BEGIN:VEVENT
DTSTART;TZID=America/New_York:20260406T090000
DTEND;TZID=America/New_York:20260406T210000
DTSTAMP:20260420T004714
CREATED:20260226T204256Z
LAST-MODIFIED:20260330T200549Z
UID:10004623-1775466000-1775509200@lclshome.org
SUMMARY:Teen Take and Make: DIY Bookmarks
DESCRIPTION:For teens ages 12-18 \n\nSign up to receive a take and make craft kit that contains everything you need to make a DIY bookmark using dried flowers and plants! \nKits will be available for pickup during the first full week of April. \nRegister by Monday\, March 30th to reserve a kit. \nEmail Kyler at kepstein@albright.org with any questions.
URL:https://lclshome.org/event/teen-take-and-make-diy-bookmarks/
LOCATION:Abington Community Library\, 1200 West Grove St.\, Clarks Summit\, PA\, 18411\, United States
CATEGORIES:Abington Community Library,Teens
ORGANIZER;CN="Kyler Epstein":MAILTO:kepstein@albright.org
END:VEVENT
BEGIN:VEVENT
DTSTART;TZID=America/New_York:20260406T130000
DTEND;TZID=America/New_York:20260406T150000
DTSTAMP:20260420T004714
CREATED:20250807T152132Z
LAST-MODIFIED:20260401T183141Z
UID:10002941-1775480400-1775487600@lclshome.org
SUMMARY:Caring Hands
DESCRIPTION:Do you knit or crochet? Join this group that creates delightful things for the Library and for the less fortunate. No registration required.
URL:https://lclshome.org/event/caring-hands/2026-04-06/
LOCATION:Abington Community Library\, 1200 West Grove St.\, Clarks Summit\, PA\, 18411\, United States
CATEGORIES:Abington Community Library
ORGANIZER;CN="Michael Richardson":MAILTO:MRichardson@albright.org
END:VEVENT
BEGIN:VEVENT
DTSTART;TZID=America/New_York:20260406T183000
DTEND;TZID=America/New_York:20260406T200000
DTSTAMP:20260420T004714
CREATED:20260112T191103Z
LAST-MODIFIED:20260112T191515Z
UID:10004006-1775500200-1775505600@lclshome.org
SUMMARY:B.A.M. Quilt Group- Disappearing Nine Patch Quilt
DESCRIPTION:Join our B.A.M. Quilt Group for a 9 week class. Attendees must commit to the majority of the sessions. A materials list will be provided at the first session for attendees to purchase for class to work on their very own Disappearing Nine Patch Quilt. Basic sewing skills required. Registration is limited and required. E-mail MRichardson@albright.org with any questions you may have.
URL:https://lclshome.org/event/b-a-m-quilt-group-disappearing-nine-patch-quilt-2/2026-04-06/
LOCATION:Abington Community Library\, 1200 West Grove St.\, Clarks Summit\, PA\, 18411\, United States
CATEGORIES:Abington Community Library
ORGANIZER;CN="Michael Richardson":MAILTO:MRichardson@albright.org
END:VEVENT
END:VCALENDAR