BEGIN:VCALENDAR
VERSION:2.0
PRODID:-//Lackawanna County Library System - ECPv6.15.17.1//NONSGML v1.0//EN
CALSCALE:GREGORIAN
METHOD:PUBLISH
X-WR-CALNAME:Lackawanna County Library System
X-ORIGINAL-URL:https://lclshome.org
X-WR-CALDESC:Events for Lackawanna County Library System
REFRESH-INTERVAL;VALUE=DURATION:PT1H
X-Robots-Tag:noindex
X-PUBLISHED-TTL:PT1H
BEGIN:VTIMEZONE
TZID:America/New_York
BEGIN:DAYLIGHT
TZOFFSETFROM:-0500
TZOFFSETTO:-0400
TZNAME:EDT
DTSTART:20250309T070000
END:DAYLIGHT
BEGIN:STANDARD
TZOFFSETFROM:-0400
TZOFFSETTO:-0500
TZNAME:EST
DTSTART:20251102T060000
END:STANDARD
BEGIN:DAYLIGHT
TZOFFSETFROM:-0500
TZOFFSETTO:-0400
TZNAME:EDT
DTSTART:20260308T070000
END:DAYLIGHT
BEGIN:STANDARD
TZOFFSETFROM:-0400
TZOFFSETTO:-0500
TZNAME:EST
DTSTART:20261101T060000
END:STANDARD
BEGIN:DAYLIGHT
TZOFFSETFROM:-0500
TZOFFSETTO:-0400
TZNAME:EDT
DTSTART:20270314T070000
END:DAYLIGHT
BEGIN:STANDARD
TZOFFSETFROM:-0400
TZOFFSETTO:-0500
TZNAME:EST
DTSTART:20271107T060000
END:STANDARD
END:VTIMEZONE
BEGIN:VEVENT
DTSTART;TZID=America/New_York:20260408T100000
DTEND;TZID=America/New_York:20260408T110000
DTSTAMP:20260420T004715
CREATED:20260306T191027Z
LAST-MODIFIED:20260306T191027Z
UID:10004866-1775642400-1775646000@lclshome.org
SUMMARY:Block Party
DESCRIPTION:Join us for free play time with our large selection of blocks and toys. For ages 2-5; siblings welcome. Please register.
URL:https://lclshome.org/event/block-party-5/
LOCATION:Abington Community Library\, 1200 West Grove St.\, Clarks Summit\, PA\, 18411\, United States
CATEGORIES:Abington Community Library,Kids
ORGANIZER;CN="Nancy Burke":MAILTO:nburke@albright.org
END:VEVENT
BEGIN:VEVENT
DTSTART;TZID=America/New_York:20260408T180000
DTEND;TZID=America/New_York:20260408T183000
DTSTAMP:20260420T004715
CREATED:20260303T013133Z
LAST-MODIFIED:20260303T013133Z
UID:10004731-1775671200-1775673000@lclshome.org
SUMMARY:Tail Waggin' Tutors Session 1
DESCRIPTION:Tail Waggin’ Tutors program is designed to boost your child’s reading skills in a fun and furry way! Let your kids read aloud to certified therapy dogs who are eager to listen and provide gentle encouragement. It’s a paws-itively awesome opportunity for your kids to gain confidence and enjoy the magic of reading. \nStop by the craft table while waiting for a turn. \nFor kids ages 5-11. \nThis program is split into 2 half hour sessions so you can register your child(ren) for the 6:00-6:30 session or the 6:30- 7:00 session. \nWe ask that when you register you only count the child(ren). Please include all children participating in the guest count. \nPlease register. If program is full please email Miss Leigh-Ann at lpuchalski@albright.org to be added to the waitlist.
URL:https://lclshome.org/event/tail-waggin-tutors-april-8-6pm/
LOCATION:Abington Community Library\, 1200 West Grove St.\, Clarks Summit\, PA\, 18411\, United States
CATEGORIES:Abington Community Library,Kids
ORGANIZER;CN="Leigh-Ann Puchalski":MAILTO:lpuchalski@albright.org
END:VEVENT
BEGIN:VEVENT
DTSTART;TZID=America/New_York:20260408T180000
DTEND;TZID=America/New_York:20260408T190000
DTSTAMP:20260420T004715
CREATED:20260305T160121Z
LAST-MODIFIED:20260305T160121Z
UID:10004819-1775671200-1775674800@lclshome.org
SUMMARY:Stress Management: Shifting Your Mindset About Stress
DESCRIPTION:Join Magee Allegrucci for a thoughtful conversation about stress and how we experience it. Together we’ll examine how our mindset shapes our stress response and learn practical ways to feel steadier as we navigate work\, relationships\, and the roles we care about. You’ll leave with tools you can use in your own life and a new way of relating to stress. For adults. Registration required.
URL:https://lclshome.org/event/stress-management-shifting-your-mindset-about-stress/
LOCATION:Abington Community Library\, 1200 West Grove St.\, Clarks Summit\, PA\, 18411\, United States
CATEGORIES:Abington Community Library
ORGANIZER;CN="Michael Richardson":MAILTO:MRichardson@albright.org
END:VEVENT
BEGIN:VEVENT
DTSTART;TZID=America/New_York:20260408T183000
DTEND;TZID=America/New_York:20260408T190000
DTSTAMP:20260420T004715
CREATED:20260303T013150Z
LAST-MODIFIED:20260303T013150Z
UID:10004732-1775673000-1775674800@lclshome.org
SUMMARY:Tail Waggin' Tutors Session 2
DESCRIPTION:Tail Waggin’ Tutors program is designed to boost your child’s reading skills in a fun and furry way! Let your kids read aloud to certified therapy dogs who are eager to listen and provide gentle encouragement. It’s a paws-itively awesome opportunity for your kids to gain confidence and enjoy the magic of reading. \nStop by the craft table while waiting for a turn. \nFor kids ages 5-11. \nThis program is split into 2 half hour sessions so you can register your child(ren) for the 6:00-6:30 session or the 6:30- 7:00 session. \nWe ask that when you register you only count the child(ren). Please include all children participating in the guest count. \nPlease register. If program is full please email Miss Leigh-Ann at lpuchalski@albright.org to be added to the waitlist.
URL:https://lclshome.org/event/tail-waggin-tutors-april-8-630pm/
LOCATION:Abington Community Library\, 1200 West Grove St.\, Clarks Summit\, PA\, 18411\, United States
CATEGORIES:Abington Community Library,Kids
ORGANIZER;CN="Leigh-Ann Puchalski":MAILTO:lpuchalski@albright.org
END:VEVENT
END:VCALENDAR