BEGIN:VCALENDAR
VERSION:2.0
PRODID:-//Lackawanna County Library System - ECPv6.15.17.1//NONSGML v1.0//EN
CALSCALE:GREGORIAN
METHOD:PUBLISH
X-ORIGINAL-URL:https://lclshome.org
X-WR-CALDESC:Events for Lackawanna County Library System
REFRESH-INTERVAL;VALUE=DURATION:PT1H
X-Robots-Tag:noindex
X-PUBLISHED-TTL:PT1H
BEGIN:VTIMEZONE
TZID:America/New_York
BEGIN:DAYLIGHT
TZOFFSETFROM:-0500
TZOFFSETTO:-0400
TZNAME:EDT
DTSTART:20250309T070000
END:DAYLIGHT
BEGIN:STANDARD
TZOFFSETFROM:-0400
TZOFFSETTO:-0500
TZNAME:EST
DTSTART:20251102T060000
END:STANDARD
BEGIN:DAYLIGHT
TZOFFSETFROM:-0500
TZOFFSETTO:-0400
TZNAME:EDT
DTSTART:20260308T070000
END:DAYLIGHT
BEGIN:STANDARD
TZOFFSETFROM:-0400
TZOFFSETTO:-0500
TZNAME:EST
DTSTART:20261101T060000
END:STANDARD
BEGIN:DAYLIGHT
TZOFFSETFROM:-0500
TZOFFSETTO:-0400
TZNAME:EDT
DTSTART:20270314T070000
END:DAYLIGHT
BEGIN:STANDARD
TZOFFSETFROM:-0400
TZOFFSETTO:-0500
TZNAME:EST
DTSTART:20271107T060000
END:STANDARD
END:VTIMEZONE
BEGIN:VEVENT
DTSTART;TZID=America/New_York:20260415T100000
DTEND;TZID=America/New_York:20260415T103000
DTSTAMP:20260420T005107
CREATED:20260318T232026Z
LAST-MODIFIED:20260318T232026Z
UID:10005124-1776247200-1776249000@lclshome.org
SUMMARY:Terrific Tales
DESCRIPTION:Join Mrs. Burke for stories\, songs\, and rhymes! For ages 2-3; siblings welcome. Please register.
URL:https://lclshome.org/event/terrific-tales-23/
LOCATION:Abington Community Library\, 1200 West Grove St.\, Clarks Summit\, PA\, 18411\, United States
CATEGORIES:Abington Community Library,Kids
ORGANIZER;CN="Nancy Burke":MAILTO:nburke@albright.org
END:VEVENT
BEGIN:VEVENT
DTSTART;TZID=America/New_York:20260415T110000
DTEND;TZID=America/New_York:20260415T113000
DTSTAMP:20260420T005107
CREATED:20260318T232236Z
LAST-MODIFIED:20260318T232236Z
UID:10005125-1776250800-1776252600@lclshome.org
SUMMARY:Terrific Tales
DESCRIPTION:Join Mrs. Burke for stories\, songs\, and rhymes! For ages 2-3; siblings welcome. Please register.
URL:https://lclshome.org/event/terrific-tales-24/
LOCATION:Abington Community Library\, 1200 West Grove St.\, Clarks Summit\, PA\, 18411\, United States
CATEGORIES:Abington Community Library,Kids
ORGANIZER;CN="Nancy Burke":MAILTO:nburke@albright.org
END:VEVENT
BEGIN:VEVENT
DTSTART;TZID=America/New_York:20260415T180000
DTEND;TZID=America/New_York:20260415T190000
DTSTAMP:20260420T005107
CREATED:20260326T170736Z
LAST-MODIFIED:20260326T170736Z
UID:10005198-1776276000-1776279600@lclshome.org
SUMMARY:Boston Tea Party: Analyzing Key Features\, Events\, and Ideas
DESCRIPTION:Join Katie Leach as we look at the events of the Boston Tea Party in the bigger picture of America’s role in the British Empire and why the Boston Tea Party was so significant in the rebellion against Britain. We will discuss interesting facts about the Boston Tea Party and end with latest battle about tea between the U.K. and the U.S.! Registration required.
URL:https://lclshome.org/event/boston-tea-party-analyzing-key-features-events-and-ideas/
LOCATION:Abington Community Library\, 1200 West Grove St.\, Clarks Summit\, PA\, 18411\, United States
CATEGORIES:Abington Community Library
ORGANIZER;CN="Michael Richardson":MAILTO:MRichardson@albright.org
END:VEVENT
END:VCALENDAR