BEGIN:VCALENDAR
VERSION:2.0
PRODID:-//Lackawanna County Library System - ECPv6.15.17.1//NONSGML v1.0//EN
CALSCALE:GREGORIAN
METHOD:PUBLISH
X-WR-CALNAME:Lackawanna County Library System
X-ORIGINAL-URL:https://lclshome.org
X-WR-CALDESC:Events for Lackawanna County Library System
REFRESH-INTERVAL;VALUE=DURATION:PT1H
X-Robots-Tag:noindex
X-PUBLISHED-TTL:PT1H
BEGIN:VTIMEZONE
TZID:America/New_York
BEGIN:DAYLIGHT
TZOFFSETFROM:-0500
TZOFFSETTO:-0400
TZNAME:EDT
DTSTART:20250309T070000
END:DAYLIGHT
BEGIN:STANDARD
TZOFFSETFROM:-0400
TZOFFSETTO:-0500
TZNAME:EST
DTSTART:20251102T060000
END:STANDARD
BEGIN:DAYLIGHT
TZOFFSETFROM:-0500
TZOFFSETTO:-0400
TZNAME:EDT
DTSTART:20260308T070000
END:DAYLIGHT
BEGIN:STANDARD
TZOFFSETFROM:-0400
TZOFFSETTO:-0500
TZNAME:EST
DTSTART:20261101T060000
END:STANDARD
BEGIN:DAYLIGHT
TZOFFSETFROM:-0500
TZOFFSETTO:-0400
TZNAME:EDT
DTSTART:20270314T070000
END:DAYLIGHT
BEGIN:STANDARD
TZOFFSETFROM:-0400
TZOFFSETTO:-0500
TZNAME:EST
DTSTART:20271107T060000
END:STANDARD
END:VTIMEZONE
BEGIN:VEVENT
DTSTART;TZID=America/New_York:20260417T100000
DTEND;TZID=America/New_York:20260417T103000
DTSTAMP:20260420T004716
CREATED:20260319T162648Z
LAST-MODIFIED:20260319T162648Z
UID:10005141-1776420000-1776421800@lclshome.org
SUMMARY:Music and Rhyme Wiggle Time
DESCRIPTION:Join Mrs. Burke for songs\, rhymes\, stories\, and bubbles too! Recommended for ages birth-2; siblings welcome. Please register.
URL:https://lclshome.org/event/music-and-rhyme-wiggle-time-17/
LOCATION:Abington Community Library\, 1200 West Grove St.\, Clarks Summit\, PA\, 18411\, United States
CATEGORIES:Abington Community Library,Kids
ORGANIZER;CN="Nancy Burke":MAILTO:nburke@albright.org
END:VEVENT
BEGIN:VEVENT
DTSTART;TZID=America/New_York:20260417T110000
DTEND;TZID=America/New_York:20260417T113000
DTSTAMP:20260420T004716
CREATED:20260319T162914Z
LAST-MODIFIED:20260319T162914Z
UID:10005142-1776423600-1776425400@lclshome.org
SUMMARY:Music and Rhyme Wiggle Time
DESCRIPTION:Join Mrs. Burke for songs\, rhymes\, stories\, and bubbles too! Recommended for ages birth-2; siblings welcome. Please register.
URL:https://lclshome.org/event/music-and-rhyme-wiggle-time-18/
LOCATION:Abington Community Library\, 1200 West Grove St.\, Clarks Summit\, PA\, 18411\, United States
CATEGORIES:Abington Community Library,Kids
ORGANIZER;CN="Nancy Burke":MAILTO:nburke@albright.org
END:VEVENT
BEGIN:VEVENT
DTSTART;TZID=America/New_York:20260417T120000
DTEND;TZID=America/New_York:20260417T130000
DTSTAMP:20260420T004716
CREATED:20250828T135635Z
LAST-MODIFIED:20260401T184945Z
UID:10002085-1776427200-1776430800@lclshome.org
SUMMARY:Conversational Italian Class
DESCRIPTION:Join us for our weekly class delving into beginner conversational Italian\, grammar\, vocabulary\, and culture.
URL:https://lclshome.org/event/conversational-italian-class/2026-04-17/
LOCATION:Abington Community Library\, 1200 West Grove St.\, Clarks Summit\, PA\, 18411\, United States
CATEGORIES:Abington Community Library
ORGANIZER;CN="Michael Richardson":MAILTO:MRichardson@albright.org
END:VEVENT
BEGIN:VEVENT
DTSTART;TZID=America/New_York:20260417T170000
DTEND;TZID=America/New_York:20260417T200000
DTSTAMP:20260420T004716
CREATED:20260122T174654Z
LAST-MODIFIED:20260122T174654Z
UID:10004088-1776445200-1776456000@lclshome.org
SUMMARY:Friends of the Abington Community Library Spring Book Sale Preview
DESCRIPTION:Preview sale for Friends members. Join or renew your membership at the sale. Annual Friends membership is $10/individual or $15/family. \nBrowse through thousands of adult\, teen\, and children’s books\, audio-books\, CDs and DVDs. Prices $.25 – $2.00. Credit cards accepted. If possible\, please bring your own bags for your purchases. Proceeds benefit the library through the purchase of new materials\, programs\, and much more!
URL:https://lclshome.org/event/friends-of-the-abington-community-library-spring-book-sale-preview-2/
LOCATION:Clarks Summit United Methodist Church\, 1301 Morgan Highway\, Clarks Summit\, PA\, 18411\, United States
CATEGORIES:Abington Community Library,Kids,Teens
ORGANIZER;CN="Nancy Burke":MAILTO:nburke@albright.org
END:VEVENT
BEGIN:VEVENT
DTSTART;TZID=America/New_York:20260417T180000
DTEND;TZID=America/New_York:20260417T200000
DTSTAMP:20260420T004717
CREATED:20260306T201550Z
LAST-MODIFIED:20260306T201550Z
UID:10004881-1776448800-1776456000@lclshome.org
SUMMARY:Peter Rabbit 2 Family Movie Night
DESCRIPTION:Join us for a fun evening as we watch Peter Rabbit 2 and enjoy treats and snacks too! \nPeter\, feeling misunderstood and unappreciated by his adopted family\, leaves the garden for the big city. There\, he joins a group of older animals\, gets involved in a heist\, and must decide what kind of bunny he wants to be. \nFor all ages. Please register. \n  \n 
URL:https://lclshome.org/event/peter-rabbit-2-family-movie-night/
LOCATION:Abington Community Library\, 1200 West Grove St.\, Clarks Summit\, PA\, 18411\, United States
CATEGORIES:Abington Community Library,Kids,Teens
ORGANIZER;CN="Nancy Burke":MAILTO:nburke@albright.org
END:VEVENT
END:VCALENDAR