BEGIN:VCALENDAR
VERSION:2.0
PRODID:-//Lackawanna County Library System - ECPv6.15.17.1//NONSGML v1.0//EN
CALSCALE:GREGORIAN
METHOD:PUBLISH
X-WR-CALNAME:Lackawanna County Library System
X-ORIGINAL-URL:https://lclshome.org
X-WR-CALDESC:Events for Lackawanna County Library System
REFRESH-INTERVAL;VALUE=DURATION:PT1H
X-Robots-Tag:noindex
X-PUBLISHED-TTL:PT1H
BEGIN:VTIMEZONE
TZID:America/New_York
BEGIN:DAYLIGHT
TZOFFSETFROM:-0500
TZOFFSETTO:-0400
TZNAME:EDT
DTSTART:20250309T070000
END:DAYLIGHT
BEGIN:STANDARD
TZOFFSETFROM:-0400
TZOFFSETTO:-0500
TZNAME:EST
DTSTART:20251102T060000
END:STANDARD
BEGIN:DAYLIGHT
TZOFFSETFROM:-0500
TZOFFSETTO:-0400
TZNAME:EDT
DTSTART:20260308T070000
END:DAYLIGHT
BEGIN:STANDARD
TZOFFSETFROM:-0400
TZOFFSETTO:-0500
TZNAME:EST
DTSTART:20261101T060000
END:STANDARD
BEGIN:DAYLIGHT
TZOFFSETFROM:-0500
TZOFFSETTO:-0400
TZNAME:EDT
DTSTART:20270314T070000
END:DAYLIGHT
BEGIN:STANDARD
TZOFFSETFROM:-0400
TZOFFSETTO:-0500
TZNAME:EST
DTSTART:20271107T060000
END:STANDARD
END:VTIMEZONE
BEGIN:VEVENT
DTSTART;TZID=America/New_York:20260422T100000
DTEND;TZID=America/New_York:20260422T103000
DTSTAMP:20260420T004737
CREATED:20260318T232458Z
LAST-MODIFIED:20260318T232458Z
UID:10005126-1776852000-1776853800@lclshome.org
SUMMARY:Terrific Tales
DESCRIPTION:Join Mrs. Burke for stories\, songs\, and rhymes! For ages 2-3; siblings welcome. Please register.
URL:https://lclshome.org/event/terrific-tales-25/
LOCATION:Abington Community Library\, 1200 West Grove St.\, Clarks Summit\, PA\, 18411\, United States
CATEGORIES:Abington Community Library,Kids
ORGANIZER;CN="Nancy Burke":MAILTO:nburke@albright.org
END:VEVENT
BEGIN:VEVENT
DTSTART;TZID=America/New_York:20260422T110000
DTEND;TZID=America/New_York:20260422T113000
DTSTAMP:20260420T004737
CREATED:20260318T232712Z
LAST-MODIFIED:20260318T232712Z
UID:10005127-1776855600-1776857400@lclshome.org
SUMMARY:Terrific Tales
DESCRIPTION:Join Mrs. Burke for stories\, songs\, and rhymes! For ages 2-3; siblings welcome. Please register.
URL:https://lclshome.org/event/terrific-tales-26/
LOCATION:Abington Community Library\, 1200 West Grove St.\, Clarks Summit\, PA\, 18411\, United States
CATEGORIES:Abington Community Library,Kids
ORGANIZER;CN="Nancy Burke":MAILTO:nburke@albright.org
END:VEVENT
BEGIN:VEVENT
DTSTART;TZID=America/New_York:20260422T160000
DTEND;TZID=America/New_York:20260422T170000
DTSTAMP:20260420T004737
CREATED:20260311T110053Z
LAST-MODIFIED:20260305T013255Z
UID:10004815-1776873600-1776877200@lclshome.org
SUMMARY:LEGO Construction Crew
DESCRIPTION:Design\, create and build with LEGOs and friends! All materials will be provided. \nFor ages 5-11. \nPlease register. \nIf program is full please email Miss Leigh-Ann at lpuchalski@albright.org to be added to the waitlist.
URL:https://lclshome.org/event/lego-construction-crew-4/
LOCATION:Abington Community Library\, 1200 West Grove St.\, Clarks Summit\, PA\, 18411\, United States
CATEGORIES:Abington Community Library,Kids
ORGANIZER;CN="Leigh-Ann Puchalski":MAILTO:lpuchalski@albright.org
END:VEVENT
BEGIN:VEVENT
DTSTART;TZID=America/New_York:20260422T180000
DTEND;TZID=America/New_York:20260422T190000
DTSTAMP:20260420T004737
CREATED:20260401T190341Z
LAST-MODIFIED:20260408T185806Z
UID:10005312-1776880800-1776884400@lclshome.org
SUMMARY:Personalize Your Cell Phone Settings
DESCRIPTION:Join the Abington Heights High School Cleo Club (our Teen Tech Tutors) and learn how to make the most of your cell phone settings. \nLearn how to: \n\nSelect or change your lock screen photo and wallpaper\,\nCreate a special ringtone for each family member or close friend\,\nAdjust your font size and brightness\,\nSet up a Face ID and passcode\, and\nHow to share your location with family and close friends.\n\nFollowing the conclusion of the program\, students will remain to answer any other technology related questions. \nEmail; jdetter@albright.org with questions. \n 
URL:https://lclshome.org/event/personalize-cell-phone-settings/
LOCATION:Abington Community Library\, 1200 West Grove St.\, Clarks Summit\, PA\, 18411\, United States
CATEGORIES:Abington Community Library
ORGANIZER;CN="Judy Detter":MAILTO:jdetter@albright.org
END:VEVENT
BEGIN:VEVENT
DTSTART;TZID=America/New_York:20260422T180000
DTEND;TZID=America/New_York:20260422T193000
DTSTAMP:20260420T004737
CREATED:20260323T212805Z
LAST-MODIFIED:20260323T212948Z
UID:10005164-1776880800-1776886200@lclshome.org
SUMMARY:The Healing Methods of Edgar Cayce
DESCRIPTION:Join Henry Bieryla for an engaging talk focusing on the timeless health insights of Edgar Cayce. We will explore Cayce’s unique approach to nutrition\, natural healing\, and detoxification\, emphasizing how the body can restore balance when given the proper support. This will be an introduction to Cayce’s philosophy that true health comes from aligning the physical\, mental\, and spiritual aspects of life. Throughout the talk\, we will walk through key modalities recommended in Cayce’s readings\, including dietary adjustments\, cleansing practices\, and holistic therapies designed to stimulate the body’s natural healing processes. We will highlight practical\, everyday strategies that individuals can incorporate into their routines\, focusing on prevention as well as recovery. The event offers a thoughtful overview of Cayce’s most important principles\, giving attendees a clearer understanding of how to apply these ideas to improve overall well-being.
URL:https://lclshome.org/event/the-healing-methods-of-edgar-cayce/
LOCATION:Abington Community Library\, 1200 West Grove St.\, Clarks Summit\, PA\, 18411\, United States
CATEGORIES:Abington Community Library
ORGANIZER;CN="Michael Richardson":MAILTO:MRichardson@albright.org
END:VEVENT
END:VCALENDAR