BEGIN:VCALENDAR
VERSION:2.0
PRODID:-//Lackawanna County Library System - ECPv6.15.17.1//NONSGML v1.0//EN
CALSCALE:GREGORIAN
METHOD:PUBLISH
X-ORIGINAL-URL:https://lclshome.org
X-WR-CALDESC:Events for Lackawanna County Library System
REFRESH-INTERVAL;VALUE=DURATION:PT1H
X-Robots-Tag:noindex
X-PUBLISHED-TTL:PT1H
BEGIN:VTIMEZONE
TZID:America/New_York
BEGIN:DAYLIGHT
TZOFFSETFROM:-0500
TZOFFSETTO:-0400
TZNAME:EDT
DTSTART:20250309T070000
END:DAYLIGHT
BEGIN:STANDARD
TZOFFSETFROM:-0400
TZOFFSETTO:-0500
TZNAME:EST
DTSTART:20251102T060000
END:STANDARD
BEGIN:DAYLIGHT
TZOFFSETFROM:-0500
TZOFFSETTO:-0400
TZNAME:EDT
DTSTART:20260308T070000
END:DAYLIGHT
BEGIN:STANDARD
TZOFFSETFROM:-0400
TZOFFSETTO:-0500
TZNAME:EST
DTSTART:20261101T060000
END:STANDARD
BEGIN:DAYLIGHT
TZOFFSETFROM:-0500
TZOFFSETTO:-0400
TZNAME:EDT
DTSTART:20270314T070000
END:DAYLIGHT
BEGIN:STANDARD
TZOFFSETFROM:-0400
TZOFFSETTO:-0500
TZNAME:EST
DTSTART:20271107T060000
END:STANDARD
END:VTIMEZONE
BEGIN:VEVENT
DTSTART;TZID=America/New_York:20260513T100000
DTEND;TZID=America/New_York:20260513T103000
DTSTAMP:20260420T023408
CREATED:20260319T161241Z
LAST-MODIFIED:20260319T161241Z
UID:10005137-1778666400-1778668200@lclshome.org
SUMMARY:Terrific Tales
DESCRIPTION:Join Mrs. Burke for stories\, songs\, and rhymes! For ages 2-3; siblings welcome. Please register.
URL:https://lclshome.org/event/terrific-tales-31/
LOCATION:Abington Community Library\, 1200 West Grove St.\, Clarks Summit\, PA\, 18411\, United States
CATEGORIES:Abington Community Library,Kids
ORGANIZER;CN="Nancy Burke":MAILTO:nburke@albright.org
END:VEVENT
BEGIN:VEVENT
DTSTART;TZID=America/New_York:20260513T110000
DTEND;TZID=America/New_York:20260513T113000
DTSTAMP:20260420T023408
CREATED:20260319T161710Z
LAST-MODIFIED:20260319T161710Z
UID:10005138-1778670000-1778671800@lclshome.org
SUMMARY:Terrific Tales
DESCRIPTION:Join Mrs. Burke for stories\, songs\, and rhymes! For ages 2-3; siblings welcome. Please register.
URL:https://lclshome.org/event/terrific-tales-32/
LOCATION:Abington Community Library\, 1200 West Grove St.\, Clarks Summit\, PA\, 18411\, United States
CATEGORIES:Abington Community Library,Kids
ORGANIZER;CN="Nancy Burke":MAILTO:nburke@albright.org
END:VEVENT
BEGIN:VEVENT
DTSTART;TZID=America/New_York:20260513T133000
DTEND;TZID=America/New_York:20260513T153000
DTSTAMP:20260420T023408
CREATED:20260406T153005Z
LAST-MODIFIED:20260406T153043Z
UID:10005344-1778679000-1778686200@lclshome.org
SUMMARY:Movie Fans Matinee: How to Marry a Millionaire
DESCRIPTION:Join us for a matinee movie showing celebrating 100 Years of Marilyn Monroe. On Wednesday\, May 13 we will be showing the film “How to Marry a Millionaire.” \nThe story follows three women who set out to find eligible millionaires to marry\, but find true love in the process. \nRegister below.
URL:https://lclshome.org/event/movie-fans-matinee-htmam/
LOCATION:Abington Community Library\, 1200 West Grove St.\, Clarks Summit\, PA\, 18411\, United States
CATEGORIES:Abington Community Library
ORGANIZER;CN="Michael Richardson":MAILTO:MRichardson@albright.org
END:VEVENT
BEGIN:VEVENT
DTSTART;TZID=America/New_York:20260513T180000
DTEND;TZID=America/New_York:20260513T183000
DTSTAMP:20260420T023408
CREATED:20260406T201822Z
LAST-MODIFIED:20260406T201822Z
UID:10005368-1778695200-1778697000@lclshome.org
SUMMARY:Tail Waggin' Tutors Session 1
DESCRIPTION:Tail Waggin’ Tutors program is designed to boost your child’s reading skills in a fun and furry way! Let your kids read aloud to certified therapy dogs who are eager to listen and provide gentle encouragement. It’s a paws-itively awesome opportunity for your kids to gain confidence and enjoy the magic of reading. \nStop by the craft table while waiting for a turn. \nFor kids ages 5-11. \nThis program is split into 2 half hour sessions so you can register your child(ren) for the 6:00-6:30 session or the 6:30- 7:00 session. \nWe ask that when you register you only count the child(ren). Please include all children participating in the guest count. \nPlease register. If program is full please email Miss Leigh-Ann at lpuchalski@albright.org to be added to the waitlist.
URL:https://lclshome.org/event/tail-waggin-tutors-session-1-5/
LOCATION:Abington Community Library\, 1200 West Grove St.\, Clarks Summit\, PA\, 18411\, United States
CATEGORIES:Abington Community Library,Kids
ORGANIZER;CN="Leigh-Ann Puchalski":MAILTO:lpuchalski@albright.org
END:VEVENT
BEGIN:VEVENT
DTSTART;TZID=America/New_York:20260513T180000
DTEND;TZID=America/New_York:20260513T193000
DTSTAMP:20260420T023408
CREATED:20260401T175231Z
LAST-MODIFIED:20260402T130616Z
UID:10005268-1778695200-1778700600@lclshome.org
SUMMARY:Lily Watercolor Class with Tulasi Goli
DESCRIPTION:Join Tulasi Goli for a watercolor class where you will create a beautiful 9” x 12” artwork featuring the delicate charm of Calla Lily. Perfect for beginners and experienced artists alike\, this session will guide you through techniques to bring these timeless flowers to life with color and flow. Explore the beauty of watercolor in a relaxed\, creative setting. All supplies will be provided. $20 materials fee due at time of sign-up. For adults. Registration required in person.
URL:https://lclshome.org/event/lily-watercolor-class-with-tulasi-goli/
LOCATION:Abington Community Library\, 1200 West Grove St.\, Clarks Summit\, PA\, 18411\, United States
CATEGORIES:Abington Community Library
ORGANIZER;CN="Michael Richardson":MAILTO:MRichardson@albright.org
END:VEVENT
BEGIN:VEVENT
DTSTART;TZID=America/New_York:20260513T183000
DTEND;TZID=America/New_York:20260513T190000
DTSTAMP:20260420T023408
CREATED:20260406T201845Z
LAST-MODIFIED:20260406T201845Z
UID:10005369-1778697000-1778698800@lclshome.org
SUMMARY:Tail Waggin' Tutors Session 2
DESCRIPTION:Tail Waggin’ Tutors program is designed to boost your child’s reading skills in a fun and furry way! Let your kids read aloud to certified therapy dogs who are eager to listen and provide gentle encouragement. It’s a paws-itively awesome opportunity for your kids to gain confidence and enjoy the magic of reading. \nStop by the craft table while waiting for a turn. \nFor kids ages 5-11. \nThis program is split into 2 half hour sessions so you can register your child(ren) for the 6:00-6:30 session or the 6:30- 7:00 session. \nWe ask that when you register you only count the child(ren). Please include all children participating in the guest count. \nPlease register. If program is full please email Miss Leigh-Ann at lpuchalski@albright.org to be added to the waitlist.
URL:https://lclshome.org/event/tail-waggin-tutors-session-2-5/
LOCATION:Abington Community Library\, 1200 West Grove St.\, Clarks Summit\, PA\, 18411\, United States
CATEGORIES:Abington Community Library,Kids
ORGANIZER;CN="Leigh-Ann Puchalski":MAILTO:lpuchalski@albright.org
END:VEVENT
END:VCALENDAR