BEGIN:VCALENDAR
VERSION:2.0
PRODID:-//Lackawanna County Library System - ECPv6.15.17.1//NONSGML v1.0//EN
CALSCALE:GREGORIAN
METHOD:PUBLISH
X-ORIGINAL-URL:https://lclshome.org
X-WR-CALDESC:Events for Lackawanna County Library System
REFRESH-INTERVAL;VALUE=DURATION:PT1H
X-Robots-Tag:noindex
X-PUBLISHED-TTL:PT1H
BEGIN:VTIMEZONE
TZID:America/New_York
BEGIN:DAYLIGHT
TZOFFSETFROM:-0500
TZOFFSETTO:-0400
TZNAME:EDT
DTSTART:20250309T070000
END:DAYLIGHT
BEGIN:STANDARD
TZOFFSETFROM:-0400
TZOFFSETTO:-0500
TZNAME:EST
DTSTART:20251102T060000
END:STANDARD
BEGIN:DAYLIGHT
TZOFFSETFROM:-0500
TZOFFSETTO:-0400
TZNAME:EDT
DTSTART:20260308T070000
END:DAYLIGHT
BEGIN:STANDARD
TZOFFSETFROM:-0400
TZOFFSETTO:-0500
TZNAME:EST
DTSTART:20261101T060000
END:STANDARD
BEGIN:DAYLIGHT
TZOFFSETFROM:-0500
TZOFFSETTO:-0400
TZNAME:EDT
DTSTART:20270314T070000
END:DAYLIGHT
BEGIN:STANDARD
TZOFFSETFROM:-0400
TZOFFSETTO:-0500
TZNAME:EST
DTSTART:20271107T060000
END:STANDARD
END:VTIMEZONE
BEGIN:VEVENT
DTSTART;TZID=America/New_York:20260514T123000
DTEND;TZID=America/New_York:20260514T153000
DTSTAMP:20260420T023306
CREATED:20250807T163459Z
LAST-MODIFIED:20260401T183911Z
UID:10005289-1778761800-1778772600@lclshome.org
SUMMARY:Scrabble Group
DESCRIPTION:Stretch your brain with an afternoon Scrabble match and join a friendly competition against fellow word enthusiasts. \n 
URL:https://lclshome.org/event/scrabble-group/2026-05-14/
LOCATION:Abington Community Library\, 1200 West Grove St.\, Clarks Summit\, PA\, 18411\, United States
CATEGORIES:Abington Community Library
ORGANIZER;CN="Michael Richardson":MAILTO:MRichardson@albright.org
END:VEVENT
BEGIN:VEVENT
DTSTART;TZID=America/New_York:20260514T123000
DTEND;TZID=America/New_York:20260514T153000
DTSTAMP:20260420T023306
CREATED:20250905T142921Z
LAST-MODIFIED:20260401T184105Z
UID:10005295-1778761800-1778772600@lclshome.org
SUMMARY:Thursdays Together
DESCRIPTION:Join us for a chill weekly hangout at the Library! No agenda. No pressure. No registration. Just good vibes\, great convos\, and a seat waiting for you. Drop in anytime. Pull up a chair and stay as long as you’d like. Everyone’s welcome!
URL:https://lclshome.org/event/thursdays-together-2/2026-05-14/
LOCATION:Abington Community Library\, 1200 West Grove St.\, Clarks Summit\, PA\, 18411\, United States
CATEGORIES:Abington Community Library
ORGANIZER;CN="Michael Richardson":MAILTO:MRichardson@albright.org
END:VEVENT
BEGIN:VEVENT
DTSTART;TZID=America/New_York:20260514T163000
DTEND;TZID=America/New_York:20260514T173000
DTSTAMP:20260420T023306
CREATED:20260408T155617Z
LAST-MODIFIED:20260408T155617Z
UID:10005535-1778776200-1778779800@lclshome.org
SUMMARY:Youth Yard and Garden Safety
DESCRIPTION:For kids and teens ages 8-18 \nJoin us for a garden safety course with registered nurse Kathryn Bommer and our garden expert Kristin Armstrong! We’ll discuss how to be safe when gardening and what to do in the case of bee stings\, snake bites\, and other common outdoor injuries. \nPlease email Kyler at kepstein@albright.org with any questions.
URL:https://lclshome.org/event/youth-yard-and-garden-safety/
LOCATION:Abington Community Library\, 1200 West Grove St.\, Clarks Summit\, PA\, 18411\, United States
CATEGORIES:Abington Community Library,Kids,Teens
ORGANIZER;CN="Kyler Epstein":MAILTO:kepstein@albright.org
END:VEVENT
BEGIN:VEVENT
DTSTART;TZID=America/New_York:20260514T180000
DTEND;TZID=America/New_York:20260514T190000
DTSTAMP:20260420T023306
CREATED:20260413T160320Z
LAST-MODIFIED:20260413T182238Z
UID:10005585-1778781600-1778785200@lclshome.org
SUMMARY:Yard & Garden Safety
DESCRIPTION:Join Kathryn Bommer\, MSN\, RN and Trauma Education Outreach Coordinator at Geisinger for tips on maintaining outdoor spaces safely. \n\nProtecting yourself from injuries\,\nWearing protective gear\,\nUsing and storing tools properly\,\nManaging sun exposure\, and\nGeneral  key practices.\n\nThis program is for adults. \n  \n 
URL:https://lclshome.org/event/yard-garden-safety/
LOCATION:Abington Community Library\, 1200 West Grove St.\, Clarks Summit\, PA\, 18411\, United States
CATEGORIES:Abington Community Library
ORGANIZER;CN="Judy Detter":MAILTO:jdetter@albright.org
END:VEVENT
BEGIN:VEVENT
DTSTART;TZID=America/New_York:20260514T190000
DTEND;TZID=America/New_York:20260514T200000
DTSTAMP:20260420T023306
CREATED:20260112T185159Z
LAST-MODIFIED:20260401T184432Z
UID:10005301-1778785200-1778788800@lclshome.org
SUMMARY:Families Helping Families
DESCRIPTION:Facilitators provide an educational series and support group for teens and their families affected by substance abuse. Co-sponsored by the Clear Brook Foundation. No registration required.
URL:https://lclshome.org/event/families-helping-families/2026-05-14/
LOCATION:Abington Community Library\, 1200 West Grove St.\, Clarks Summit\, PA\, 18411\, United States
CATEGORIES:Abington Community Library
ORGANIZER;CN="Michael Richardson":MAILTO:MRichardson@albright.org
END:VEVENT
END:VCALENDAR