BEGIN:VCALENDAR
VERSION:2.0
PRODID:-//Lackawanna County Library System - ECPv6.15.17.1//NONSGML v1.0//EN
CALSCALE:GREGORIAN
METHOD:PUBLISH
X-ORIGINAL-URL:https://lclshome.org
X-WR-CALDESC:Events for Lackawanna County Library System
REFRESH-INTERVAL;VALUE=DURATION:PT1H
X-Robots-Tag:noindex
X-PUBLISHED-TTL:PT1H
BEGIN:VTIMEZONE
TZID:America/New_York
BEGIN:DAYLIGHT
TZOFFSETFROM:-0500
TZOFFSETTO:-0400
TZNAME:EDT
DTSTART:20250309T070000
END:DAYLIGHT
BEGIN:STANDARD
TZOFFSETFROM:-0400
TZOFFSETTO:-0500
TZNAME:EST
DTSTART:20251102T060000
END:STANDARD
BEGIN:DAYLIGHT
TZOFFSETFROM:-0500
TZOFFSETTO:-0400
TZNAME:EDT
DTSTART:20260308T070000
END:DAYLIGHT
BEGIN:STANDARD
TZOFFSETFROM:-0400
TZOFFSETTO:-0500
TZNAME:EST
DTSTART:20261101T060000
END:STANDARD
BEGIN:DAYLIGHT
TZOFFSETFROM:-0500
TZOFFSETTO:-0400
TZNAME:EDT
DTSTART:20270314T070000
END:DAYLIGHT
BEGIN:STANDARD
TZOFFSETFROM:-0400
TZOFFSETTO:-0500
TZNAME:EST
DTSTART:20271107T060000
END:STANDARD
END:VTIMEZONE
BEGIN:VEVENT
DTSTART;TZID=America/New_York:20260520T100000
DTEND;TZID=America/New_York:20260520T103000
DTSTAMP:20260420T023309
CREATED:20260319T162159Z
LAST-MODIFIED:20260319T162159Z
UID:10005139-1779271200-1779273000@lclshome.org
SUMMARY:Terrific Tales
DESCRIPTION:Join Mrs. Burke for stories\, songs\, and rhymes! For ages 2-3; siblings welcome. Please register.
URL:https://lclshome.org/event/terrific-tales-33/
LOCATION:Abington Community Library\, 1200 West Grove St.\, Clarks Summit\, PA\, 18411\, United States
CATEGORIES:Abington Community Library,Kids
ORGANIZER;CN="Nancy Burke":MAILTO:nburke@albright.org
END:VEVENT
BEGIN:VEVENT
DTSTART;TZID=America/New_York:20260520T110000
DTEND;TZID=America/New_York:20260520T113000
DTSTAMP:20260420T023309
CREATED:20260319T162356Z
LAST-MODIFIED:20260319T162356Z
UID:10005140-1779274800-1779276600@lclshome.org
SUMMARY:Terrific Tales
DESCRIPTION:Join Mrs. Burke for stories\, songs\, and rhymes! For ages 2-3; siblings welcome. Please register.
URL:https://lclshome.org/event/terrific-tales-34/
LOCATION:Abington Community Library\, 1200 West Grove St.\, Clarks Summit\, PA\, 18411\, United States
CATEGORIES:Abington Community Library,Kids
ORGANIZER;CN="Nancy Burke":MAILTO:nburke@albright.org
END:VEVENT
BEGIN:VEVENT
DTSTART;TZID=America/New_York:20260520T133000
DTEND;TZID=America/New_York:20260520T153000
DTSTAMP:20260420T023309
CREATED:20260406T153446Z
LAST-MODIFIED:20260406T153522Z
UID:10005345-1779283800-1779291000@lclshome.org
SUMMARY:Movie Fans Matinee: River of No Return
DESCRIPTION:Join us for a matinee movie showing celebrating 100 Years of Marilyn Monroe. On Wednesday\, May 20 we will be showing the film “River of No Return.” \nThe story follows the titular river as it unites a farmer recently released from prison\, his young son and an ambitious saloon singer. In order to survive\, each must be purged of anger\, and each must learn to understand and care for the others. \nRegister below.
URL:https://lclshome.org/event/movie-fans-matinee-ronr/
LOCATION:Abington Community Library\, 1200 West Grove St.\, Clarks Summit\, PA\, 18411\, United States
CATEGORIES:Abington Community Library
ORGANIZER;CN="Michael Richardson":MAILTO:MRichardson@albright.org
END:VEVENT
BEGIN:VEVENT
DTSTART;TZID=America/New_York:20260520T170000
DTEND;TZID=America/New_York:20260520T180000
DTSTAMP:20260420T023309
CREATED:20260408T162244Z
LAST-MODIFIED:20260408T163200Z
UID:10005536-1779296400-1779300000@lclshome.org
SUMMARY:Railway Rewind
DESCRIPTION:For teens ages 12-18 \nLearn about the historic DL&W railroad in Scranton with Erica Kennedy\, a park guide from the Scranton National Historic Site! \nSnacks will be provided 🙂 \nPlease email Kyler at kepstein@albright.org with any questions.
URL:https://lclshome.org/event/railway-rewind/
LOCATION:Abington Community Library\, 1200 West Grove St.\, Clarks Summit\, PA\, 18411\, United States
CATEGORIES:Abington Community Library,Teens
ORGANIZER;CN="Kyler Epstein":MAILTO:kepstein@albright.org
END:VEVENT
BEGIN:VEVENT
DTSTART;TZID=America/New_York:20260520T180000
DTEND;TZID=America/New_York:20260520T193000
DTSTAMP:20260420T023309
CREATED:20260409T170021Z
LAST-MODIFIED:20260409T170021Z
UID:10005568-1779300000-1779305400@lclshome.org
SUMMARY:Herb Workshop
DESCRIPTION:Join 4-H and PennState Extension Master Gardeners as we discuss common herbs\, how to care for them\, and the best ways to plant them. Whether you’re a beginner or experienced gardener\, you’ll learn tips to help your herbs thrive. \nLackawanna County PA 4-H will also have herbs for sale as part of a fundraiser for the organization.
URL:https://lclshome.org/event/herb-workshop/
LOCATION:Abington Community Library\, 1200 West Grove St.\, Clarks Summit\, PA\, 18411\, United States
CATEGORIES:Abington Community Library
ORGANIZER;CN="Michael Richardson":MAILTO:MRichardson@albright.org
END:VEVENT
END:VCALENDAR