BEGIN:VCALENDAR
VERSION:2.0
PRODID:-//Lackawanna County Library System - ECPv6.15.17.1//NONSGML v1.0//EN
CALSCALE:GREGORIAN
METHOD:PUBLISH
X-WR-CALNAME:Lackawanna County Library System
X-ORIGINAL-URL:https://lclshome.org
X-WR-CALDESC:Events for Lackawanna County Library System
REFRESH-INTERVAL;VALUE=DURATION:PT1H
X-Robots-Tag:noindex
X-PUBLISHED-TTL:PT1H
BEGIN:VTIMEZONE
TZID:America/New_York
BEGIN:DAYLIGHT
TZOFFSETFROM:-0500
TZOFFSETTO:-0400
TZNAME:EDT
DTSTART:20250309T070000
END:DAYLIGHT
BEGIN:STANDARD
TZOFFSETFROM:-0400
TZOFFSETTO:-0500
TZNAME:EST
DTSTART:20251102T060000
END:STANDARD
BEGIN:DAYLIGHT
TZOFFSETFROM:-0500
TZOFFSETTO:-0400
TZNAME:EDT
DTSTART:20260308T070000
END:DAYLIGHT
BEGIN:STANDARD
TZOFFSETFROM:-0400
TZOFFSETTO:-0500
TZNAME:EST
DTSTART:20261101T060000
END:STANDARD
BEGIN:DAYLIGHT
TZOFFSETFROM:-0500
TZOFFSETTO:-0400
TZNAME:EDT
DTSTART:20270314T070000
END:DAYLIGHT
BEGIN:STANDARD
TZOFFSETFROM:-0400
TZOFFSETTO:-0500
TZNAME:EST
DTSTART:20271107T060000
END:STANDARD
END:VTIMEZONE
BEGIN:VEVENT
DTSTART;TZID=America/New_York:20260529T120000
DTEND;TZID=America/New_York:20260529T130000
DTSTAMP:20260420T022944
CREATED:20250828T135635Z
LAST-MODIFIED:20260401T184945Z
UID:10005309-1780056000-1780059600@lclshome.org
SUMMARY:Conversational Italian Class
DESCRIPTION:Join us for our weekly class delving into beginner conversational Italian\, grammar\, vocabulary\, and culture.
URL:https://lclshome.org/event/conversational-italian-class/2026-05-29/
LOCATION:Abington Community Library\, 1200 West Grove St.\, Clarks Summit\, PA\, 18411\, United States
CATEGORIES:Abington Community Library
ORGANIZER;CN="Michael Richardson":MAILTO:MRichardson@albright.org
END:VEVENT
BEGIN:VEVENT
DTSTART;TZID=America/New_York:20260529T160000
DTEND;TZID=America/New_York:20260529T180000
DTSTAMP:20260420T022945
CREATED:20260417T050039Z
LAST-MODIFIED:20260409T152450Z
UID:10005566-1780070400-1780077600@lclshome.org
SUMMARY:Grow With Your Library
DESCRIPTION:Grow with your library! Children through grade 12 can come to the library on Friday May 29 between 4:00 and 6:00 P.M. to decorate a flower pot and plant a flower to take home. Registration is required. If registering multiple children\, please adjust “total guests” accordingly.
URL:https://lclshome.org/event/grow-with-your-library/
LOCATION:Abington Community Library\, 1200 West Grove St.\, Clarks Summit\, PA\, 18411\, United States
CATEGORIES:Abington Community Library,Kids,Teens
ORGANIZER;CN="Nancy Burke":MAILTO:nburke@albright.org
END:VEVENT
BEGIN:VEVENT
DTSTART;TZID=America/New_York:20260529T170000
DTEND;TZID=America/New_York:20260529T183000
DTSTAMP:20260420T022945
CREATED:20260417T194137Z
LAST-MODIFIED:20260417T194419Z
UID:10005636-1780074000-1780079400@lclshome.org
SUMMARY:Macra-MAY
DESCRIPTION:Join local artist\, Lanie Bird Studios\, for all things macrame’! \nMacrame’ is a crafting technique using cord and knots to create wall art and functional pieces. \nLearn a variety of knots to create a colorful wall hanging. \nThis class is for adults
URL:https://lclshome.org/event/macra-may/
LOCATION:Abington Community Library\, 1200 West Grove St.\, Clarks Summit\, PA\, 18411\, United States
CATEGORIES:Abington Community Library
ORGANIZER;CN="Judy Detter":MAILTO:jdetter@albright.org
END:VEVENT
BEGIN:VEVENT
DTSTART;TZID=America/New_York:20260529T183000
DTEND;TZID=America/New_York:20260529T200000
DTSTAMP:20260420T022945
CREATED:20260408T165834Z
LAST-MODIFIED:20260408T165834Z
UID:10005542-1780079400-1780084800@lclshome.org
SUMMARY:Teen Macra-May
DESCRIPTION:For teens ages 12-18 \nJoin local artist Laniebirdstudios and learn some basic macrame knots. You’ll go home with a colorful wall hanging! \nPlease email Kyler at kepstein@albright.org with any questions.
URL:https://lclshome.org/event/teen-macra-may/
LOCATION:Abington Community Library\, 1200 West Grove St.\, Clarks Summit\, PA\, 18411\, United States
CATEGORIES:Abington Community Library,Teens
ORGANIZER;CN="Kyler Epstein":MAILTO:kepstein@albright.org
END:VEVENT
END:VCALENDAR