BEGIN:VCALENDAR
VERSION:2.0
PRODID:-//Lackawanna County Library System - ECPv6.15.17.1//NONSGML v1.0//EN
CALSCALE:GREGORIAN
METHOD:PUBLISH
X-ORIGINAL-URL:https://lclshome.org
X-WR-CALDESC:Events for Lackawanna County Library System
REFRESH-INTERVAL;VALUE=DURATION:PT1H
X-Robots-Tag:noindex
X-PUBLISHED-TTL:PT1H
BEGIN:VTIMEZONE
TZID:America/New_York
BEGIN:DAYLIGHT
TZOFFSETFROM:-0500
TZOFFSETTO:-0400
TZNAME:EDT
DTSTART:20250309T070000
END:DAYLIGHT
BEGIN:STANDARD
TZOFFSETFROM:-0400
TZOFFSETTO:-0500
TZNAME:EST
DTSTART:20251102T060000
END:STANDARD
BEGIN:DAYLIGHT
TZOFFSETFROM:-0500
TZOFFSETTO:-0400
TZNAME:EDT
DTSTART:20260308T070000
END:DAYLIGHT
BEGIN:STANDARD
TZOFFSETFROM:-0400
TZOFFSETTO:-0500
TZNAME:EST
DTSTART:20261101T060000
END:STANDARD
BEGIN:DAYLIGHT
TZOFFSETFROM:-0500
TZOFFSETTO:-0400
TZNAME:EDT
DTSTART:20270314T070000
END:DAYLIGHT
BEGIN:STANDARD
TZOFFSETFROM:-0400
TZOFFSETTO:-0500
TZNAME:EST
DTSTART:20271107T060000
END:STANDARD
END:VTIMEZONE
BEGIN:VEVENT
DTSTART;TZID=America/New_York:20260601T130000
DTEND;TZID=America/New_York:20260601T150000
DTSTAMP:20260421T151721
CREATED:20250807T152132Z
LAST-MODIFIED:20260421T134036Z
UID:10005273-1780318800-1780326000@lclshome.org
SUMMARY:Caring Hands
DESCRIPTION:Do you knit or crochet? Join this group that creates delightful things for the Library and for the less fortunate. No registration required.
URL:https://lclshome.org/event/caring-hands/2026-06-01/
LOCATION:Abington Community Library\, 1200 West Grove St.\, Clarks Summit\, PA\, 18411\, United States
CATEGORIES:Abington Community Library
ORGANIZER;CN="Michael Richardson":MAILTO:MRichardson@albright.org
END:VEVENT
BEGIN:VEVENT
DTSTART;TZID=America/New_York:20260602T100000
DTEND;TZID=America/New_York:20260602T120000
DTSTAMP:20260421T151721
CREATED:20250827T194312Z
LAST-MODIFIED:20260421T134156Z
UID:10005280-1780394400-1780401600@lclshome.org
SUMMARY:Always in Stitches
DESCRIPTION:Stop and see what this amiable bunch of quilters and sewers is up to. Get involved in one of their many charitable endeavors or learn something new. Intermediate members welcome. No registration required.
URL:https://lclshome.org/event/always-in-stitches/2026-06-02/
LOCATION:Abington Community Library\, 1200 West Grove St.\, Clarks Summit\, PA\, 18411\, United States
CATEGORIES:Abington Community Library
ORGANIZER;CN="Michael Richardson":MAILTO:MRichardson@albright.org
END:VEVENT
BEGIN:VEVENT
DTSTART;TZID=America/New_York:20260602T130000
DTEND;TZID=America/New_York:20260602T150000
DTSTAMP:20260421T151721
CREATED:20250807T153805Z
LAST-MODIFIED:20260421T134251Z
UID:10005286-1780405200-1780412400@lclshome.org
SUMMARY:Mahjong
DESCRIPTION:Join our group of National Mah Jongg League\, INC. players. No experience necessary.
URL:https://lclshome.org/event/mahjong/2026-06-02/
LOCATION:Abington Community Library\, 1200 West Grove St.\, Clarks Summit\, PA\, 18411\, United States
CATEGORIES:Abington Community Library
ORGANIZER;CN="Michael Richardson":MAILTO:MRichardson@albright.org
END:VEVENT
BEGIN:VEVENT
DTSTART;TZID=America/New_York:20260604T123000
DTEND;TZID=America/New_York:20260604T153000
DTSTAMP:20260421T151721
CREATED:20250807T163459Z
LAST-MODIFIED:20260421T134350Z
UID:10005292-1780576200-1780587000@lclshome.org
SUMMARY:Scrabble Group
DESCRIPTION:Stretch your brain with an afternoon Scrabble match and join a friendly competition against fellow word enthusiasts. \n 
URL:https://lclshome.org/event/scrabble-group/2026-06-04/
LOCATION:Abington Community Library\, 1200 West Grove St.\, Clarks Summit\, PA\, 18411\, United States
CATEGORIES:Abington Community Library
ORGANIZER;CN="Michael Richardson":MAILTO:MRichardson@albright.org
END:VEVENT
BEGIN:VEVENT
DTSTART;TZID=America/New_York:20260604T180000
DTEND;TZID=America/New_York:20260604T200000
DTSTAMP:20260421T151721
CREATED:20250425T164707Z
LAST-MODIFIED:20260112T194949Z
UID:10001687-1780596000-1780603200@lclshome.org
SUMMARY:Stamp n Swap
DESCRIPTION:Stampers\, papercrafters and scrapbookers – bring your current stamping or paper crafting projects and craft informally with other paper crafters. For adults. E-mail MRichardson@albright.org with any questions.
URL:https://lclshome.org/event/stamp-n-swap-18/2026-06-04/
LOCATION:Abington Community Library\, 1200 West Grove St.\, Clarks Summit\, PA\, 18411\, United States
CATEGORIES:Abington Community Library
ORGANIZER;CN="Michael Richardson":MAILTO:MRichardson@albright.org
END:VEVENT
BEGIN:VEVENT
DTSTART;TZID=America/New_York:20260604T190000
DTEND;TZID=America/New_York:20260604T200000
DTSTAMP:20260421T151721
CREATED:20260112T185159Z
LAST-MODIFIED:20260421T134603Z
UID:10005304-1780599600-1780603200@lclshome.org
SUMMARY:Families Helping Families
DESCRIPTION:Facilitators provide an educational series and support group for teens and their families affected by substance abuse. Co-sponsored by the Clear Brook Foundation. No registration required.
URL:https://lclshome.org/event/families-helping-families/2026-06-04/
LOCATION:Abington Community Library\, 1200 West Grove St.\, Clarks Summit\, PA\, 18411\, United States
CATEGORIES:Abington Community Library
ORGANIZER;CN="Michael Richardson":MAILTO:MRichardson@albright.org
END:VEVENT
BEGIN:VEVENT
DTSTART;TZID=America/New_York:20260605T120000
DTEND;TZID=America/New_York:20260605T130000
DTSTAMP:20260421T151721
CREATED:20250828T135635Z
LAST-MODIFIED:20260421T134702Z
UID:10005310-1780660800-1780664400@lclshome.org
SUMMARY:Conversational Italian Class
DESCRIPTION:Join us for our weekly class delving into beginner conversational Italian\, grammar\, vocabulary\, and culture.
URL:https://lclshome.org/event/conversational-italian-class/2026-06-05/
LOCATION:Abington Community Library\, 1200 West Grove St.\, Clarks Summit\, PA\, 18411\, United States
CATEGORIES:Abington Community Library
ORGANIZER;CN="Michael Richardson":MAILTO:MRichardson@albright.org
END:VEVENT
BEGIN:VEVENT
DTSTART;TZID=America/New_York:20260607T150000
DTEND;TZID=America/New_York:20260607T160000
DTSTAMP:20260421T151721
CREATED:20260421T132346Z
LAST-MODIFIED:20260421T132423Z
UID:10005663-1780844400-1780848000@lclshome.org
SUMMARY:Flower Blossom Release
DESCRIPTION:Join us for our fifth annual Flower Blossom Release into Leggett’s Creek at South Abington Township Park in remembrance of lost loved ones. We will also be writing notes to our lost loved ones to pair with our flowers released into the Creek. Flowers donated generously by Central Park Flowers. Registration required. All ages.
URL:https://lclshome.org/event/flower-blossom-release/
LOCATION:Abington Community Library\, 1200 West Grove St.\, Clarks Summit\, PA\, 18411\, United States
CATEGORIES:Abington Community Library
ORGANIZER;CN="Michael Richardson":MAILTO:MRichardson@albright.org
END:VEVENT
BEGIN:VEVENT
DTSTART;TZID=America/New_York:20260608T130000
DTEND;TZID=America/New_York:20260608T150000
DTSTAMP:20260421T151721
CREATED:20250807T152132Z
LAST-MODIFIED:20260421T134036Z
UID:10005274-1780923600-1780930800@lclshome.org
SUMMARY:Caring Hands
DESCRIPTION:Do you knit or crochet? Join this group that creates delightful things for the Library and for the less fortunate. No registration required.
URL:https://lclshome.org/event/caring-hands/2026-06-08/
LOCATION:Abington Community Library\, 1200 West Grove St.\, Clarks Summit\, PA\, 18411\, United States
CATEGORIES:Abington Community Library
ORGANIZER;CN="Michael Richardson":MAILTO:MRichardson@albright.org
END:VEVENT
BEGIN:VEVENT
DTSTART;TZID=America/New_York:20260609T100000
DTEND;TZID=America/New_York:20260609T120000
DTSTAMP:20260421T151721
CREATED:20250827T194312Z
LAST-MODIFIED:20260421T134156Z
UID:10005281-1780999200-1781006400@lclshome.org
SUMMARY:Always in Stitches
DESCRIPTION:Stop and see what this amiable bunch of quilters and sewers is up to. Get involved in one of their many charitable endeavors or learn something new. Intermediate members welcome. No registration required.
URL:https://lclshome.org/event/always-in-stitches/2026-06-09/
LOCATION:Abington Community Library\, 1200 West Grove St.\, Clarks Summit\, PA\, 18411\, United States
CATEGORIES:Abington Community Library
ORGANIZER;CN="Michael Richardson":MAILTO:MRichardson@albright.org
END:VEVENT
BEGIN:VEVENT
DTSTART;TZID=America/New_York:20260609T130000
DTEND;TZID=America/New_York:20260609T150000
DTSTAMP:20260421T151721
CREATED:20250807T153805Z
LAST-MODIFIED:20260421T134251Z
UID:10005287-1781010000-1781017200@lclshome.org
SUMMARY:Mahjong
DESCRIPTION:Join our group of National Mah Jongg League\, INC. players. No experience necessary.
URL:https://lclshome.org/event/mahjong/2026-06-09/
LOCATION:Abington Community Library\, 1200 West Grove St.\, Clarks Summit\, PA\, 18411\, United States
CATEGORIES:Abington Community Library
ORGANIZER;CN="Michael Richardson":MAILTO:MRichardson@albright.org
END:VEVENT
BEGIN:VEVENT
DTSTART;TZID=America/New_York:20260609T183000
DTEND;TZID=America/New_York:20260609T203000
DTSTAMP:20260421T151721
CREATED:20250828T151043Z
LAST-MODIFIED:20260421T133651Z
UID:10005669-1781029800-1781037000@lclshome.org
SUMMARY:Mystery Book Club
DESCRIPTION:Join us for our monthly Mystery Book Club where fellow sleuths gather to discuss twists\, turns\, and page-turners that keep us guessing until the very end. \nThe May selection for the Mystery Book Club is Elliot Roosevelt’s “Murder in the Lincoln Bedroom.” 
URL:https://lclshome.org/event/mystery-book-club/2026-06-09/
LOCATION:Abington Community Library\, 1200 West Grove St.\, Clarks Summit\, PA\, 18411\, United States
CATEGORIES:Abington Community Library
ORGANIZER;CN="Michael Richardson":MAILTO:MRichardson@albright.org
END:VEVENT
BEGIN:VEVENT
DTSTART;TZID=America/New_York:20260611T123000
DTEND;TZID=America/New_York:20260611T153000
DTSTAMP:20260421T151721
CREATED:20250807T163459Z
LAST-MODIFIED:20260421T134350Z
UID:10005293-1781181000-1781191800@lclshome.org
SUMMARY:Scrabble Group
DESCRIPTION:Stretch your brain with an afternoon Scrabble match and join a friendly competition against fellow word enthusiasts. \n 
URL:https://lclshome.org/event/scrabble-group/2026-06-11/
LOCATION:Abington Community Library\, 1200 West Grove St.\, Clarks Summit\, PA\, 18411\, United States
CATEGORIES:Abington Community Library
ORGANIZER;CN="Michael Richardson":MAILTO:MRichardson@albright.org
END:VEVENT
BEGIN:VEVENT
DTSTART;TZID=America/New_York:20260611T190000
DTEND;TZID=America/New_York:20260611T200000
DTSTAMP:20260421T151721
CREATED:20260112T185159Z
LAST-MODIFIED:20260421T134603Z
UID:10005305-1781204400-1781208000@lclshome.org
SUMMARY:Families Helping Families
DESCRIPTION:Facilitators provide an educational series and support group for teens and their families affected by substance abuse. Co-sponsored by the Clear Brook Foundation. No registration required.
URL:https://lclshome.org/event/families-helping-families/2026-06-11/
LOCATION:Abington Community Library\, 1200 West Grove St.\, Clarks Summit\, PA\, 18411\, United States
CATEGORIES:Abington Community Library
ORGANIZER;CN="Michael Richardson":MAILTO:MRichardson@albright.org
END:VEVENT
BEGIN:VEVENT
DTSTART;TZID=America/New_York:20260612T120000
DTEND;TZID=America/New_York:20260612T130000
DTSTAMP:20260421T151721
CREATED:20250828T135635Z
LAST-MODIFIED:20260421T134702Z
UID:10005311-1781265600-1781269200@lclshome.org
SUMMARY:Conversational Italian Class
DESCRIPTION:Join us for our weekly class delving into beginner conversational Italian\, grammar\, vocabulary\, and culture.
URL:https://lclshome.org/event/conversational-italian-class/2026-06-12/
LOCATION:Abington Community Library\, 1200 West Grove St.\, Clarks Summit\, PA\, 18411\, United States
CATEGORIES:Abington Community Library
ORGANIZER;CN="Michael Richardson":MAILTO:MRichardson@albright.org
END:VEVENT
BEGIN:VEVENT
DTSTART;TZID=America/New_York:20260615T130000
DTEND;TZID=America/New_York:20260615T150000
DTSTAMP:20260421T151721
CREATED:20250807T152132Z
LAST-MODIFIED:20260421T134036Z
UID:10005275-1781528400-1781535600@lclshome.org
SUMMARY:Caring Hands
DESCRIPTION:Do you knit or crochet? Join this group that creates delightful things for the Library and for the less fortunate. No registration required.
URL:https://lclshome.org/event/caring-hands/2026-06-15/
LOCATION:Abington Community Library\, 1200 West Grove St.\, Clarks Summit\, PA\, 18411\, United States
CATEGORIES:Abington Community Library
ORGANIZER;CN="Michael Richardson":MAILTO:MRichardson@albright.org
END:VEVENT
BEGIN:VEVENT
DTSTART;TZID=America/New_York:20260616T100000
DTEND;TZID=America/New_York:20260616T120000
DTSTAMP:20260421T151721
CREATED:20250827T194312Z
LAST-MODIFIED:20260421T134156Z
UID:10005679-1781604000-1781611200@lclshome.org
SUMMARY:Always in Stitches
DESCRIPTION:Stop and see what this amiable bunch of quilters and sewers is up to. Get involved in one of their many charitable endeavors or learn something new. Intermediate members welcome. No registration required.
URL:https://lclshome.org/event/always-in-stitches/2026-06-16/
LOCATION:Abington Community Library\, 1200 West Grove St.\, Clarks Summit\, PA\, 18411\, United States
CATEGORIES:Abington Community Library
ORGANIZER;CN="Michael Richardson":MAILTO:MRichardson@albright.org
END:VEVENT
BEGIN:VEVENT
DTSTART;TZID=America/New_York:20260616T130000
DTEND;TZID=America/New_York:20260616T150000
DTSTAMP:20260421T151721
CREATED:20250807T153805Z
LAST-MODIFIED:20260421T134251Z
UID:10005686-1781614800-1781622000@lclshome.org
SUMMARY:Mahjong
DESCRIPTION:Join our group of National Mah Jongg League\, INC. players. No experience necessary.
URL:https://lclshome.org/event/mahjong/2026-06-16/
LOCATION:Abington Community Library\, 1200 West Grove St.\, Clarks Summit\, PA\, 18411\, United States
CATEGORIES:Abington Community Library
ORGANIZER;CN="Michael Richardson":MAILTO:MRichardson@albright.org
END:VEVENT
BEGIN:VEVENT
DTSTART;TZID=America/New_York:20260616T183000
DTEND;TZID=America/New_York:20260616T200000
DTSTAMP:20260421T151721
CREATED:20250828T153237Z
LAST-MODIFIED:20260421T133935Z
UID:10005317-1781634600-1781640000@lclshome.org
SUMMARY:Lackawanna Backyard Beekeepers
DESCRIPTION:The Lackawanna Backyard Beekeepers are a Beekeeping group in (but not limited to) Lackawanna County. Our mission is to foster interest in backyard beekeeping and provide a forum for discussion among local beekeepers. Whether you are already a beekeeper\, are interested in becoming a beekeeper\, are interested in honeybees\, or have land that you would like to use to help sponsor a beehive\, then this is the place for you. Beekeeping and honey bee information is exchanged in an informal and friendly environment to help keep our honeybees (and other pollinators) healthy and thriving. Families welcome.
URL:https://lclshome.org/event/lackawanna-backyard-beekeepers/2026-06-16/
LOCATION:Abington Community Library\, 1200 West Grove St.\, Clarks Summit\, PA\, 18411\, United States
CATEGORIES:Abington Community Library
ORGANIZER;CN="Michael Richardson":MAILTO:MRichardson@albright.org
END:VEVENT
BEGIN:VEVENT
DTSTART;TZID=America/New_York:20260618T123000
DTEND;TZID=America/New_York:20260618T153000
DTSTAMP:20260421T151721
CREATED:20250807T163459Z
LAST-MODIFIED:20260421T134350Z
UID:10005693-1781785800-1781796600@lclshome.org
SUMMARY:Scrabble Group
DESCRIPTION:Stretch your brain with an afternoon Scrabble match and join a friendly competition against fellow word enthusiasts. \n 
URL:https://lclshome.org/event/scrabble-group/2026-06-18/
LOCATION:Abington Community Library\, 1200 West Grove St.\, Clarks Summit\, PA\, 18411\, United States
CATEGORIES:Abington Community Library
ORGANIZER;CN="Michael Richardson":MAILTO:MRichardson@albright.org
END:VEVENT
BEGIN:VEVENT
DTSTART;TZID=America/New_York:20260618T180000
DTEND;TZID=America/New_York:20260618T200000
DTSTAMP:20260421T151721
CREATED:20250828T153706Z
LAST-MODIFIED:20260421T133832Z
UID:10005315-1781805600-1781812800@lclshome.org
SUMMARY:Insulin Pump Support Group
DESCRIPTION:Are you using or thinking of using an insulin pump to manage your diabetes? Talk with diabetics who know. Join insulin pump users with/without a sensor in a group setting to share and talk about your experiences. The group is open to children\, parents\, and senior citizens who are presently using a pump or are considering it. Meeting at the Library and on Zoom.
URL:https://lclshome.org/event/insulin-pump-support-group/2026-06-18/
LOCATION:Abington Community Library\, 1200 West Grove St.\, Clarks Summit\, PA\, 18411\, United States
CATEGORIES:Abington Community Library
ORGANIZER;CN="Michael Richardson":MAILTO:MRichardson@albright.org
END:VEVENT
BEGIN:VEVENT
DTSTART;TZID=America/New_York:20260618T190000
DTEND;TZID=America/New_York:20260618T200000
DTSTAMP:20260421T151721
CREATED:20260112T185159Z
LAST-MODIFIED:20260421T134603Z
UID:10005700-1781809200-1781812800@lclshome.org
SUMMARY:Families Helping Families
DESCRIPTION:Facilitators provide an educational series and support group for teens and their families affected by substance abuse. Co-sponsored by the Clear Brook Foundation. No registration required.
URL:https://lclshome.org/event/families-helping-families/2026-06-18/
LOCATION:Abington Community Library\, 1200 West Grove St.\, Clarks Summit\, PA\, 18411\, United States
CATEGORIES:Abington Community Library
ORGANIZER;CN="Michael Richardson":MAILTO:MRichardson@albright.org
END:VEVENT
BEGIN:VEVENT
DTSTART;TZID=America/New_York:20260619T120000
DTEND;TZID=America/New_York:20260619T130000
DTSTAMP:20260421T151721
CREATED:20250828T135635Z
LAST-MODIFIED:20260421T134702Z
UID:10005707-1781870400-1781874000@lclshome.org
SUMMARY:Conversational Italian Class
DESCRIPTION:Join us for our weekly class delving into beginner conversational Italian\, grammar\, vocabulary\, and culture.
URL:https://lclshome.org/event/conversational-italian-class/2026-06-19/
LOCATION:Abington Community Library\, 1200 West Grove St.\, Clarks Summit\, PA\, 18411\, United States
CATEGORIES:Abington Community Library
ORGANIZER;CN="Michael Richardson":MAILTO:MRichardson@albright.org
END:VEVENT
BEGIN:VEVENT
DTSTART;TZID=America/New_York:20260622T130000
DTEND;TZID=America/New_York:20260622T150000
DTSTAMP:20260421T151721
CREATED:20250807T152132Z
LAST-MODIFIED:20260421T134036Z
UID:10005673-1782133200-1782140400@lclshome.org
SUMMARY:Caring Hands
DESCRIPTION:Do you knit or crochet? Join this group that creates delightful things for the Library and for the less fortunate. No registration required.
URL:https://lclshome.org/event/caring-hands/2026-06-22/
LOCATION:Abington Community Library\, 1200 West Grove St.\, Clarks Summit\, PA\, 18411\, United States
CATEGORIES:Abington Community Library
ORGANIZER;CN="Michael Richardson":MAILTO:MRichardson@albright.org
END:VEVENT
BEGIN:VEVENT
DTSTART;TZID=America/New_York:20260622T180000
DTEND;TZID=America/New_York:20260622T190000
DTSTAMP:20260421T151721
CREATED:20260421T180458Z
LAST-MODIFIED:20260421T180458Z
UID:10005716-1782151200-1782154800@lclshome.org
SUMMARY:Cookbook Club
DESCRIPTION:Join us for this month’s “Cookbook Club.” Attendees will sign up in person at the Library to prepare a specific item from this month’s featured cookbook. Librarians will help you sign up and copy the recipe you choose. No duplication of dishes. This month’s Cookbook Club selection is the “National Parks Cookbook.” We recommend bringing to-go containers for any possible leftovers that might be available during the club. If you have any questions\, please e-mail MRichardson@albright.org.
URL:https://lclshome.org/event/cookbook-club-3/
LOCATION:Abington Community Library\, 1200 West Grove St.\, Clarks Summit\, PA\, 18411\, United States
CATEGORIES:Abington Community Library
ORGANIZER;CN="Michael Richardson":MAILTO:MRichardson@albright.org
END:VEVENT
BEGIN:VEVENT
DTSTART;TZID=America/New_York:20260623T100000
DTEND;TZID=America/New_York:20260623T120000
DTSTAMP:20260421T151721
CREATED:20250827T194312Z
LAST-MODIFIED:20260421T134156Z
UID:10005680-1782208800-1782216000@lclshome.org
SUMMARY:Always in Stitches
DESCRIPTION:Stop and see what this amiable bunch of quilters and sewers is up to. Get involved in one of their many charitable endeavors or learn something new. Intermediate members welcome. No registration required.
URL:https://lclshome.org/event/always-in-stitches/2026-06-23/
LOCATION:Abington Community Library\, 1200 West Grove St.\, Clarks Summit\, PA\, 18411\, United States
CATEGORIES:Abington Community Library
ORGANIZER;CN="Michael Richardson":MAILTO:MRichardson@albright.org
END:VEVENT
BEGIN:VEVENT
DTSTART;TZID=America/New_York:20260623T130000
DTEND;TZID=America/New_York:20260623T150000
DTSTAMP:20260421T151721
CREATED:20250807T153805Z
LAST-MODIFIED:20260421T134251Z
UID:10005687-1782219600-1782226800@lclshome.org
SUMMARY:Mahjong
DESCRIPTION:Join our group of National Mah Jongg League\, INC. players. No experience necessary.
URL:https://lclshome.org/event/mahjong/2026-06-23/
LOCATION:Abington Community Library\, 1200 West Grove St.\, Clarks Summit\, PA\, 18411\, United States
CATEGORIES:Abington Community Library
ORGANIZER;CN="Michael Richardson":MAILTO:MRichardson@albright.org
END:VEVENT
BEGIN:VEVENT
DTSTART;TZID=America/New_York:20260625T123000
DTEND;TZID=America/New_York:20260625T153000
DTSTAMP:20260421T151721
CREATED:20250807T163459Z
LAST-MODIFIED:20260421T134350Z
UID:10005694-1782390600-1782401400@lclshome.org
SUMMARY:Scrabble Group
DESCRIPTION:Stretch your brain with an afternoon Scrabble match and join a friendly competition against fellow word enthusiasts. \n 
URL:https://lclshome.org/event/scrabble-group/2026-06-25/
LOCATION:Abington Community Library\, 1200 West Grove St.\, Clarks Summit\, PA\, 18411\, United States
CATEGORIES:Abington Community Library
ORGANIZER;CN="Michael Richardson":MAILTO:MRichardson@albright.org
END:VEVENT
BEGIN:VEVENT
DTSTART;TZID=America/New_York:20260625T190000
DTEND;TZID=America/New_York:20260625T200000
DTSTAMP:20260421T151721
CREATED:20260112T185159Z
LAST-MODIFIED:20260421T134603Z
UID:10005701-1782414000-1782417600@lclshome.org
SUMMARY:Families Helping Families
DESCRIPTION:Facilitators provide an educational series and support group for teens and their families affected by substance abuse. Co-sponsored by the Clear Brook Foundation. No registration required.
URL:https://lclshome.org/event/families-helping-families/2026-06-25/
LOCATION:Abington Community Library\, 1200 West Grove St.\, Clarks Summit\, PA\, 18411\, United States
CATEGORIES:Abington Community Library
ORGANIZER;CN="Michael Richardson":MAILTO:MRichardson@albright.org
END:VEVENT
BEGIN:VEVENT
DTSTART;TZID=America/New_York:20260626T120000
DTEND;TZID=America/New_York:20260626T130000
DTSTAMP:20260421T151721
CREATED:20250828T135635Z
LAST-MODIFIED:20260421T134702Z
UID:10005708-1782475200-1782478800@lclshome.org
SUMMARY:Conversational Italian Class
DESCRIPTION:Join us for our weekly class delving into beginner conversational Italian\, grammar\, vocabulary\, and culture.
URL:https://lclshome.org/event/conversational-italian-class/2026-06-26/
LOCATION:Abington Community Library\, 1200 West Grove St.\, Clarks Summit\, PA\, 18411\, United States
CATEGORIES:Abington Community Library
ORGANIZER;CN="Michael Richardson":MAILTO:MRichardson@albright.org
END:VEVENT
END:VCALENDAR