BEGIN:VCALENDAR
VERSION:2.0
PRODID:-//Lackawanna County Library System - ECPv6.15.17.1//NONSGML v1.0//EN
CALSCALE:GREGORIAN
METHOD:PUBLISH
X-ORIGINAL-URL:https://lclshome.org
X-WR-CALDESC:Events for Lackawanna County Library System
REFRESH-INTERVAL;VALUE=DURATION:PT1H
X-Robots-Tag:noindex
X-PUBLISHED-TTL:PT1H
BEGIN:VTIMEZONE
TZID:America/New_York
BEGIN:DAYLIGHT
TZOFFSETFROM:-0500
TZOFFSETTO:-0400
TZNAME:EDT
DTSTART:20250309T070000
END:DAYLIGHT
BEGIN:STANDARD
TZOFFSETFROM:-0400
TZOFFSETTO:-0500
TZNAME:EST
DTSTART:20251102T060000
END:STANDARD
BEGIN:DAYLIGHT
TZOFFSETFROM:-0500
TZOFFSETTO:-0400
TZNAME:EDT
DTSTART:20260308T070000
END:DAYLIGHT
BEGIN:STANDARD
TZOFFSETFROM:-0400
TZOFFSETTO:-0500
TZNAME:EST
DTSTART:20261101T060000
END:STANDARD
BEGIN:DAYLIGHT
TZOFFSETFROM:-0500
TZOFFSETTO:-0400
TZNAME:EDT
DTSTART:20270314T070000
END:DAYLIGHT
BEGIN:STANDARD
TZOFFSETFROM:-0400
TZOFFSETTO:-0500
TZNAME:EST
DTSTART:20271107T060000
END:STANDARD
END:VTIMEZONE
BEGIN:VEVENT
DTSTART;TZID=America/New_York:20260728T130000
DTEND;TZID=America/New_York:20260728T150000
DTSTAMP:20260421T222744
CREATED:20250807T153805Z
LAST-MODIFIED:20260421T134251Z
UID:10005692-1785243600-1785250800@lclshome.org
SUMMARY:Mahjong
DESCRIPTION:Join our group of National Mah Jongg League\, INC. players. No experience necessary.
URL:https://lclshome.org/event/mahjong/2026-07-28/
LOCATION:Abington Community Library\, 1200 West Grove St.\, Clarks Summit\, PA\, 18411\, United States
CATEGORIES:Abington Community Library
ORGANIZER;CN="Michael Richardson":MAILTO:MRichardson@albright.org
END:VEVENT
BEGIN:VEVENT
DTSTART;TZID=America/New_York:20260730T123000
DTEND;TZID=America/New_York:20260730T153000
DTSTAMP:20260421T222744
CREATED:20250807T163459Z
LAST-MODIFIED:20260421T134350Z
UID:10005699-1785414600-1785425400@lclshome.org
SUMMARY:Scrabble Group
DESCRIPTION:Stretch your brain with an afternoon Scrabble match and join a friendly competition against fellow word enthusiasts. \n 
URL:https://lclshome.org/event/scrabble-group/2026-07-30/
LOCATION:Abington Community Library\, 1200 West Grove St.\, Clarks Summit\, PA\, 18411\, United States
CATEGORIES:Abington Community Library
ORGANIZER;CN="Michael Richardson":MAILTO:MRichardson@albright.org
END:VEVENT
BEGIN:VEVENT
DTSTART;TZID=America/New_York:20260730T190000
DTEND;TZID=America/New_York:20260730T200000
DTSTAMP:20260421T222744
CREATED:20260112T185159Z
LAST-MODIFIED:20260421T134603Z
UID:10005706-1785438000-1785441600@lclshome.org
SUMMARY:Families Helping Families
DESCRIPTION:Facilitators provide an educational series and support group for teens and their families affected by substance abuse. Co-sponsored by the Clear Brook Foundation. No registration required.
URL:https://lclshome.org/event/families-helping-families/2026-07-30/
LOCATION:Abington Community Library\, 1200 West Grove St.\, Clarks Summit\, PA\, 18411\, United States
CATEGORIES:Abington Community Library
ORGANIZER;CN="Michael Richardson":MAILTO:MRichardson@albright.org
END:VEVENT
BEGIN:VEVENT
DTSTART;TZID=America/New_York:20260731T120000
DTEND;TZID=America/New_York:20260731T130000
DTSTAMP:20260421T222744
CREATED:20250828T135635Z
LAST-MODIFIED:20260421T134702Z
UID:10005713-1785499200-1785502800@lclshome.org
SUMMARY:Conversational Italian Class
DESCRIPTION:Join us for our weekly class delving into beginner conversational Italian\, grammar\, vocabulary\, and culture.
URL:https://lclshome.org/event/conversational-italian-class/2026-07-31/
LOCATION:Abington Community Library\, 1200 West Grove St.\, Clarks Summit\, PA\, 18411\, United States
CATEGORIES:Abington Community Library
ORGANIZER;CN="Michael Richardson":MAILTO:MRichardson@albright.org
END:VEVENT
BEGIN:VEVENT
DTSTART;TZID=America/New_York:20260806T180000
DTEND;TZID=America/New_York:20260806T200000
DTSTAMP:20260421T222744
CREATED:20250425T164707Z
LAST-MODIFIED:20260112T194949Z
UID:10001689-1786039200-1786046400@lclshome.org
SUMMARY:Stamp n Swap
DESCRIPTION:Stampers\, papercrafters and scrapbookers – bring your current stamping or paper crafting projects and craft informally with other paper crafters. For adults. E-mail MRichardson@albright.org with any questions.
URL:https://lclshome.org/event/stamp-n-swap-18/2026-08-06/
LOCATION:Abington Community Library\, 1200 West Grove St.\, Clarks Summit\, PA\, 18411\, United States
CATEGORIES:Abington Community Library
ORGANIZER;CN="Michael Richardson":MAILTO:MRichardson@albright.org
END:VEVENT
BEGIN:VEVENT
DTSTART;TZID=America/New_York:20260903T180000
DTEND;TZID=America/New_York:20260903T200000
DTSTAMP:20260421T222744
CREATED:20250425T164707Z
LAST-MODIFIED:20260112T194949Z
UID:10001690-1788458400-1788465600@lclshome.org
SUMMARY:Stamp n Swap
DESCRIPTION:Stampers\, papercrafters and scrapbookers – bring your current stamping or paper crafting projects and craft informally with other paper crafters. For adults. E-mail MRichardson@albright.org with any questions.
URL:https://lclshome.org/event/stamp-n-swap-18/2026-09-03/
LOCATION:Abington Community Library\, 1200 West Grove St.\, Clarks Summit\, PA\, 18411\, United States
CATEGORIES:Abington Community Library
ORGANIZER;CN="Michael Richardson":MAILTO:MRichardson@albright.org
END:VEVENT
BEGIN:VEVENT
DTSTART;TZID=America/New_York:20261001T180000
DTEND;TZID=America/New_York:20261001T200000
DTSTAMP:20260421T222744
CREATED:20250425T164707Z
LAST-MODIFIED:20260112T194949Z
UID:10001691-1790877600-1790884800@lclshome.org
SUMMARY:Stamp n Swap
DESCRIPTION:Stampers\, papercrafters and scrapbookers – bring your current stamping or paper crafting projects and craft informally with other paper crafters. For adults. E-mail MRichardson@albright.org with any questions.
URL:https://lclshome.org/event/stamp-n-swap-18/2026-10-01/
LOCATION:Abington Community Library\, 1200 West Grove St.\, Clarks Summit\, PA\, 18411\, United States
CATEGORIES:Abington Community Library
ORGANIZER;CN="Michael Richardson":MAILTO:MRichardson@albright.org
END:VEVENT
BEGIN:VEVENT
DTSTART;TZID=America/New_York:20261112T180000
DTEND;TZID=America/New_York:20261112T200000
DTSTAMP:20260421T222744
CREATED:20250425T164707Z
LAST-MODIFIED:20260112T194949Z
UID:10001692-1794506400-1794513600@lclshome.org
SUMMARY:Stamp n Swap
DESCRIPTION:Stampers\, papercrafters and scrapbookers – bring your current stamping or paper crafting projects and craft informally with other paper crafters. For adults. E-mail MRichardson@albright.org with any questions.
URL:https://lclshome.org/event/stamp-n-swap-18/2026-11-12/
LOCATION:Abington Community Library\, 1200 West Grove St.\, Clarks Summit\, PA\, 18411\, United States
CATEGORIES:Abington Community Library
ORGANIZER;CN="Michael Richardson":MAILTO:MRichardson@albright.org
END:VEVENT
BEGIN:VEVENT
DTSTART;TZID=America/New_York:20261203T180000
DTEND;TZID=America/New_York:20261203T200000
DTSTAMP:20260421T222744
CREATED:20250425T164707Z
LAST-MODIFIED:20260112T194949Z
UID:10001693-1796320800-1796328000@lclshome.org
SUMMARY:Stamp n Swap
DESCRIPTION:Stampers\, papercrafters and scrapbookers – bring your current stamping or paper crafting projects and craft informally with other paper crafters. For adults. E-mail MRichardson@albright.org with any questions.
URL:https://lclshome.org/event/stamp-n-swap-18/2026-12-03/
LOCATION:Abington Community Library\, 1200 West Grove St.\, Clarks Summit\, PA\, 18411\, United States
CATEGORIES:Abington Community Library
ORGANIZER;CN="Michael Richardson":MAILTO:MRichardson@albright.org
END:VEVENT
END:VCALENDAR