BEGIN:VCALENDAR
VERSION:2.0
PRODID:-//Lackawanna County Library System - ECPv6.15.17.1//NONSGML v1.0//EN
CALSCALE:GREGORIAN
METHOD:PUBLISH
X-WR-CALNAME:Lackawanna County Library System
X-ORIGINAL-URL:https://lclshome.org
X-WR-CALDESC:Events for Lackawanna County Library System
REFRESH-INTERVAL;VALUE=DURATION:PT1H
X-Robots-Tag:noindex
X-PUBLISHED-TTL:PT1H
BEGIN:VTIMEZONE
TZID:America/New_York
BEGIN:DAYLIGHT
TZOFFSETFROM:-0500
TZOFFSETTO:-0400
TZNAME:EDT
DTSTART:20250309T070000
END:DAYLIGHT
BEGIN:STANDARD
TZOFFSETFROM:-0400
TZOFFSETTO:-0500
TZNAME:EST
DTSTART:20251102T060000
END:STANDARD
BEGIN:DAYLIGHT
TZOFFSETFROM:-0500
TZOFFSETTO:-0400
TZNAME:EDT
DTSTART:20260308T070000
END:DAYLIGHT
BEGIN:STANDARD
TZOFFSETFROM:-0400
TZOFFSETTO:-0500
TZNAME:EST
DTSTART:20261101T060000
END:STANDARD
BEGIN:DAYLIGHT
TZOFFSETFROM:-0500
TZOFFSETTO:-0400
TZNAME:EDT
DTSTART:20270314T070000
END:DAYLIGHT
BEGIN:STANDARD
TZOFFSETFROM:-0400
TZOFFSETTO:-0500
TZNAME:EST
DTSTART:20271107T060000
END:STANDARD
END:VTIMEZONE
BEGIN:VEVENT
DTSTART;VALUE=DATE:20260619
DTEND;VALUE=DATE:20260620
DTSTAMP:20260423T195431
CREATED:20251204T194305Z
LAST-MODIFIED:20251204T194305Z
UID:10003766-1781827200-1781913599@lclshome.org
SUMMARY:Library Closed
DESCRIPTION:The Valley Community Library is closed for Juneteenth National Independence Day.
URL:https://lclshome.org/event/library-closed-21/
LOCATION:Valley Community Library\, 739 River St.\, Peckville\, PA\, 18452\, United States
CATEGORIES:Valley Community Library
END:VEVENT
BEGIN:VEVENT
DTSTART;TZID=America/New_York:20260620T100000
DTEND;TZID=America/New_York:20260620T110000
DTSTAMP:20260423T195431
CREATED:20260423T151903Z
LAST-MODIFIED:20260423T192436Z
UID:10005734-1781949600-1781953200@lclshome.org
SUMMARY:Adult Craft: Jewelry Piece Art
DESCRIPTION:Create your own work of art out of old jewelry. \nSign-ups begin on the first Friday of the month before – Friday\, May 1 at 10:00 AM
URL:https://lclshome.org/event/adult-craft-jewelry-piece-art-3/
LOCATION:Valley Community Library\, 739 River St.\, Peckville\, PA\, 18452\, United States
CATEGORIES:Valley Community Library
ORGANIZER;CN="Danielle Karwaski":MAILTO:dkarwaski@albright.org
END:VEVENT
BEGIN:VEVENT
DTSTART;TZID=America/New_York:20260624T053000
DTEND;TZID=America/New_York:20260624T183000
DTSTAMP:20260423T195431
CREATED:20260423T155202Z
LAST-MODIFIED:20260423T155202Z
UID:10005736-1782279000-1782325800@lclshome.org
SUMMARY:America 250- Share Your Story Writing Workshop
DESCRIPTION:Workshop a story to submit to www.america250.org celebrating the country’s 250th anniversary.
URL:https://lclshome.org/event/america-250-share-your-story-writing-workshop/
LOCATION:Valley Community Library\, 739 River St.\, Peckville\, PA\, 18452\, United States
CATEGORIES:Valley Community Library
ORGANIZER;CN="Danielle Karwaski":MAILTO:dkarwaski@albright.org
END:VEVENT
BEGIN:VEVENT
DTSTART;TZID=America/New_York:20260624T111500
DTEND;TZID=America/New_York:20260624T121500
DTSTAMP:20260423T195431
CREATED:20260226T175343Z
LAST-MODIFIED:20260401T144604Z
UID:10005259-1782299700-1782303300@lclshome.org
SUMMARY:Yoga with Mindy
DESCRIPTION:Join us at the Valley Community Library’s Gino Merli Room on Wednesdays at 11:15 a.m. for Yoga with Mindy. This class is designed to help release stress and tension as we focus on mindfulness\, breathing\, and simple yoga postures. Each class is $8. Payments will be due the day of the class.\n\nAttendees must register with Mindy. Please email yogawithmindy@comcast.net to register for classes.For any questions\, please email mgeorgetti@albright.org.
URL:https://lclshome.org/event/yoga-with-mindy-2/2026-06-24/
LOCATION:Valley Community Library\, 739 River St.\, Peckville\, PA\, 18452\, United States
CATEGORIES:Valley Community Library
END:VEVENT
BEGIN:VEVENT
DTSTART;TZID=America/New_York:20260625T170000
DTEND;TZID=America/New_York:20260625T190000
DTSTAMP:20260423T195431
CREATED:20260417T192518Z
LAST-MODIFIED:20260417T192518Z
UID:10005641-1782406800-1782414000@lclshome.org
SUMMARY:Board Game Night
DESCRIPTION:Play board games from 5:00-7:00 p.m. on June 25 at the Valley Community Library. This program is for adults and registration is required.
URL:https://lclshome.org/event/board-game-night-2/
LOCATION:Valley Community Library\, 739 River St.\, Peckville\, PA\, 18452\, United States
CATEGORIES:Valley Community Library
ORGANIZER;CN="Michelle Georgetti":MAILTO:mgeorgetti@albright.org
END:VEVENT
BEGIN:VEVENT
DTSTART;TZID=America/New_York:20260625T180000
DTEND;TZID=America/New_York:20260625T200000
DTSTAMP:20260423T195431
CREATED:20260407T190405Z
LAST-MODIFIED:20260407T190633Z
UID:10005443-1782410400-1782417600@lclshome.org
SUMMARY:Constitution Alive!
DESCRIPTION:Bring the U.S. Constitution to life with Patriot Academy’s “Constitution Alive!” video course that offers an easy-to-understand view of our nation’s bedrock principles. Perfect for beginners and history enthusiasts. This is a 6-week course held on Thursdays at 6:00 p.m. at the Valley Community Library from May 21 through June 25. Join facilitator Matt Zale to learn how the Constitution shapes your rights\, freedoms\, and daily life through videos and discussions. Register for a free workbook at patriotacademy.com. Questions can be directed to Matt Zale at 570-357-4517.
URL:https://lclshome.org/event/constitution-alive-2/2026-06-25/
LOCATION:Valley Community Library\, 739 River St.\, Peckville\, PA\, 18452\, United States
CATEGORIES:Valley Community Library
ORGANIZER;CN="Michelle Georgetti":MAILTO:mgeorgetti@albright.org
END:VEVENT
BEGIN:VEVENT
DTSTART;TZID=America/New_York:20260626T130000
DTEND;TZID=America/New_York:20260626T150000
DTSTAMP:20260423T195431
CREATED:20260423T145143Z
LAST-MODIFIED:20260423T145215Z
UID:10005726-1782478800-1782486000@lclshome.org
SUMMARY:Needlework Afternoon
DESCRIPTION:Meets every Friday. All needlework welcome including: knitting\, crocheting\, cross-stitching\, and embroidering. All levels welcome. Bring a project you are working on or start a new project with supplies provided
URL:https://lclshome.org/event/needlework-afternoon-2/
LOCATION:Valley Community Library\, 739 River St.\, Peckville\, PA\, 18452\, United States
CATEGORIES:Valley Community Library
ORGANIZER;CN="Danielle Karwaski":MAILTO:dkarwaski@albright.org
END:VEVENT
BEGIN:VEVENT
DTSTART;TZID=America/New_York:20260626T180000
DTEND;TZID=America/New_York:20260626T200000
DTSTAMP:20260423T195431
CREATED:20260417T192614Z
LAST-MODIFIED:20260417T192614Z
UID:10005642-1782496800-1782504000@lclshome.org
SUMMARY:Paint & Sip
DESCRIPTION:Join Bonnie Black Edwards at the Valley Community Library on Friday\, June 26 at 6:00 p.m. for a Paint & Sip. This fundraiser will be held inside the library and is for adults 21 and older. Proceeds will directly benefit adult programming. Bonnie will provided step-by-step instructions on how to create a painting to take home at the end of the night. Attendees are welcome to bring their own alcoholic beverages and snacks. The cost is $30 for cash or check and $32 for credit card. Payment must be made to reserve your spot. Registration may be done by visiting the library or calling 570-489-1765.
URL:https://lclshome.org/event/paint-sip/
LOCATION:Valley Community Library\, 739 River St.\, Peckville\, PA\, 18452\, United States
CATEGORIES:Valley Community Library
ORGANIZER;CN="Michelle Georgetti":MAILTO:mgeorgetti@albright.org
END:VEVENT
BEGIN:VEVENT
DTSTART;TZID=America/New_York:20260701T033000
DTEND;TZID=America/New_York:20260701T163000
DTSTAMP:20260423T195431
CREATED:20260423T160118Z
LAST-MODIFIED:20260423T160118Z
UID:10005740-1782876600-1782923400@lclshome.org
SUMMARY:Genealogy Club
DESCRIPTION:Come join our group of genealogists and learn about the free resources available at the library to use on your search. All levels welcome. Feel free to bring tech devices or borrow a laptop at the front desk. Meets on the First Wednesday of the Month.
URL:https://lclshome.org/event/genealogy-club-2/2026-07-01/
LOCATION:Valley Community Library\, 739 River St.\, Peckville\, PA\, 18452\, United States
CATEGORIES:Valley Community Library
ORGANIZER;CN="Danielle Karwaski":MAILTO:dkarwaski@albright.org
END:VEVENT
BEGIN:VEVENT
DTSTART;TZID=America/New_York:20260702T140000
DTEND;TZID=America/New_York:20260702T150000
DTSTAMP:20260423T195431
CREATED:20260423T195632Z
LAST-MODIFIED:20260423T195632Z
UID:10005759-1783000800-1783004400@lclshome.org
SUMMARY:Adult Color and Chat Afternoon
DESCRIPTION:Relax and color while you chat with new friends.
URL:https://lclshome.org/event/adult-color-and-chat-afternoon-3/
LOCATION:Valley Community Library\, 739 River St.\, Peckville\, PA\, 18452\, United States
CATEGORIES:Valley Community Library
ORGANIZER;CN="Danielle Karwaski":MAILTO:dkarwaski@albright.org
END:VEVENT
BEGIN:VEVENT
DTSTART;TZID=America/New_York:20260702T173000
DTEND;TZID=America/New_York:20260702T190000
DTSTAMP:20260423T195431
CREATED:20260410T134752Z
LAST-MODIFIED:20260410T134753Z
UID:10004856-1783013400-1783018800@lclshome.org
SUMMARY:Cookbook Club
DESCRIPTION:Join us at the Valley Community Library on the first Thursday of the month at 5:30 p.m. Choose a recipe from the selected cookbook during the prior month and register at the front desk. Make the recipe at home and bring your creation to the meeting. Everyone will discuss the recipes and try each other’s dishes. This program is for adults and registration is required.
URL:https://lclshome.org/event/cookbook-club-3-2/2026-07-02/
LOCATION:Valley Community Library\, 739 River St.\, Peckville\, PA\, 18452\, United States
CATEGORIES:Valley Community Library
END:VEVENT
BEGIN:VEVENT
DTSTART;TZID=America/New_York:20260702T180000
DTEND;TZID=America/New_York:20260702T200000
DTSTAMP:20260423T195431
CREATED:20260407T190405Z
LAST-MODIFIED:20260407T190633Z
UID:10005444-1783015200-1783022400@lclshome.org
SUMMARY:Constitution Alive!
DESCRIPTION:Bring the U.S. Constitution to life with Patriot Academy’s “Constitution Alive!” video course that offers an easy-to-understand view of our nation’s bedrock principles. Perfect for beginners and history enthusiasts. This is a 6-week course held on Thursdays at 6:00 p.m. at the Valley Community Library from May 21 through June 25. Join facilitator Matt Zale to learn how the Constitution shapes your rights\, freedoms\, and daily life through videos and discussions. Register for a free workbook at patriotacademy.com. Questions can be directed to Matt Zale at 570-357-4517.
URL:https://lclshome.org/event/constitution-alive-2/2026-07-02/
LOCATION:Valley Community Library\, 739 River St.\, Peckville\, PA\, 18452\, United States
CATEGORIES:Valley Community Library
ORGANIZER;CN="Michelle Georgetti":MAILTO:mgeorgetti@albright.org
END:VEVENT
BEGIN:VEVENT
DTSTART;VALUE=DATE:20260703
DTEND;VALUE=DATE:20260704
DTSTAMP:20260423T195431
CREATED:20251204T194404Z
LAST-MODIFIED:20251204T200324Z
UID:10003768-1783036800-1783123199@lclshome.org
SUMMARY:Library Closed
DESCRIPTION:The Valley Community Library is closed for Independence Day Weekend.
URL:https://lclshome.org/event/library-closed-22/
LOCATION:Valley Community Library\, 739 River St.\, Peckville\, PA\, 18452\, United States
CATEGORIES:Valley Community Library
END:VEVENT
BEGIN:VEVENT
DTSTART;VALUE=DATE:20260704
DTEND;VALUE=DATE:20260705
DTSTAMP:20260423T195431
CREATED:20251204T200309Z
LAST-MODIFIED:20251204T200309Z
UID:10003782-1783123200-1783209599@lclshome.org
SUMMARY:Library Closed
DESCRIPTION:The Valley Community Library is closed for Independence Day.
URL:https://lclshome.org/event/library-closed-44/
LOCATION:Valley Community Library\, 739 River St.\, Peckville\, PA\, 18452\, United States
CATEGORIES:Valley Community Library
END:VEVENT
BEGIN:VEVENT
DTSTART;TZID=America/New_York:20260707T130000
DTEND;TZID=America/New_York:20260707T150000
DTSTAMP:20260423T195431
CREATED:20260423T185059Z
LAST-MODIFIED:20260423T185059Z
UID:10005753-1783429200-1783436400@lclshome.org
SUMMARY:Adult Craft with The Wright Center
DESCRIPTION:Join The Wright Center for craft time at the library. \nSign-ups begin on the first Friday of the month before – Friday\, June 5 at 10:00 AM
URL:https://lclshome.org/event/adult-craft-with-the-wright-center-4/
LOCATION:Valley Community Library\, 739 River St.\, Peckville\, PA\, 18452\, United States
CATEGORIES:Valley Community Library
ORGANIZER;CN="Danielle Karwaski":MAILTO:dkarwaski@albright.org
END:VEVENT
BEGIN:VEVENT
DTSTART;TZID=America/New_York:20260709T180000
DTEND;TZID=America/New_York:20260709T200000
DTSTAMP:20260423T195431
CREATED:20260407T190405Z
LAST-MODIFIED:20260407T190633Z
UID:10005445-1783620000-1783627200@lclshome.org
SUMMARY:Constitution Alive!
DESCRIPTION:Bring the U.S. Constitution to life with Patriot Academy’s “Constitution Alive!” video course that offers an easy-to-understand view of our nation’s bedrock principles. Perfect for beginners and history enthusiasts. This is a 6-week course held on Thursdays at 6:00 p.m. at the Valley Community Library from May 21 through June 25. Join facilitator Matt Zale to learn how the Constitution shapes your rights\, freedoms\, and daily life through videos and discussions. Register for a free workbook at patriotacademy.com. Questions can be directed to Matt Zale at 570-357-4517.
URL:https://lclshome.org/event/constitution-alive-2/2026-07-09/
LOCATION:Valley Community Library\, 739 River St.\, Peckville\, PA\, 18452\, United States
CATEGORIES:Valley Community Library
ORGANIZER;CN="Michelle Georgetti":MAILTO:mgeorgetti@albright.org
END:VEVENT
BEGIN:VEVENT
DTSTART;TZID=America/New_York:20260710T130000
DTEND;TZID=America/New_York:20260710T150000
DTSTAMP:20260423T195431
CREATED:20260423T145654Z
LAST-MODIFIED:20260423T145654Z
UID:10005727-1783688400-1783695600@lclshome.org
SUMMARY:Needlework Afternoon
DESCRIPTION:Meets every Friday. All needlework welcome including: knitting\, crocheting\, cross-stitching\, and embroidering. All levels welcome. Bring a project you are working on or start a new project with supplies provided
URL:https://lclshome.org/event/needlework-afternoon-3/
LOCATION:Valley Community Library\, 739 River St.\, Peckville\, PA\, 18452\, United States
CATEGORIES:Valley Community Library
ORGANIZER;CN="Danielle Karwaski":MAILTO:dkarwaski@albright.org
END:VEVENT
BEGIN:VEVENT
DTSTART;TZID=America/New_York:20260715T173000
DTEND;TZID=America/New_York:20260715T183000
DTSTAMP:20260423T195431
CREATED:20260423T184733Z
LAST-MODIFIED:20260423T184733Z
UID:10005752-1784136600-1784140200@lclshome.org
SUMMARY:Needlework Night
DESCRIPTION:All needlework welcome including: knitting\, crocheting\, cross-stitching\, and embroidering. All levels welcome. Bring a project you are working on or start a new project with supplies provided
URL:https://lclshome.org/event/needlework-night-4/
LOCATION:Valley Community Library\, 739 River St.\, Peckville\, PA\, 18452\, United States
CATEGORIES:Valley Community Library
ORGANIZER;CN="Danielle Karwaski":MAILTO:dkarwaski@albright.org
END:VEVENT
BEGIN:VEVENT
DTSTART;TZID=America/New_York:20260716T180000
DTEND;TZID=America/New_York:20260716T200000
DTSTAMP:20260423T195431
CREATED:20260407T190405Z
LAST-MODIFIED:20260407T190633Z
UID:10005446-1784224800-1784232000@lclshome.org
SUMMARY:Constitution Alive!
DESCRIPTION:Bring the U.S. Constitution to life with Patriot Academy’s “Constitution Alive!” video course that offers an easy-to-understand view of our nation’s bedrock principles. Perfect for beginners and history enthusiasts. This is a 6-week course held on Thursdays at 6:00 p.m. at the Valley Community Library from May 21 through June 25. Join facilitator Matt Zale to learn how the Constitution shapes your rights\, freedoms\, and daily life through videos and discussions. Register for a free workbook at patriotacademy.com. Questions can be directed to Matt Zale at 570-357-4517.
URL:https://lclshome.org/event/constitution-alive-2/2026-07-16/
LOCATION:Valley Community Library\, 739 River St.\, Peckville\, PA\, 18452\, United States
CATEGORIES:Valley Community Library
ORGANIZER;CN="Michelle Georgetti":MAILTO:mgeorgetti@albright.org
END:VEVENT
BEGIN:VEVENT
DTSTART;TZID=America/New_York:20260717T130000
DTEND;TZID=America/New_York:20260717T150000
DTSTAMP:20260423T195431
CREATED:20260423T150136Z
LAST-MODIFIED:20260423T150136Z
UID:10005728-1784293200-1784300400@lclshome.org
SUMMARY:Needlework Afternoon
DESCRIPTION:Meets every Friday. All needlework welcome including: knitting\, crocheting\, cross-stitching\, and embroidering. All levels welcome. Bring a project you are working on or start a new project with supplies provided
URL:https://lclshome.org/event/needlework-afternoon-4/
LOCATION:Valley Community Library\, 739 River St.\, Peckville\, PA\, 18452\, United States
CATEGORIES:Valley Community Library
ORGANIZER;CN="Danielle Karwaski":MAILTO:dkarwaski@albright.org
END:VEVENT
BEGIN:VEVENT
DTSTART;TZID=America/New_York:20260723T180000
DTEND;TZID=America/New_York:20260723T200000
DTSTAMP:20260423T195431
CREATED:20260407T190405Z
LAST-MODIFIED:20260407T190633Z
UID:10005447-1784829600-1784836800@lclshome.org
SUMMARY:Constitution Alive!
DESCRIPTION:Bring the U.S. Constitution to life with Patriot Academy’s “Constitution Alive!” video course that offers an easy-to-understand view of our nation’s bedrock principles. Perfect for beginners and history enthusiasts. This is a 6-week course held on Thursdays at 6:00 p.m. at the Valley Community Library from May 21 through June 25. Join facilitator Matt Zale to learn how the Constitution shapes your rights\, freedoms\, and daily life through videos and discussions. Register for a free workbook at patriotacademy.com. Questions can be directed to Matt Zale at 570-357-4517.
URL:https://lclshome.org/event/constitution-alive-2/2026-07-23/
LOCATION:Valley Community Library\, 739 River St.\, Peckville\, PA\, 18452\, United States
CATEGORIES:Valley Community Library
ORGANIZER;CN="Michelle Georgetti":MAILTO:mgeorgetti@albright.org
END:VEVENT
BEGIN:VEVENT
DTSTART;TZID=America/New_York:20260724T130000
DTEND;TZID=America/New_York:20260724T150000
DTSTAMP:20260423T195431
CREATED:20260423T150347Z
LAST-MODIFIED:20260423T150347Z
UID:10005729-1784898000-1784905200@lclshome.org
SUMMARY:Needlework Afternoon
DESCRIPTION:Meets every Friday. All needlework welcome including: knitting\, crocheting\, cross-stitching\, and embroidering. All levels welcome. Bring a project you are working on or start a new project with supplies provided
URL:https://lclshome.org/event/needlework-afternoon-5/
LOCATION:Valley Community Library\, 739 River St.\, Peckville\, PA\, 18452\, United States
CATEGORIES:Valley Community Library
ORGANIZER;CN="Danielle Karwaski":MAILTO:dkarwaski@albright.org
END:VEVENT
BEGIN:VEVENT
DTSTART;TZID=America/New_York:20260730T180000
DTEND;TZID=America/New_York:20260730T200000
DTSTAMP:20260423T195431
CREATED:20260407T190405Z
LAST-MODIFIED:20260407T190633Z
UID:10005448-1785434400-1785441600@lclshome.org
SUMMARY:Constitution Alive!
DESCRIPTION:Bring the U.S. Constitution to life with Patriot Academy’s “Constitution Alive!” video course that offers an easy-to-understand view of our nation’s bedrock principles. Perfect for beginners and history enthusiasts. This is a 6-week course held on Thursdays at 6:00 p.m. at the Valley Community Library from May 21 through June 25. Join facilitator Matt Zale to learn how the Constitution shapes your rights\, freedoms\, and daily life through videos and discussions. Register for a free workbook at patriotacademy.com. Questions can be directed to Matt Zale at 570-357-4517.
URL:https://lclshome.org/event/constitution-alive-2/2026-07-30/
LOCATION:Valley Community Library\, 739 River St.\, Peckville\, PA\, 18452\, United States
CATEGORIES:Valley Community Library
ORGANIZER;CN="Michelle Georgetti":MAILTO:mgeorgetti@albright.org
END:VEVENT
BEGIN:VEVENT
DTSTART;TZID=America/New_York:20260731T130000
DTEND;TZID=America/New_York:20260731T150000
DTSTAMP:20260423T195431
CREATED:20260423T150632Z
LAST-MODIFIED:20260423T150632Z
UID:10005730-1785502800-1785510000@lclshome.org
SUMMARY:Needlework Afternoon
DESCRIPTION:Meets every Friday. All needlework welcome including: knitting\, crocheting\, cross-stitching\, and embroidering. All levels welcome. Bring a project you are working on or start a new project with supplies provided
URL:https://lclshome.org/event/needlework-afternoon-6/
LOCATION:Valley Community Library\, 739 River St.\, Peckville\, PA\, 18452\, United States
CATEGORIES:Valley Community Library
ORGANIZER;CN="Danielle Karwaski":MAILTO:dkarwaski@albright.org
END:VEVENT
BEGIN:VEVENT
DTSTART;TZID=America/New_York:20260805T033000
DTEND;TZID=America/New_York:20260805T163000
DTSTAMP:20260423T195431
CREATED:20260423T160118Z
LAST-MODIFIED:20260423T160118Z
UID:10005741-1785900600-1785947400@lclshome.org
SUMMARY:Genealogy Club
DESCRIPTION:Come join our group of genealogists and learn about the free resources available at the library to use on your search. All levels welcome. Feel free to bring tech devices or borrow a laptop at the front desk. Meets on the First Wednesday of the Month.
URL:https://lclshome.org/event/genealogy-club-2/2026-08-05/
LOCATION:Valley Community Library\, 739 River St.\, Peckville\, PA\, 18452\, United States
CATEGORIES:Valley Community Library
ORGANIZER;CN="Danielle Karwaski":MAILTO:dkarwaski@albright.org
END:VEVENT
BEGIN:VEVENT
DTSTART;TZID=America/New_York:20260806T173000
DTEND;TZID=America/New_York:20260806T190000
DTSTAMP:20260423T195431
CREATED:20260410T134752Z
LAST-MODIFIED:20260410T134753Z
UID:10004857-1786037400-1786042800@lclshome.org
SUMMARY:Cookbook Club
DESCRIPTION:Join us at the Valley Community Library on the first Thursday of the month at 5:30 p.m. Choose a recipe from the selected cookbook during the prior month and register at the front desk. Make the recipe at home and bring your creation to the meeting. Everyone will discuss the recipes and try each other’s dishes. This program is for adults and registration is required.
URL:https://lclshome.org/event/cookbook-club-3-2/2026-08-06/
LOCATION:Valley Community Library\, 739 River St.\, Peckville\, PA\, 18452\, United States
CATEGORIES:Valley Community Library
END:VEVENT
BEGIN:VEVENT
DTSTART;TZID=America/New_York:20260806T180000
DTEND;TZID=America/New_York:20260806T200000
DTSTAMP:20260423T195431
CREATED:20260407T190405Z
LAST-MODIFIED:20260407T190633Z
UID:10005449-1786039200-1786046400@lclshome.org
SUMMARY:Constitution Alive!
DESCRIPTION:Bring the U.S. Constitution to life with Patriot Academy’s “Constitution Alive!” video course that offers an easy-to-understand view of our nation’s bedrock principles. Perfect for beginners and history enthusiasts. This is a 6-week course held on Thursdays at 6:00 p.m. at the Valley Community Library from May 21 through June 25. Join facilitator Matt Zale to learn how the Constitution shapes your rights\, freedoms\, and daily life through videos and discussions. Register for a free workbook at patriotacademy.com. Questions can be directed to Matt Zale at 570-357-4517.
URL:https://lclshome.org/event/constitution-alive-2/2026-08-06/
LOCATION:Valley Community Library\, 739 River St.\, Peckville\, PA\, 18452\, United States
CATEGORIES:Valley Community Library
ORGANIZER;CN="Michelle Georgetti":MAILTO:mgeorgetti@albright.org
END:VEVENT
BEGIN:VEVENT
DTSTART;TZID=America/New_York:20260813T180000
DTEND;TZID=America/New_York:20260813T200000
DTSTAMP:20260423T195431
CREATED:20260407T190405Z
LAST-MODIFIED:20260407T190633Z
UID:10005450-1786644000-1786651200@lclshome.org
SUMMARY:Constitution Alive!
DESCRIPTION:Bring the U.S. Constitution to life with Patriot Academy’s “Constitution Alive!” video course that offers an easy-to-understand view of our nation’s bedrock principles. Perfect for beginners and history enthusiasts. This is a 6-week course held on Thursdays at 6:00 p.m. at the Valley Community Library from May 21 through June 25. Join facilitator Matt Zale to learn how the Constitution shapes your rights\, freedoms\, and daily life through videos and discussions. Register for a free workbook at patriotacademy.com. Questions can be directed to Matt Zale at 570-357-4517.
URL:https://lclshome.org/event/constitution-alive-2/2026-08-13/
LOCATION:Valley Community Library\, 739 River St.\, Peckville\, PA\, 18452\, United States
CATEGORIES:Valley Community Library
ORGANIZER;CN="Michelle Georgetti":MAILTO:mgeorgetti@albright.org
END:VEVENT
BEGIN:VEVENT
DTSTART;TZID=America/New_York:20260820T180000
DTEND;TZID=America/New_York:20260820T200000
DTSTAMP:20260423T195431
CREATED:20260407T190405Z
LAST-MODIFIED:20260407T190633Z
UID:10005451-1787248800-1787256000@lclshome.org
SUMMARY:Constitution Alive!
DESCRIPTION:Bring the U.S. Constitution to life with Patriot Academy’s “Constitution Alive!” video course that offers an easy-to-understand view of our nation’s bedrock principles. Perfect for beginners and history enthusiasts. This is a 6-week course held on Thursdays at 6:00 p.m. at the Valley Community Library from May 21 through June 25. Join facilitator Matt Zale to learn how the Constitution shapes your rights\, freedoms\, and daily life through videos and discussions. Register for a free workbook at patriotacademy.com. Questions can be directed to Matt Zale at 570-357-4517.
URL:https://lclshome.org/event/constitution-alive-2/2026-08-20/
LOCATION:Valley Community Library\, 739 River St.\, Peckville\, PA\, 18452\, United States
CATEGORIES:Valley Community Library
ORGANIZER;CN="Michelle Georgetti":MAILTO:mgeorgetti@albright.org
END:VEVENT
BEGIN:VEVENT
DTSTART;TZID=America/New_York:20260824T180000
DTEND;TZID=America/New_York:20260824T190000
DTSTAMP:20260423T195431
CREATED:20251204T192733Z
LAST-MODIFIED:20251204T192733Z
UID:10003759-1787594400-1787598000@lclshome.org
SUMMARY:VCL Board Meeting
DESCRIPTION:The Valley Community Library board meeting will begin at 6:00 p.m.   \n  \nThe Library encourages individuals who would like to comment before the Board to notify the Library in advance of the Meeting.  For more information\, please review our Public Comment Policy or email kwallo@albright.org with any questions.  
URL:https://lclshome.org/event/vcl-board-meeting-5/
LOCATION:Valley Community Library\, 739 River St.\, Peckville\, PA\, 18452\, United States
CATEGORIES:Valley Community Library
END:VEVENT
END:VCALENDAR