BEGIN:VCALENDAR
VERSION:2.0
PRODID:-//Lackawanna County Library System - ECPv6.15.17.1//NONSGML v1.0//EN
CALSCALE:GREGORIAN
METHOD:PUBLISH
X-WR-CALNAME:Lackawanna County Library System
X-ORIGINAL-URL:https://lclshome.org
X-WR-CALDESC:Events for Lackawanna County Library System
REFRESH-INTERVAL;VALUE=DURATION:PT1H
X-Robots-Tag:noindex
X-PUBLISHED-TTL:PT1H
BEGIN:VTIMEZONE
TZID:America/New_York
BEGIN:DAYLIGHT
TZOFFSETFROM:-0500
TZOFFSETTO:-0400
TZNAME:EDT
DTSTART:20240310T070000
END:DAYLIGHT
BEGIN:STANDARD
TZOFFSETFROM:-0400
TZOFFSETTO:-0500
TZNAME:EST
DTSTART:20241103T060000
END:STANDARD
BEGIN:DAYLIGHT
TZOFFSETFROM:-0500
TZOFFSETTO:-0400
TZNAME:EDT
DTSTART:20250309T070000
END:DAYLIGHT
BEGIN:STANDARD
TZOFFSETFROM:-0400
TZOFFSETTO:-0500
TZNAME:EST
DTSTART:20251102T060000
END:STANDARD
BEGIN:DAYLIGHT
TZOFFSETFROM:-0500
TZOFFSETTO:-0400
TZNAME:EDT
DTSTART:20260308T070000
END:DAYLIGHT
BEGIN:STANDARD
TZOFFSETFROM:-0400
TZOFFSETTO:-0500
TZNAME:EST
DTSTART:20261101T060000
END:STANDARD
END:VTIMEZONE
BEGIN:VEVENT
DTSTART;TZID=America/New_York:20250909T170000
DTEND;TZID=America/New_York:20250909T190000
DTSTAMP:20260425T192753
CREATED:20250729T205626Z
LAST-MODIFIED:20251103T164038Z
UID:10001725-1757437200-1757444400@lclshome.org
SUMMARY:Tech Table
DESCRIPTION:Tech Table is designed to help patrons who need one-on-one assistance using their smartphones\, tablets\, or laptops. Participants are encouraged to bring specific problems about a technical problem including trouble using an app\, slow or malfunctioning technology\, or questions about privacy\, settings\, or security. \nNo registration is required; appointments are limited to 20-minute sessions\, and patrons will be assisted on a first-come\, first-served basis. \nAlbright Memorial Library\n500 Vine Street\, Scranton\, PA  18509\n570-348-3000 x 3038
URL:https://lclshome.org/event/tech-table-2025/2025-09-09/
LOCATION:Albright Memorial Library\, 500 Vine Street\, Scranton\, PA\, 18509\, United States
CATEGORIES:Albright Memorial Library,Computer Lab
END:VEVENT
BEGIN:VEVENT
DTSTART;TZID=America/New_York:20250909T153000
DTEND;TZID=America/New_York:20250909T163000
DTSTAMP:20260425T192753
CREATED:20250807T174551Z
LAST-MODIFIED:20250807T174551Z
UID:10003026-1757431800-1757435400@lclshome.org
SUMMARY:Back to School BINGO
DESCRIPTION:Summer may be over\, but the fun isn’t! Join us for a game of BINGO with school supply prizes to get you in the groove for back to school! \nFor kids ages 5 through 12 \nNancy Kay Holmes Branch Library\n1032 Green Ridge Street\, Scranton\, PA 18509\n570-207-0764
URL:https://lclshome.org/event/back-to-school-bingo/
LOCATION:Nancy Kay Holmes Branch Library\, 1032 Green Ridge St.\, Scranton\, PA\, 18509\, United States
CATEGORIES:Kids,Nancy Kay Holmes Library
ORGANIZER;CN="Nancy Kay Holmes Branch Library":MAILTO:NKHList@albright.org
END:VEVENT
BEGIN:VEVENT
DTSTART;TZID=America/New_York:20250909T130000
DTEND;TZID=America/New_York:20250909T150000
DTSTAMP:20260425T192753
CREATED:20250807T153805Z
LAST-MODIFIED:20260421T134251Z
UID:10002951-1757422800-1757430000@lclshome.org
SUMMARY:Mahjong
DESCRIPTION:Join our group of National Mah Jongg League\, INC. players. No experience necessary.
URL:https://lclshome.org/event/mahjong/2025-09-09/
LOCATION:Abington Community Library\, 1200 West Grove St.\, Clarks Summit\, PA\, 18411\, United States
CATEGORIES:Abington Community Library
ORGANIZER;CN="Michael Richardson":MAILTO:MRichardson@albright.org
END:VEVENT
END:VCALENDAR