BEGIN:VCALENDAR
VERSION:2.0
PRODID:-//Lackawanna County Library System - ECPv6.15.17.1//NONSGML v1.0//EN
CALSCALE:GREGORIAN
METHOD:PUBLISH
X-WR-CALNAME:Lackawanna County Library System
X-ORIGINAL-URL:https://lclshome.org
X-WR-CALDESC:Events for Lackawanna County Library System
REFRESH-INTERVAL;VALUE=DURATION:PT1H
X-Robots-Tag:noindex
X-PUBLISHED-TTL:PT1H
BEGIN:VTIMEZONE
TZID:America/New_York
BEGIN:DAYLIGHT
TZOFFSETFROM:-0500
TZOFFSETTO:-0400
TZNAME:EDT
DTSTART:20240310T070000
END:DAYLIGHT
BEGIN:STANDARD
TZOFFSETFROM:-0400
TZOFFSETTO:-0500
TZNAME:EST
DTSTART:20241103T060000
END:STANDARD
BEGIN:DAYLIGHT
TZOFFSETFROM:-0500
TZOFFSETTO:-0400
TZNAME:EDT
DTSTART:20250309T070000
END:DAYLIGHT
BEGIN:STANDARD
TZOFFSETFROM:-0400
TZOFFSETTO:-0500
TZNAME:EST
DTSTART:20251102T060000
END:STANDARD
BEGIN:DAYLIGHT
TZOFFSETFROM:-0500
TZOFFSETTO:-0400
TZNAME:EDT
DTSTART:20260308T070000
END:DAYLIGHT
BEGIN:STANDARD
TZOFFSETFROM:-0400
TZOFFSETTO:-0500
TZNAME:EST
DTSTART:20261101T060000
END:STANDARD
END:VTIMEZONE
BEGIN:VEVENT
DTSTART;TZID=America/New_York:20250906T103000
DTEND;TZID=America/New_York:20250906T113000
DTSTAMP:20260424T202558
CREATED:20250522T155201Z
LAST-MODIFIED:20250522T155201Z
UID:10002118-1757154600-1757158200@lclshome.org
SUMMARY:Dividing Perennials
DESCRIPTION:Multiply by dividing! Division is the easiest and most common method of increasing perennials. Learn the basic rules of propagation: when to divide\, where to plant\, and how to divide plants.
URL:https://lclshome.org/event/dividing-perennials/
LOCATION:Albright Memorial Library\, Henkelman Room\, 500 Vine Street\, Scranton\, PA\, 18509\, United States
CATEGORIES:Albright Memorial Library
ORGANIZER;CN="Jenny Shoener":MAILTO:jshoener@albright.org
END:VEVENT
BEGIN:VEVENT
DTSTART;TZID=America/New_York:20250906T100000
DTEND;TZID=America/New_York:20250906T110000
DTSTAMP:20260424T202558
CREATED:20250820T132818Z
LAST-MODIFIED:20250820T132818Z
UID:10003150-1757152800-1757156400@lclshome.org
SUMMARY:Friends of North Pocono Public Library Meeting
DESCRIPTION:Saturday\, September 6 at 10:00 A.M.\n(Adult Programming) \nBe a Friend!\nLooking for ways to give back to your community? The Friends of North Pocono Public Library welcome longtime library lovers and new supporters alike to their monthly meeting. Connect\, share ideas\, and help plan exciting events for the library like North Pocono’s annual Book Sale\, raffle baskets for the annual Garden Gala\, Burgers\, Books\, & Brews\, and more!
URL:https://lclshome.org/event/friends-of-north-pocono-public-library-meeting-2/
LOCATION:North Pocono Public Library\, 1315 Church St.\, Moscow\, PA\, 18444-9254\, United States
CATEGORIES:North Pocono Public Library
ORGANIZER;CN="Kim Hnatko":MAILTO:khnatko@albright.org
END:VEVENT
BEGIN:VEVENT
DTSTART;TZID=America/New_York:20250905T180000
DTEND;TZID=America/New_York:20250905T190000
DTSTAMP:20260424T202558
CREATED:20250813T213339Z
LAST-MODIFIED:20250815T123535Z
UID:10003040-1757095200-1757098800@lclshome.org
SUMMARY:Book Voyage: Teen Reading Lounge
DESCRIPTION:Our new monthly book expedition will bring books to life through the magic of food. Teens who register for this event will receive a subscription style box with a book to keep. The day of our meeting we will chat about the book and explore tasty treats from where the book takes place. \nOur first book box will focus celebrate Korean mythology with the book The Girl Who Fell Beneath the Sea by Axie Oh. \nYou will receive a notification after registering that your box is available for pick-up.
URL:https://lclshome.org/event/book-voyage-teen-reading-lounge/
LOCATION:Abington Community Library\, 1200 West Grove St.\, Clarks Summit\, PA\, 18411\, United States
CATEGORIES:Abington Community Library,Teens
END:VEVENT
BEGIN:VEVENT
DTSTART;TZID=America/New_York:20250905T143000
DTEND;TZID=America/New_York:20250905T163000
DTSTAMP:20260424T202558
CREATED:20250725T145327Z
LAST-MODIFIED:20251023T180815Z
UID:10002521-1757082600-1757089800@lclshome.org
SUMMARY:Coloring Club
DESCRIPTION:Come color your world and hang out at the Library! On Fridays we will have a variety of different coloring supplies available\, and a variety of coloring pages suitable for all ages and experience levels. \nFor all ages. \nLackawanna County Children’s Library\n520 Vine Street\, Scranton\, PA 18509\n570-348-3000 x 3015
URL:https://lclshome.org/event/coloring-club-fall-2025/2025-09-05/
LOCATION:Lackawanna County Children’s Library\, 520 Vine St.\, Scranton\, PA\, 18509\, United States
CATEGORIES:Kids,Lackawanna County Children's Library
END:VEVENT
BEGIN:VEVENT
DTSTART;TZID=America/New_York:20250905T120000
DTEND;TZID=America/New_York:20250905T130000
DTSTAMP:20260424T202558
CREATED:20250828T135635Z
LAST-MODIFIED:20260421T134702Z
UID:10002053-1757073600-1757077200@lclshome.org
SUMMARY:Conversational Italian Class
DESCRIPTION:Join us for our weekly class delving into beginner conversational Italian\, grammar\, vocabulary\, and culture.
URL:https://lclshome.org/event/conversational-italian-class/2025-09-05/
LOCATION:Abington Community Library\, 1200 West Grove St.\, Clarks Summit\, PA\, 18411\, United States
CATEGORIES:Abington Community Library
ORGANIZER;CN="Michael Richardson":MAILTO:MRichardson@albright.org
END:VEVENT
BEGIN:VEVENT
DTSTART;TZID=America/New_York:20250905T103000
DTEND;TZID=America/New_York:20250905T103000
DTSTAMP:20260424T202558
CREATED:20250605T180336Z
LAST-MODIFIED:20250904T205446Z
UID:10002231-1757068200-1757068200@lclshome.org
SUMMARY:Storytime
DESCRIPTION:Storytime is designed to promote and enhance early literacy skills in your child. We incorporate stories\, movement songs\, crafts and free play in a way that encourages vocabulary development. \nFor kids ages 2 through 6. Families and siblings are welcome. \nNancy Kay Holmes Branch Library\n1032 Green Ridge Street\, Scranton\, PA 18509\n570-207-0764
URL:https://lclshome.org/event/nkh-storytime-2025/2025-09-05/
LOCATION:Nancy Kay Holmes Branch Library\, 1032 Green Ridge St.\, Scranton\, PA\, 18509\, United States
CATEGORIES:Kids,Nancy Kay Holmes Library
ORGANIZER;CN="Nancy Kay Holmes Branch Library":MAILTO:NKHList@albright.org
END:VEVENT
BEGIN:VEVENT
DTSTART;TZID=America/New_York:20250905T100000
DTEND;TZID=America/New_York:20250905T103000
DTSTAMP:20260424T202558
CREATED:20250804T195229Z
LAST-MODIFIED:20250804T200738Z
UID:10002670-1757066400-1757068200@lclshome.org
SUMMARY:Boogie Woogie Bop
DESCRIPTION:Join Lauren Scavone from Music Together of the Abingtons for a joyful\, interactive music and movement session designed for young children and their grown-ups! Sing\, dance\, and explore rhythms together through playful songs\, hands-on music-making\, and plenty of movement fun. \nFor ages 0-5.
URL:https://lclshome.org/event/boogie-woogie-bop/
LOCATION:Abington Community Library\, 1200 West Grove St.\, Clarks Summit\, PA\, 18411\, United States
CATEGORIES:Abington Community Library,Kids
ORGANIZER;CN="Leigh-Ann Puchalski":MAILTO:lpuchalski@albright.org
END:VEVENT
BEGIN:VEVENT
DTSTART;TZID=America/New_York:20250904T180000
DTEND;TZID=America/New_York:20250904T200000
DTSTAMP:20260424T202558
CREATED:20250425T163718Z
LAST-MODIFIED:20250425T163718Z
UID:10001681-1757008800-1757016000@lclshome.org
SUMMARY:Stamp n Swap
DESCRIPTION:Stampers\, papercrafters and scrapbookers – bring your current stamping or paper crafting projects and craft informally with other paper crafters. For adults. Registration required. Register below.
URL:https://lclshome.org/event/stamp-n-swap-15/
LOCATION:Abington Community Library\, 1200 West Grove St.\, Clarks Summit\, PA\, 18411\, United States
CATEGORIES:Abington Community Library
ORGANIZER;CN="Michael Richardson":MAILTO:MRichardson@albright.org
END:VEVENT
BEGIN:VEVENT
DTSTART;TZID=America/New_York:20250904T180000
DTEND;TZID=America/New_York:20250904T193000
DTSTAMP:20260424T202558
CREATED:20250529T164043Z
LAST-MODIFIED:20250529T164043Z
UID:10002151-1757008800-1757014200@lclshome.org
SUMMARY:Teen Game Night
DESCRIPTION:Bring your rhythm skills for a Just Dance party! Our Nintendo Switch will be in use for dance battles.
URL:https://lclshome.org/event/teen-game-night-7/
LOCATION:Albright Memorial Library\, Technology Lab\, 520 Vine Street\, Scranton\, PA\, 18509\, United States
CATEGORIES:Albright Memorial Library
ORGANIZER;CN="Rebecca Cruciani":MAILTO:rcruciani@albright.org
END:VEVENT
END:VCALENDAR