BEGIN:VCALENDAR
VERSION:2.0
PRODID:-//Lackawanna County Library System - ECPv6.15.17.1//NONSGML v1.0//EN
CALSCALE:GREGORIAN
METHOD:PUBLISH
X-ORIGINAL-URL:https://lclshome.org
X-WR-CALDESC:Events for Lackawanna County Library System
REFRESH-INTERVAL;VALUE=DURATION:PT1H
X-Robots-Tag:noindex
X-PUBLISHED-TTL:PT1H
BEGIN:VTIMEZONE
TZID:America/New_York
BEGIN:DAYLIGHT
TZOFFSETFROM:-0500
TZOFFSETTO:-0400
TZNAME:EDT
DTSTART:20250309T070000
END:DAYLIGHT
BEGIN:STANDARD
TZOFFSETFROM:-0400
TZOFFSETTO:-0500
TZNAME:EST
DTSTART:20251102T060000
END:STANDARD
BEGIN:DAYLIGHT
TZOFFSETFROM:-0500
TZOFFSETTO:-0400
TZNAME:EDT
DTSTART:20260308T070000
END:DAYLIGHT
BEGIN:STANDARD
TZOFFSETFROM:-0400
TZOFFSETTO:-0500
TZNAME:EST
DTSTART:20261101T060000
END:STANDARD
BEGIN:DAYLIGHT
TZOFFSETFROM:-0500
TZOFFSETTO:-0400
TZNAME:EDT
DTSTART:20270314T070000
END:DAYLIGHT
BEGIN:STANDARD
TZOFFSETFROM:-0400
TZOFFSETTO:-0500
TZNAME:EST
DTSTART:20271107T060000
END:STANDARD
END:VTIMEZONE
BEGIN:VEVENT
DTSTART;TZID=America/New_York:20260630T100000
DTEND;TZID=America/New_York:20260630T120000
DTSTAMP:20260421T100705
CREATED:20250827T194312Z
LAST-MODIFIED:20260421T134156Z
UID:10005681-1782813600-1782820800@lclshome.org
SUMMARY:Always in Stitches
DESCRIPTION:Stop and see what this amiable bunch of quilters and sewers is up to. Get involved in one of their many charitable endeavors or learn something new. Intermediate members welcome. No registration required.
URL:https://lclshome.org/event/always-in-stitches/2026-06-30/
LOCATION:Abington Community Library\, 1200 West Grove St.\, Clarks Summit\, PA\, 18411\, United States
CATEGORIES:Abington Community Library
ORGANIZER;CN="Michael Richardson":MAILTO:MRichardson@albright.org
END:VEVENT
BEGIN:VEVENT
DTSTART;TZID=America/New_York:20260630T130000
DTEND;TZID=America/New_York:20260630T150000
DTSTAMP:20260421T100705
CREATED:20250807T153805Z
LAST-MODIFIED:20260421T134251Z
UID:10005688-1782824400-1782831600@lclshome.org
SUMMARY:Mahjong
DESCRIPTION:Join our group of National Mah Jongg League\, INC. players. No experience necessary.
URL:https://lclshome.org/event/mahjong/2026-06-30/
LOCATION:Abington Community Library\, 1200 West Grove St.\, Clarks Summit\, PA\, 18411\, United States
CATEGORIES:Abington Community Library
ORGANIZER;CN="Michael Richardson":MAILTO:MRichardson@albright.org
END:VEVENT
BEGIN:VEVENT
DTSTART;TZID=America/New_York:20260630T173000
DTEND;TZID=America/New_York:20260630T193000
DTSTAMP:20260421T100705
CREATED:20260421T131342Z
LAST-MODIFIED:20260421T131445Z
UID:10005662-1782840600-1782847800@lclshome.org
SUMMARY:Patriotic Pysanky Workshop
DESCRIPTION:Create your own Ukrainian Pysanky Patriotic egg with facilitator Tammy Budnovitch. This class will be a beginner’s step-by-step instruction to help you create this beautiful egg. Materials cost is $25 per person payable to the instructor\, and all supplies will be provided. Bring your kistka and beeswax if you have taken the class before. If you would like to see the project or be added to the waitlist e-mail MRichardson@albright.org.
URL:https://lclshome.org/event/patriotic-pysanky-workshop/
LOCATION:Abington Community Library\, 1200 West Grove St.\, Clarks Summit\, PA\, 18411\, United States
CATEGORIES:Abington Community Library
ORGANIZER;CN="Michael Richardson":MAILTO:MRichardson@albright.org
END:VEVENT
BEGIN:VEVENT
DTSTART;TZID=America/New_York:20260702T123000
DTEND;TZID=America/New_York:20260702T153000
DTSTAMP:20260421T100705
CREATED:20250807T163459Z
LAST-MODIFIED:20260421T134350Z
UID:10005695-1782995400-1783006200@lclshome.org
SUMMARY:Scrabble Group
DESCRIPTION:Stretch your brain with an afternoon Scrabble match and join a friendly competition against fellow word enthusiasts. \n 
URL:https://lclshome.org/event/scrabble-group/2026-07-02/
LOCATION:Abington Community Library\, 1200 West Grove St.\, Clarks Summit\, PA\, 18411\, United States
CATEGORIES:Abington Community Library
ORGANIZER;CN="Michael Richardson":MAILTO:MRichardson@albright.org
END:VEVENT
BEGIN:VEVENT
DTSTART;TZID=America/New_York:20260702T173000
DTEND;TZID=America/New_York:20260702T190000
DTSTAMP:20260421T100705
CREATED:20260410T134752Z
LAST-MODIFIED:20260410T134753Z
UID:10004856-1783013400-1783018800@lclshome.org
SUMMARY:Cookbook Club
DESCRIPTION:Join us at the Valley Community Library on the first Thursday of the month at 5:30 p.m. Choose a recipe from the selected cookbook during the prior month and register at the front desk. Make the recipe at home and bring your creation to the meeting. Everyone will discuss the recipes and try each other’s dishes. This program is for adults and registration is required.
URL:https://lclshome.org/event/cookbook-club-3-2/2026-07-02/
LOCATION:Valley Community Library\, 739 River St.\, Peckville\, PA\, 18452\, United States
CATEGORIES:Valley Community Library
END:VEVENT
BEGIN:VEVENT
DTSTART;TZID=America/New_York:20260702T180000
DTEND;TZID=America/New_York:20260702T200000
DTSTAMP:20260421T100705
CREATED:20250425T164707Z
LAST-MODIFIED:20260112T194949Z
UID:10001688-1783015200-1783022400@lclshome.org
SUMMARY:Stamp n Swap
DESCRIPTION:Stampers\, papercrafters and scrapbookers – bring your current stamping or paper crafting projects and craft informally with other paper crafters. For adults. E-mail MRichardson@albright.org with any questions.
URL:https://lclshome.org/event/stamp-n-swap-18/2026-07-02/
LOCATION:Abington Community Library\, 1200 West Grove St.\, Clarks Summit\, PA\, 18411\, United States
CATEGORIES:Abington Community Library
ORGANIZER;CN="Michael Richardson":MAILTO:MRichardson@albright.org
END:VEVENT
BEGIN:VEVENT
DTSTART;TZID=America/New_York:20260702T180000
DTEND;TZID=America/New_York:20260702T200000
DTSTAMP:20260421T100705
CREATED:20260407T190405Z
LAST-MODIFIED:20260407T190633Z
UID:10005444-1783015200-1783022400@lclshome.org
SUMMARY:Constitution Alive!
DESCRIPTION:Bring the U.S. Constitution to life with Patriot Academy’s “Constitution Alive!” video course that offers an easy-to-understand view of our nation’s bedrock principles. Perfect for beginners and history enthusiasts. This is a 6-week course held on Thursdays at 6:00 p.m. at the Valley Community Library from May 21 through June 25. Join facilitator Matt Zale to learn how the Constitution shapes your rights\, freedoms\, and daily life through videos and discussions. Register for a free workbook at patriotacademy.com. Questions can be directed to Matt Zale at 570-357-4517.
URL:https://lclshome.org/event/constitution-alive-2/2026-07-02/
LOCATION:Valley Community Library\, 739 River St.\, Peckville\, PA\, 18452\, United States
CATEGORIES:Valley Community Library
ORGANIZER;CN="Michelle Georgetti":MAILTO:mgeorgetti@albright.org
END:VEVENT
BEGIN:VEVENT
DTSTART;TZID=America/New_York:20260702T183000
DTEND;TZID=America/New_York:20260702T193000
DTSTAMP:20260421T100705
CREATED:20260203T170905Z
LAST-MODIFIED:20260203T182402Z
UID:10004173-1783017000-1783020600@lclshome.org
SUMMARY:Chick Lits Book Club
DESCRIPTION:This book club meets on the 1st Thursday of the month to read and discuss\nfiction books. Call the library at 570-562-1234 for information on how to join this book club.
URL:https://lclshome.org/event/chick-lits-book-club-2/2026-07-02/
LOCATION:PA
CATEGORIES:Taylor Community Library
END:VEVENT
BEGIN:VEVENT
DTSTART;TZID=America/New_York:20260702T190000
DTEND;TZID=America/New_York:20260702T200000
DTSTAMP:20260421T100705
CREATED:20260112T185159Z
LAST-MODIFIED:20260421T134603Z
UID:10005702-1783018800-1783022400@lclshome.org
SUMMARY:Families Helping Families
DESCRIPTION:Facilitators provide an educational series and support group for teens and their families affected by substance abuse. Co-sponsored by the Clear Brook Foundation. No registration required.
URL:https://lclshome.org/event/families-helping-families/2026-07-02/
LOCATION:Abington Community Library\, 1200 West Grove St.\, Clarks Summit\, PA\, 18411\, United States
CATEGORIES:Abington Community Library
ORGANIZER;CN="Michael Richardson":MAILTO:MRichardson@albright.org
END:VEVENT
BEGIN:VEVENT
DTSTART;VALUE=DATE:20260703
DTEND;VALUE=DATE:20260704
DTSTAMP:20260421T100705
CREATED:20251204T194404Z
LAST-MODIFIED:20251204T200324Z
UID:10003768-1783036800-1783123199@lclshome.org
SUMMARY:Library Closed
DESCRIPTION:The Valley Community Library is closed for Independence Day Weekend.
URL:https://lclshome.org/event/library-closed-22/
LOCATION:Valley Community Library\, 739 River St.\, Peckville\, PA\, 18452\, United States
CATEGORIES:Valley Community Library
END:VEVENT
BEGIN:VEVENT
DTSTART;TZID=America/New_York:20260703T120000
DTEND;TZID=America/New_York:20260703T130000
DTSTAMP:20260421T100705
CREATED:20250828T135635Z
LAST-MODIFIED:20260421T134702Z
UID:10005709-1783080000-1783083600@lclshome.org
SUMMARY:Conversational Italian Class
DESCRIPTION:Join us for our weekly class delving into beginner conversational Italian\, grammar\, vocabulary\, and culture.
URL:https://lclshome.org/event/conversational-italian-class/2026-07-03/
LOCATION:Abington Community Library\, 1200 West Grove St.\, Clarks Summit\, PA\, 18411\, United States
CATEGORIES:Abington Community Library
ORGANIZER;CN="Michael Richardson":MAILTO:MRichardson@albright.org
END:VEVENT
BEGIN:VEVENT
DTSTART;VALUE=DATE:20260704
DTEND;VALUE=DATE:20260705
DTSTAMP:20260421T100705
CREATED:20251028T170338Z
LAST-MODIFIED:20251028T170338Z
UID:10003524-1783123200-1783209599@lclshome.org
SUMMARY:Library Closed: Independance Day
DESCRIPTION:The Albright Memorial Library\, Lackawanna County Children’s Library\, Lackawanna County Library System Bookmobile\, and Nancy Kay Holmes Branch will be closed Saturday\, July 4\, 2026 in observance Independence Day.
URL:https://lclshome.org/event/library-closed-independance-day-2/
LOCATION:PA
CATEGORIES:Albright Memorial Library,Lackawanna County Bookmobile,Lackawanna County Children's Library,Nancy Kay Holmes Library
END:VEVENT
BEGIN:VEVENT
DTSTART;VALUE=DATE:20260704
DTEND;VALUE=DATE:20260705
DTSTAMP:20260421T100705
CREATED:20251204T200309Z
LAST-MODIFIED:20251204T200309Z
UID:10003782-1783123200-1783209599@lclshome.org
SUMMARY:Library Closed
DESCRIPTION:The Valley Community Library is closed for Independence Day.
URL:https://lclshome.org/event/library-closed-44/
LOCATION:Valley Community Library\, 739 River St.\, Peckville\, PA\, 18452\, United States
CATEGORIES:Valley Community Library
END:VEVENT
BEGIN:VEVENT
DTSTART;VALUE=DATE:20260705
DTEND;VALUE=DATE:20260706
DTSTAMP:20260421T100705
CREATED:20260413T175620Z
LAST-MODIFIED:20260416T152514Z
UID:10005596-1783209600-1783295999@lclshome.org
SUMMARY:Weekly Programs
DESCRIPTION:These are the programs happening weekly at the Carbondale Public Library.  Registration is not needed to attend these.  Please contact the Carbondale Public Library for more information on any of these programs. \nMonday: Movie Matinee @ 3:00 P.M. – Family-friendly movies shown after school.\n\nTuesday: Lego League @ 3:00 P.M. – Children can play with a variety of Lego sets provided by the library.\n\nWednesday: Baby Bounce @ 11:00 A.M. – Baby fun time with children up to 24 months and their caregivers.\nWednesday: Drop in Tech Assistance @ 11:00 A.M. – A library staff member will be available to help answer technology questions and offer assistance with computers\, smart phones\, and tablets.\nWednesday: Play Dough Club @ 3:00 P.M. – Children can play with the library’s play dough collection.\n\nThursday: Library Littles @ 11:00 A.M. – A fun and educational program geared to help pre-school-age children develop early-literacy and social skills.\nThursday: Building Buddies @ 12:00 P.M. – Preschool and Elementary school age children can explore our collection of building manipulatives with a new building theme each week!\nThursday: Color Club @ 3:00 P.M. – Children can relax and color in sheets with crayon\, pencils\, and markers.\nThursday: Trading Card Club @ 4:00 P.M. – A club to play and trade cards – primarily Magic: the Gathering.\n\nFriday: Drop in Tech Assistance @ 3:00 P.M. – A library staff member will be available to help answer technology questions and offer assistance with computers\, smart phones\, and tablets.
URL:https://lclshome.org/event/click-here-for-weekly-programs/2026-07-05/
LOCATION:Carbondale Public Library\, 5 North Main St.\, Carbondale\, PA\, 18407\, United States
CATEGORIES:Carbondale Public Library
END:VEVENT
BEGIN:VEVENT
DTSTART;TZID=America/New_York:20260706T130000
DTEND;TZID=America/New_York:20260706T150000
DTSTAMP:20260421T100705
CREATED:20250807T152132Z
LAST-MODIFIED:20260421T134036Z
UID:10005675-1783342800-1783350000@lclshome.org
SUMMARY:Caring Hands
DESCRIPTION:Do you knit or crochet? Join this group that creates delightful things for the Library and for the less fortunate. No registration required.
URL:https://lclshome.org/event/caring-hands/2026-07-06/
LOCATION:Abington Community Library\, 1200 West Grove St.\, Clarks Summit\, PA\, 18411\, United States
CATEGORIES:Abington Community Library
ORGANIZER;CN="Michael Richardson":MAILTO:MRichardson@albright.org
END:VEVENT
BEGIN:VEVENT
DTSTART;TZID=America/New_York:20260707T100000
DTEND;TZID=America/New_York:20260707T120000
DTSTAMP:20260421T100705
CREATED:20250827T194312Z
LAST-MODIFIED:20260421T134156Z
UID:10005682-1783418400-1783425600@lclshome.org
SUMMARY:Always in Stitches
DESCRIPTION:Stop and see what this amiable bunch of quilters and sewers is up to. Get involved in one of their many charitable endeavors or learn something new. Intermediate members welcome. No registration required.
URL:https://lclshome.org/event/always-in-stitches/2026-07-07/
LOCATION:Abington Community Library\, 1200 West Grove St.\, Clarks Summit\, PA\, 18411\, United States
CATEGORIES:Abington Community Library
ORGANIZER;CN="Michael Richardson":MAILTO:MRichardson@albright.org
END:VEVENT
BEGIN:VEVENT
DTSTART;TZID=America/New_York:20260707T130000
DTEND;TZID=America/New_York:20260707T150000
DTSTAMP:20260421T100705
CREATED:20250807T153805Z
LAST-MODIFIED:20260421T134251Z
UID:10005689-1783429200-1783436400@lclshome.org
SUMMARY:Mahjong
DESCRIPTION:Join our group of National Mah Jongg League\, INC. players. No experience necessary.
URL:https://lclshome.org/event/mahjong/2026-07-07/
LOCATION:Abington Community Library\, 1200 West Grove St.\, Clarks Summit\, PA\, 18411\, United States
CATEGORIES:Abington Community Library
ORGANIZER;CN="Michael Richardson":MAILTO:MRichardson@albright.org
END:VEVENT
BEGIN:VEVENT
DTSTART;TZID=America/New_York:20260709T123000
DTEND;TZID=America/New_York:20260709T153000
DTSTAMP:20260421T100705
CREATED:20250807T163459Z
LAST-MODIFIED:20260421T134350Z
UID:10005696-1783600200-1783611000@lclshome.org
SUMMARY:Scrabble Group
DESCRIPTION:Stretch your brain with an afternoon Scrabble match and join a friendly competition against fellow word enthusiasts. \n 
URL:https://lclshome.org/event/scrabble-group/2026-07-09/
LOCATION:Abington Community Library\, 1200 West Grove St.\, Clarks Summit\, PA\, 18411\, United States
CATEGORIES:Abington Community Library
ORGANIZER;CN="Michael Richardson":MAILTO:MRichardson@albright.org
END:VEVENT
BEGIN:VEVENT
DTSTART;TZID=America/New_York:20260709T180000
DTEND;TZID=America/New_York:20260709T200000
DTSTAMP:20260421T100705
CREATED:20260407T190405Z
LAST-MODIFIED:20260407T190633Z
UID:10005445-1783620000-1783627200@lclshome.org
SUMMARY:Constitution Alive!
DESCRIPTION:Bring the U.S. Constitution to life with Patriot Academy’s “Constitution Alive!” video course that offers an easy-to-understand view of our nation’s bedrock principles. Perfect for beginners and history enthusiasts. This is a 6-week course held on Thursdays at 6:00 p.m. at the Valley Community Library from May 21 through June 25. Join facilitator Matt Zale to learn how the Constitution shapes your rights\, freedoms\, and daily life through videos and discussions. Register for a free workbook at patriotacademy.com. Questions can be directed to Matt Zale at 570-357-4517.
URL:https://lclshome.org/event/constitution-alive-2/2026-07-09/
LOCATION:Valley Community Library\, 739 River St.\, Peckville\, PA\, 18452\, United States
CATEGORIES:Valley Community Library
ORGANIZER;CN="Michelle Georgetti":MAILTO:mgeorgetti@albright.org
END:VEVENT
BEGIN:VEVENT
DTSTART;TZID=America/New_York:20260709T190000
DTEND;TZID=America/New_York:20260709T200000
DTSTAMP:20260421T100705
CREATED:20260112T185159Z
LAST-MODIFIED:20260421T134603Z
UID:10005703-1783623600-1783627200@lclshome.org
SUMMARY:Families Helping Families
DESCRIPTION:Facilitators provide an educational series and support group for teens and their families affected by substance abuse. Co-sponsored by the Clear Brook Foundation. No registration required.
URL:https://lclshome.org/event/families-helping-families/2026-07-09/
LOCATION:Abington Community Library\, 1200 West Grove St.\, Clarks Summit\, PA\, 18411\, United States
CATEGORIES:Abington Community Library
ORGANIZER;CN="Michael Richardson":MAILTO:MRichardson@albright.org
END:VEVENT
BEGIN:VEVENT
DTSTART;TZID=America/New_York:20260710T120000
DTEND;TZID=America/New_York:20260710T130000
DTSTAMP:20260421T100705
CREATED:20250828T135635Z
LAST-MODIFIED:20260421T134702Z
UID:10005710-1783684800-1783688400@lclshome.org
SUMMARY:Conversational Italian Class
DESCRIPTION:Join us for our weekly class delving into beginner conversational Italian\, grammar\, vocabulary\, and culture.
URL:https://lclshome.org/event/conversational-italian-class/2026-07-10/
LOCATION:Abington Community Library\, 1200 West Grove St.\, Clarks Summit\, PA\, 18411\, United States
CATEGORIES:Abington Community Library
ORGANIZER;CN="Michael Richardson":MAILTO:MRichardson@albright.org
END:VEVENT
BEGIN:VEVENT
DTSTART;TZID=America/New_York:20260713T130000
DTEND;TZID=America/New_York:20260713T150000
DTSTAMP:20260421T100705
CREATED:20250807T152132Z
LAST-MODIFIED:20260421T134036Z
UID:10005676-1783947600-1783954800@lclshome.org
SUMMARY:Caring Hands
DESCRIPTION:Do you knit or crochet? Join this group that creates delightful things for the Library and for the less fortunate. No registration required.
URL:https://lclshome.org/event/caring-hands/2026-07-13/
LOCATION:Abington Community Library\, 1200 West Grove St.\, Clarks Summit\, PA\, 18411\, United States
CATEGORIES:Abington Community Library
ORGANIZER;CN="Michael Richardson":MAILTO:MRichardson@albright.org
END:VEVENT
BEGIN:VEVENT
DTSTART;TZID=America/New_York:20260714T100000
DTEND;TZID=America/New_York:20260714T120000
DTSTAMP:20260421T100705
CREATED:20250827T194312Z
LAST-MODIFIED:20260421T134156Z
UID:10005683-1784023200-1784030400@lclshome.org
SUMMARY:Always in Stitches
DESCRIPTION:Stop and see what this amiable bunch of quilters and sewers is up to. Get involved in one of their many charitable endeavors or learn something new. Intermediate members welcome. No registration required.
URL:https://lclshome.org/event/always-in-stitches/2026-07-14/
LOCATION:Abington Community Library\, 1200 West Grove St.\, Clarks Summit\, PA\, 18411\, United States
CATEGORIES:Abington Community Library
ORGANIZER;CN="Michael Richardson":MAILTO:MRichardson@albright.org
END:VEVENT
BEGIN:VEVENT
DTSTART;TZID=America/New_York:20260714T130000
DTEND;TZID=America/New_York:20260714T150000
DTSTAMP:20260421T100705
CREATED:20250807T153805Z
LAST-MODIFIED:20260421T134251Z
UID:10005690-1784034000-1784041200@lclshome.org
SUMMARY:Mahjong
DESCRIPTION:Join our group of National Mah Jongg League\, INC. players. No experience necessary.
URL:https://lclshome.org/event/mahjong/2026-07-14/
LOCATION:Abington Community Library\, 1200 West Grove St.\, Clarks Summit\, PA\, 18411\, United States
CATEGORIES:Abington Community Library
ORGANIZER;CN="Michael Richardson":MAILTO:MRichardson@albright.org
END:VEVENT
BEGIN:VEVENT
DTSTART;TZID=America/New_York:20260714T183000
DTEND;TZID=America/New_York:20260714T203000
DTSTAMP:20260421T100705
CREATED:20250828T151043Z
LAST-MODIFIED:20260421T133651Z
UID:10005670-1784053800-1784061000@lclshome.org
SUMMARY:Mystery Book Club
DESCRIPTION:Join us for our monthly Mystery Book Club where fellow sleuths gather to discuss twists\, turns\, and page-turners that keep us guessing until the very end. \nThe May selection for the Mystery Book Club is Elliot Roosevelt’s “Murder in the Lincoln Bedroom.” 
URL:https://lclshome.org/event/mystery-book-club/2026-07-14/
LOCATION:Abington Community Library\, 1200 West Grove St.\, Clarks Summit\, PA\, 18411\, United States
CATEGORIES:Abington Community Library
ORGANIZER;CN="Michael Richardson":MAILTO:MRichardson@albright.org
END:VEVENT
BEGIN:VEVENT
DTSTART;TZID=America/New_York:20260716T123000
DTEND;TZID=America/New_York:20260716T153000
DTSTAMP:20260421T100705
CREATED:20250807T163459Z
LAST-MODIFIED:20260421T134350Z
UID:10005697-1784205000-1784215800@lclshome.org
SUMMARY:Scrabble Group
DESCRIPTION:Stretch your brain with an afternoon Scrabble match and join a friendly competition against fellow word enthusiasts. \n 
URL:https://lclshome.org/event/scrabble-group/2026-07-16/
LOCATION:Abington Community Library\, 1200 West Grove St.\, Clarks Summit\, PA\, 18411\, United States
CATEGORIES:Abington Community Library
ORGANIZER;CN="Michael Richardson":MAILTO:MRichardson@albright.org
END:VEVENT
BEGIN:VEVENT
DTSTART;TZID=America/New_York:20260716T180000
DTEND;TZID=America/New_York:20260716T200000
DTSTAMP:20260421T100705
CREATED:20250828T153706Z
LAST-MODIFIED:20260421T133832Z
UID:10005671-1784224800-1784232000@lclshome.org
SUMMARY:Insulin Pump Support Group
DESCRIPTION:Are you using or thinking of using an insulin pump to manage your diabetes? Talk with diabetics who know. Join insulin pump users with/without a sensor in a group setting to share and talk about your experiences. The group is open to children\, parents\, and senior citizens who are presently using a pump or are considering it. Meeting at the Library and on Zoom.
URL:https://lclshome.org/event/insulin-pump-support-group/2026-07-16/
LOCATION:Abington Community Library\, 1200 West Grove St.\, Clarks Summit\, PA\, 18411\, United States
CATEGORIES:Abington Community Library
ORGANIZER;CN="Michael Richardson":MAILTO:MRichardson@albright.org
END:VEVENT
BEGIN:VEVENT
DTSTART;TZID=America/New_York:20260716T180000
DTEND;TZID=America/New_York:20260716T200000
DTSTAMP:20260421T100705
CREATED:20260407T190405Z
LAST-MODIFIED:20260407T190633Z
UID:10005446-1784224800-1784232000@lclshome.org
SUMMARY:Constitution Alive!
DESCRIPTION:Bring the U.S. Constitution to life with Patriot Academy’s “Constitution Alive!” video course that offers an easy-to-understand view of our nation’s bedrock principles. Perfect for beginners and history enthusiasts. This is a 6-week course held on Thursdays at 6:00 p.m. at the Valley Community Library from May 21 through June 25. Join facilitator Matt Zale to learn how the Constitution shapes your rights\, freedoms\, and daily life through videos and discussions. Register for a free workbook at patriotacademy.com. Questions can be directed to Matt Zale at 570-357-4517.
URL:https://lclshome.org/event/constitution-alive-2/2026-07-16/
LOCATION:Valley Community Library\, 739 River St.\, Peckville\, PA\, 18452\, United States
CATEGORIES:Valley Community Library
ORGANIZER;CN="Michelle Georgetti":MAILTO:mgeorgetti@albright.org
END:VEVENT
BEGIN:VEVENT
DTSTART;TZID=America/New_York:20260716T190000
DTEND;TZID=America/New_York:20260716T200000
DTSTAMP:20260421T100705
CREATED:20260112T185159Z
LAST-MODIFIED:20260421T134603Z
UID:10005704-1784228400-1784232000@lclshome.org
SUMMARY:Families Helping Families
DESCRIPTION:Facilitators provide an educational series and support group for teens and their families affected by substance abuse. Co-sponsored by the Clear Brook Foundation. No registration required.
URL:https://lclshome.org/event/families-helping-families/2026-07-16/
LOCATION:Abington Community Library\, 1200 West Grove St.\, Clarks Summit\, PA\, 18411\, United States
CATEGORIES:Abington Community Library
ORGANIZER;CN="Michael Richardson":MAILTO:MRichardson@albright.org
END:VEVENT
BEGIN:VEVENT
DTSTART;TZID=America/New_York:20260717T120000
DTEND;TZID=America/New_York:20260717T130000
DTSTAMP:20260421T100705
CREATED:20250828T135635Z
LAST-MODIFIED:20260421T134702Z
UID:10005711-1784289600-1784293200@lclshome.org
SUMMARY:Conversational Italian Class
DESCRIPTION:Join us for our weekly class delving into beginner conversational Italian\, grammar\, vocabulary\, and culture.
URL:https://lclshome.org/event/conversational-italian-class/2026-07-17/
LOCATION:Abington Community Library\, 1200 West Grove St.\, Clarks Summit\, PA\, 18411\, United States
CATEGORIES:Abington Community Library
ORGANIZER;CN="Michael Richardson":MAILTO:MRichardson@albright.org
END:VEVENT
END:VCALENDAR